BEGIN:VCALENDAR
VERSION:2.0
PRODID:-//Bruce's Garden - ECPv6.15.20//NONSGML v1.0//EN
CALSCALE:GREGORIAN
METHOD:PUBLISH
X-WR-CALNAME:Bruce's Garden
X-ORIGINAL-URL:https://brucesgarden.net
X-WR-CALDESC:Events for Bruce's Garden
REFRESH-INTERVAL;VALUE=DURATION:PT1H
X-Robots-Tag:noindex
X-PUBLISHED-TTL:PT1H
BEGIN:VTIMEZONE
TZID:America/New_York
BEGIN:DAYLIGHT
TZOFFSETFROM:-0500
TZOFFSETTO:-0400
TZNAME:EDT
DTSTART:20180311T070000
END:DAYLIGHT
BEGIN:STANDARD
TZOFFSETFROM:-0400
TZOFFSETTO:-0500
TZNAME:EST
DTSTART:20181104T060000
END:STANDARD
BEGIN:DAYLIGHT
TZOFFSETFROM:-0500
TZOFFSETTO:-0400
TZNAME:EDT
DTSTART:20190310T070000
END:DAYLIGHT
BEGIN:STANDARD
TZOFFSETFROM:-0400
TZOFFSETTO:-0500
TZNAME:EST
DTSTART:20191103T060000
END:STANDARD
BEGIN:DAYLIGHT
TZOFFSETFROM:-0500
TZOFFSETTO:-0400
TZNAME:EDT
DTSTART:20200308T070000
END:DAYLIGHT
BEGIN:STANDARD
TZOFFSETFROM:-0400
TZOFFSETTO:-0500
TZNAME:EST
DTSTART:20201101T060000
END:STANDARD
END:VTIMEZONE
BEGIN:VEVENT
DTSTART;TZID=America/New_York:20190407T100000
DTEND;TZID=America/New_York:20190407T120000
DTSTAMP:20260426T002049
CREATED:20190319T231337Z
LAST-MODIFIED:20190402T220744Z
UID:3415-1554631200-1554638400@brucesgarden.net
SUMMARY:Children’s Craft Class • Welcome To Spring Fun
DESCRIPTION:Join Craftmaster Cathy Sanacore for delightful\, educationally entertaining\, mid-day fun!
URL:https://brucesgarden.net/event/childrens-craft-class-%e2%80%a2-welcome-to-spring-fun/
LOCATION:Bruce’s Garden\, 11 Park Ter. E.\, New York\, NY\, 10034\, United States
ATTACH;FMTTYPE=image/jpeg:https://brucesgarden.net/wp-content/uploads/2018/08/37355542_245485866179525_7217552868591534080_o.jpg
END:VEVENT
BEGIN:VEVENT
DTSTART;TZID=America/New_York:20190407T130000
DTEND;TZID=America/New_York:20190407T143000
DTSTAMP:20260426T002049
CREATED:20190408T224224Z
LAST-MODIFIED:20190408T224533Z
UID:3438-1554642000-1554647400@brucesgarden.net
SUMMARY:A Spring Labyrinth Walk in Isham Park/ Bruce's Garden
DESCRIPTION:Join Vera DeCicco – long time Labyrinth coordinator at the United Palace during the Rev. Ike years – for a Spring Labyrinth Walk.  \n  \nIt’s a beautiful day!
URL:https://brucesgarden.net/event/a-spring-labyrinth-walk-in-isham-park-bruces-garden/
LOCATION:Bruce’s Garden\, 11 Park Ter. E.\, New York\, NY\, 10034\, United States
ATTACH;FMTTYPE=image/jpeg:https://brucesgarden.net/wp-content/uploads/2019/04/IMG_92611.jpg
END:VEVENT
END:VCALENDAR