BEGIN:VCALENDAR
VERSION:2.0
PRODID:-//Bruce's Garden - ECPv6.15.20//NONSGML v1.0//EN
CALSCALE:GREGORIAN
METHOD:PUBLISH
X-WR-CALNAME:Bruce's Garden
X-ORIGINAL-URL:https://brucesgarden.net
X-WR-CALDESC:Events for Bruce's Garden
REFRESH-INTERVAL;VALUE=DURATION:PT1H
X-Robots-Tag:noindex
X-PUBLISHED-TTL:PT1H
BEGIN:VTIMEZONE
TZID:America/New_York
BEGIN:DAYLIGHT
TZOFFSETFROM:-0500
TZOFFSETTO:-0400
TZNAME:EDT
DTSTART:20180311T070000
END:DAYLIGHT
BEGIN:STANDARD
TZOFFSETFROM:-0400
TZOFFSETTO:-0500
TZNAME:EST
DTSTART:20181104T060000
END:STANDARD
BEGIN:DAYLIGHT
TZOFFSETFROM:-0500
TZOFFSETTO:-0400
TZNAME:EDT
DTSTART:20190310T070000
END:DAYLIGHT
BEGIN:STANDARD
TZOFFSETFROM:-0400
TZOFFSETTO:-0500
TZNAME:EST
DTSTART:20191103T060000
END:STANDARD
BEGIN:DAYLIGHT
TZOFFSETFROM:-0500
TZOFFSETTO:-0400
TZNAME:EDT
DTSTART:20200308T070000
END:DAYLIGHT
BEGIN:STANDARD
TZOFFSETFROM:-0400
TZOFFSETTO:-0500
TZNAME:EST
DTSTART:20201101T060000
END:STANDARD
END:VTIMEZONE
BEGIN:VEVENT
DTSTART;TZID=America/New_York:20190421T100000
DTEND;TZID=America/New_York:20190421T120000
DTSTAMP:20260426T002049
CREATED:20190319T231802Z
LAST-MODIFIED:20190402T220827Z
UID:3417-1555840800-1555848000@brucesgarden.net
SUMMARY:Children’s Craft Class • Welcome To Spring Fun
DESCRIPTION:Join Craftmaster Cathy Sanacore for delightful\, educationally entertaining\, mid-day fun!
URL:https://brucesgarden.net/event/childrens-craft-class-%e2%80%a2-welcome-to-spring-fun-2/
LOCATION:Bruce’s Garden\, 11 Park Ter. E.\, New York\, NY\, 10034\, United States
ATTACH;FMTTYPE=image/jpeg:https://brucesgarden.net/wp-content/uploads/2018/07/Kids-Craft-Jewelry-2018.jpg
END:VEVENT
BEGIN:VEVENT
DTSTART;TZID=America/New_York:20190421T130000
DTEND;TZID=America/New_York:20190421T160000
DTSTAMP:20260426T002049
CREATED:20190321T185940Z
LAST-MODIFIED:20190321T185940Z
UID:3419-1555851600-1555862400@brucesgarden.net
SUMMARY:EASTER SUNDAY Afternoon Potluck in Bruce’s Garden
DESCRIPTION:Join hostess Nadema Agard for a mouthwatering culinary adventure. You’ll never know who you’ll meet\, greet… or what you’ll eat! To attend please RSVP redearthstudio@aol.com by 8pm Saturday Eve \nBon Appitit!
URL:https://brucesgarden.net/event/easter-sunday-afternoon-potluck-in-bruces-garden/
LOCATION:Bruce’s Garden\, 11 Park Ter. E.\, New York\, NY\, 10034\, United States
ATTACH;FMTTYPE=image/jpeg:https://brucesgarden.net/wp-content/uploads/2018/04/30420279_10156305185614133_1894252676683429794_o.jpg
END:VEVENT
END:VCALENDAR