BEGIN:VCALENDAR
VERSION:2.0
PRODID:-//Bruce's Garden - ECPv6.15.20//NONSGML v1.0//EN
CALSCALE:GREGORIAN
METHOD:PUBLISH
X-WR-CALNAME:Bruce's Garden
X-ORIGINAL-URL:https://brucesgarden.net
X-WR-CALDESC:Events for Bruce's Garden
REFRESH-INTERVAL;VALUE=DURATION:PT1H
X-Robots-Tag:noindex
X-PUBLISHED-TTL:PT1H
BEGIN:VTIMEZONE
TZID:America/New_York
BEGIN:DAYLIGHT
TZOFFSETFROM:-0500
TZOFFSETTO:-0400
TZNAME:EDT
DTSTART:20180311T070000
END:DAYLIGHT
BEGIN:STANDARD
TZOFFSETFROM:-0400
TZOFFSETTO:-0500
TZNAME:EST
DTSTART:20181104T060000
END:STANDARD
BEGIN:DAYLIGHT
TZOFFSETFROM:-0500
TZOFFSETTO:-0400
TZNAME:EDT
DTSTART:20190310T070000
END:DAYLIGHT
BEGIN:STANDARD
TZOFFSETFROM:-0400
TZOFFSETTO:-0500
TZNAME:EST
DTSTART:20191103T060000
END:STANDARD
BEGIN:DAYLIGHT
TZOFFSETFROM:-0500
TZOFFSETTO:-0400
TZNAME:EDT
DTSTART:20200308T070000
END:DAYLIGHT
BEGIN:STANDARD
TZOFFSETFROM:-0400
TZOFFSETTO:-0500
TZNAME:EST
DTSTART:20201101T060000
END:STANDARD
END:VTIMEZONE
BEGIN:VEVENT
DTSTART;TZID=America/New_York:20190505T100000
DTEND;TZID=America/New_York:20190505T120000
DTSTAMP:20260426T002107
CREATED:20190509T192142Z
LAST-MODIFIED:20190509T192331Z
UID:3467-1557050400-1557057600@brucesgarden.net
SUMMARY:Children’s Craft Class
DESCRIPTION:Join Craftmaster Cathy Sanacore for delightful\, educationally entertaining\, mid-day fun!
URL:https://brucesgarden.net/event/childrens-craft-class-4/
LOCATION:Bruce’s Garden\, 11 Park Ter. E.\, New York\, NY\, 10034\, United States
ATTACH;FMTTYPE=image/jpeg:https://brucesgarden.net/wp-content/uploads/2019/05/57989016_380764962651614_3629009041679712256_n1.jpg
END:VEVENT
BEGIN:VEVENT
DTSTART;TZID=America/New_York:20190505T130000
DTEND;TZID=America/New_York:20190505T160000
DTSTAMP:20260426T002107
CREATED:20190509T222733Z
LAST-MODIFIED:20190509T222733Z
UID:3472-1557061200-1557072000@brucesgarden.net
SUMMARY:Sunday Afternoon Potluck in Bruce’s Garden
DESCRIPTION:Join hostess Nadema Agard for a mouthwatering culinary adventure. You’ll never know who you’ll meet\, greet… or what you’ll eat! To attend please RSVP redearthstudio@aol.com by 8pm Saturday Eve \nBon Appitit!
URL:https://brucesgarden.net/event/sunday-afternoon-potluck-in-bruces-garden-22/
LOCATION:Bruce’s Garden\, 11 Park Ter. E.\, New York\, NY\, 10034\, United States
ATTACH;FMTTYPE=image/jpeg:https://brucesgarden.net/wp-content/uploads/2019/05/59157564_10157211739169133_4849514858871259136_o.jpg
END:VEVENT
BEGIN:VEVENT
DTSTART;TZID=America/New_York:20190505T183000
DTEND;TZID=America/New_York:20190505T203000
DTSTAMP:20260426T002107
CREATED:20190509T224458Z
LAST-MODIFIED:20190509T224458Z
UID:3487-1557081000-1557088200@brucesgarden.net
SUMMARY:DR. DECEIVERINI • Maltese Falcon • MOVED TO: June 2nd\, @4:30pm
DESCRIPTION:The best Radio Play in town returns! \nJoin Dr. Deceiverini and crew for a wild and woolly ride through the shaded\, arduous landscapes of… Who Done It!! \nThe next featured title:  \nMaltese Falcon
URL:https://brucesgarden.net/event/dr-deceiverini-%e2%80%a2-maltese-falcon-%e2%80%a2-moved-to-june-2nd-430pm/
LOCATION:Bruce’s Garden\, 11 Park Ter. E.\, New York\, NY\, 10034\, United States
ATTACH;FMTTYPE=image/jpeg:https://brucesgarden.net/wp-content/uploads/2019/05/Maltese-for-real.jpeg
END:VEVENT
END:VCALENDAR