BEGIN:VCALENDAR
VERSION:2.0
PRODID:-//Bruce's Garden - ECPv6.15.20//NONSGML v1.0//EN
CALSCALE:GREGORIAN
METHOD:PUBLISH
X-ORIGINAL-URL:https://brucesgarden.net
X-WR-CALDESC:Events for Bruce's Garden
REFRESH-INTERVAL;VALUE=DURATION:PT1H
X-Robots-Tag:noindex
X-PUBLISHED-TTL:PT1H
BEGIN:VTIMEZONE
TZID:America/New_York
BEGIN:DAYLIGHT
TZOFFSETFROM:-0500
TZOFFSETTO:-0400
TZNAME:EDT
DTSTART:20180311T070000
END:DAYLIGHT
BEGIN:STANDARD
TZOFFSETFROM:-0400
TZOFFSETTO:-0500
TZNAME:EST
DTSTART:20181104T060000
END:STANDARD
BEGIN:DAYLIGHT
TZOFFSETFROM:-0500
TZOFFSETTO:-0400
TZNAME:EDT
DTSTART:20190310T070000
END:DAYLIGHT
BEGIN:STANDARD
TZOFFSETFROM:-0400
TZOFFSETTO:-0500
TZNAME:EST
DTSTART:20191103T060000
END:STANDARD
BEGIN:DAYLIGHT
TZOFFSETFROM:-0500
TZOFFSETTO:-0400
TZNAME:EDT
DTSTART:20200308T070000
END:DAYLIGHT
BEGIN:STANDARD
TZOFFSETFROM:-0400
TZOFFSETTO:-0500
TZNAME:EST
DTSTART:20201101T060000
END:STANDARD
END:VTIMEZONE
BEGIN:VEVENT
DTSTART;VALUE=DATE:20190614
DTEND;VALUE=DATE:20190615
DTSTAMP:20260425T195306
CREATED:20190610T223952Z
LAST-MODIFIED:20190610T223952Z
UID:3568-1560470400-1560556799@brucesgarden.net
SUMMARY:GITG Closing: Medicine Wheel #1 ~ Asian Diaspora
DESCRIPTION:Our 2019 Gallery In The Gazebo • Medicine Wheel #1 ~ Asian Diaspora • the first installment of the Medicine Wheel Series\, curated by Nadema Agard \nCloses Today \n 
URL:https://brucesgarden.net/event/gitg-closing-medicine-wheel-1-asian-diaspora/
LOCATION:Bruce’s Garden\, 11 Park Ter. E.\, New York\, NY\, 10034\, United States
ATTACH;FMTTYPE=image/jpeg:https://brucesgarden.net/wp-content/uploads/2019/05/59427001_2725423484140544_6548608297740533760_o.jpg
END:VEVENT
BEGIN:VEVENT
DTSTART;TZID=America/New_York:20190614T100000
DTEND;TZID=America/New_York:20190614T110000
DTSTAMP:20260425T195306
CREATED:20190610T221130Z
LAST-MODIFIED:20190610T221130Z
UID:3562-1560506400-1560510000@brucesgarden.net
SUMMARY:Preschool On The Planet
DESCRIPTION:Wonderfully stimulating educational activities (aged 1 – 5) in Inwood’s natural community center.
URL:https://brucesgarden.net/event/preschool-on-the-planet-120/
LOCATION:Bruce’s Garden\, 11 Park Ter. E.\, New York\, NY\, 10034\, United States
ATTACH;FMTTYPE=image/jpeg:https://brucesgarden.net/wp-content/uploads/2019/05/57456824_10155711121851377_1489862062640201728_n.jpg
END:VEVENT
END:VCALENDAR