BEGIN:VCALENDAR
VERSION:2.0
PRODID:-//Bruce's Garden - ECPv6.15.20//NONSGML v1.0//EN
CALSCALE:GREGORIAN
METHOD:PUBLISH
X-ORIGINAL-URL:https://brucesgarden.net
X-WR-CALDESC:Events for Bruce's Garden
REFRESH-INTERVAL;VALUE=DURATION:PT1H
X-Robots-Tag:noindex
X-PUBLISHED-TTL:PT1H
BEGIN:VTIMEZONE
TZID:America/New_York
BEGIN:DAYLIGHT
TZOFFSETFROM:-0500
TZOFFSETTO:-0400
TZNAME:EDT
DTSTART:20180311T070000
END:DAYLIGHT
BEGIN:STANDARD
TZOFFSETFROM:-0400
TZOFFSETTO:-0500
TZNAME:EST
DTSTART:20181104T060000
END:STANDARD
BEGIN:DAYLIGHT
TZOFFSETFROM:-0500
TZOFFSETTO:-0400
TZNAME:EDT
DTSTART:20190310T070000
END:DAYLIGHT
BEGIN:STANDARD
TZOFFSETFROM:-0400
TZOFFSETTO:-0500
TZNAME:EST
DTSTART:20191103T060000
END:STANDARD
BEGIN:DAYLIGHT
TZOFFSETFROM:-0500
TZOFFSETTO:-0400
TZNAME:EDT
DTSTART:20200308T070000
END:DAYLIGHT
BEGIN:STANDARD
TZOFFSETFROM:-0400
TZOFFSETTO:-0500
TZNAME:EST
DTSTART:20201101T060000
END:STANDARD
END:VTIMEZONE
BEGIN:VEVENT
DTSTART;TZID=America/New_York:20190616T130000
DTEND;TZID=America/New_York:20190616T160000
DTSTAMP:20260425T195306
CREATED:20190615T214635Z
LAST-MODIFIED:20190615T214635Z
UID:3579-1560690000-1560700800@brucesgarden.net
SUMMARY:Sunday Afternoon Potluck in Bruce’s Garden
DESCRIPTION:Join hostess Nadema Agard for a mouthwatering culinary adventure. You’ll never know who you’ll meet\, greet… or what you’ll eat! To attend please RSVP redearthstudio@aol.com by 8pm Saturday Eve \nBon Appitit!
URL:https://brucesgarden.net/event/sunday-afternoon-potluck-in-bruces-garden-28/
LOCATION:Bruce’s Garden\, 11 Park Ter. E.\, New York\, NY\, 10034\, United States
ATTACH;FMTTYPE=image/jpeg:https://brucesgarden.net/wp-content/uploads/2019/05/59157564_10157211739169133_4849514858871259136_o.jpg
END:VEVENT
BEGIN:VEVENT
DTSTART;TZID=America/New_York:20190616T180000
DTEND;TZID=America/New_York:20190616T193000
DTSTAMP:20260425T195306
CREATED:20190615T222348Z
LAST-MODIFIED:20190615T222348Z
UID:3595-1560708000-1560713400@brucesgarden.net
SUMMARY:TAIKOZA Concert in Isham Park • RAIN DATE
DESCRIPTION:Join Us! in bringing the summer with the ever popular\, thunderous percussive ensemble TAIKOZA!
URL:https://brucesgarden.net/event/taikoza-concert-in-isham-park-%e2%80%a2-rain-date/
LOCATION:Bruce’s Garden\, 11 Park Ter. E.\, New York\, NY\, 10034\, United States
ATTACH;FMTTYPE=image/jpeg:https://brucesgarden.net/wp-content/uploads/2017/06/18814641_10155190229864927_3915880215909363646_o.jpg
END:VEVENT
END:VCALENDAR