BEGIN:VCALENDAR
VERSION:2.0
PRODID:-//Bruce's Garden - ECPv6.15.20//NONSGML v1.0//EN
CALSCALE:GREGORIAN
METHOD:PUBLISH
X-ORIGINAL-URL:https://brucesgarden.net
X-WR-CALDESC:Events for Bruce's Garden
REFRESH-INTERVAL;VALUE=DURATION:PT1H
X-Robots-Tag:noindex
X-PUBLISHED-TTL:PT1H
BEGIN:VTIMEZONE
TZID:America/New_York
BEGIN:DAYLIGHT
TZOFFSETFROM:-0500
TZOFFSETTO:-0400
TZNAME:EDT
DTSTART:20180311T070000
END:DAYLIGHT
BEGIN:STANDARD
TZOFFSETFROM:-0400
TZOFFSETTO:-0500
TZNAME:EST
DTSTART:20181104T060000
END:STANDARD
BEGIN:DAYLIGHT
TZOFFSETFROM:-0500
TZOFFSETTO:-0400
TZNAME:EDT
DTSTART:20190310T070000
END:DAYLIGHT
BEGIN:STANDARD
TZOFFSETFROM:-0400
TZOFFSETTO:-0500
TZNAME:EST
DTSTART:20191103T060000
END:STANDARD
BEGIN:DAYLIGHT
TZOFFSETFROM:-0500
TZOFFSETTO:-0400
TZNAME:EDT
DTSTART:20200308T070000
END:DAYLIGHT
BEGIN:STANDARD
TZOFFSETFROM:-0400
TZOFFSETTO:-0500
TZNAME:EST
DTSTART:20201101T060000
END:STANDARD
END:VTIMEZONE
BEGIN:VEVENT
DTSTART;TZID=America/New_York:20190622T183000
DTEND;TZID=America/New_York:20190622T203000
DTSTAMP:20260425T195304
CREATED:20190616T023527Z
LAST-MODIFIED:20190616T023527Z
UID:3623-1561228200-1561235400@brucesgarden.net
SUMMARY:Mr. Reynolds Performs * The Story Of The Other Wise Man
DESCRIPTION:Enjoy a masterful reading of Henry Van Dyck’s “The Story Of The Other Wise Man” by the Patriarch of Bruce’s Garden ~  \nMr. J.A. Reynolds
URL:https://brucesgarden.net/event/mr-reynolds-performs-the-story-of-the-other-wise-man/
LOCATION:Bruce’s Garden\, 11 Park Ter. E.\, New York\, NY\, 10034\, United States
ATTACH;FMTTYPE=image/jpeg:https://brucesgarden.net/wp-content/uploads/2019/06/Mr.-R-The-Other-Wise-Man-BW-UPDATE-.jpg
END:VEVENT
END:VCALENDAR