BEGIN:VCALENDAR
VERSION:2.0
PRODID:-//Bruce's Garden - ECPv6.15.20//NONSGML v1.0//EN
CALSCALE:GREGORIAN
METHOD:PUBLISH
X-WR-CALNAME:Bruce's Garden
X-ORIGINAL-URL:https://brucesgarden.net
X-WR-CALDESC:Events for Bruce's Garden
REFRESH-INTERVAL;VALUE=DURATION:PT1H
X-Robots-Tag:noindex
X-PUBLISHED-TTL:PT1H
BEGIN:VTIMEZONE
TZID:America/New_York
BEGIN:DAYLIGHT
TZOFFSETFROM:-0500
TZOFFSETTO:-0400
TZNAME:EDT
DTSTART:20180311T070000
END:DAYLIGHT
BEGIN:STANDARD
TZOFFSETFROM:-0400
TZOFFSETTO:-0500
TZNAME:EST
DTSTART:20181104T060000
END:STANDARD
BEGIN:DAYLIGHT
TZOFFSETFROM:-0500
TZOFFSETTO:-0400
TZNAME:EDT
DTSTART:20190310T070000
END:DAYLIGHT
BEGIN:STANDARD
TZOFFSETFROM:-0400
TZOFFSETTO:-0500
TZNAME:EST
DTSTART:20191103T060000
END:STANDARD
BEGIN:DAYLIGHT
TZOFFSETFROM:-0500
TZOFFSETTO:-0400
TZNAME:EDT
DTSTART:20200308T070000
END:DAYLIGHT
BEGIN:STANDARD
TZOFFSETFROM:-0400
TZOFFSETTO:-0500
TZNAME:EST
DTSTART:20201101T060000
END:STANDARD
END:VTIMEZONE
BEGIN:VEVENT
DTSTART;TZID=America/New_York:20190817T170000
DTEND;TZID=America/New_York:20190817T190000
DTSTAMP:20260425T164043
CREATED:20190812T210502Z
LAST-MODIFIED:20190812T210502Z
UID:3748-1566061200-1566068400@brucesgarden.net
SUMMARY:NYC National Honey Bee Awareness Day
DESCRIPTION:Join us for a Queen Bee Spotting Demonstration and the ever interesting Q&A Session offered by Inwood Beekeepers Natalia & Andriy. \nYou won’t want to miss this!!
URL:https://brucesgarden.net/event/nyc-national-honey-bee-awareness-day/
LOCATION:Bruce’s Garden\, 11 Park Ter. E.\, New York\, NY\, 10034\, United States
ATTACH;FMTTYPE=image/jpeg:https://brucesgarden.net/wp-content/uploads/2019/08/67440479_509826943110033_3109989353791684608_n.jpg
END:VEVENT
END:VCALENDAR