BEGIN:VCALENDAR
VERSION:2.0
PRODID:-//Bruce's Garden - ECPv6.15.20//NONSGML v1.0//EN
CALSCALE:GREGORIAN
METHOD:PUBLISH
X-WR-CALNAME:Bruce's Garden
X-ORIGINAL-URL:https://brucesgarden.net
X-WR-CALDESC:Events for Bruce's Garden
REFRESH-INTERVAL;VALUE=DURATION:PT1H
X-Robots-Tag:noindex
X-PUBLISHED-TTL:PT1H
BEGIN:VTIMEZONE
TZID:America/New_York
BEGIN:DAYLIGHT
TZOFFSETFROM:-0500
TZOFFSETTO:-0400
TZNAME:EDT
DTSTART:20180311T070000
END:DAYLIGHT
BEGIN:STANDARD
TZOFFSETFROM:-0400
TZOFFSETTO:-0500
TZNAME:EST
DTSTART:20181104T060000
END:STANDARD
BEGIN:DAYLIGHT
TZOFFSETFROM:-0500
TZOFFSETTO:-0400
TZNAME:EDT
DTSTART:20190310T070000
END:DAYLIGHT
BEGIN:STANDARD
TZOFFSETFROM:-0400
TZOFFSETTO:-0500
TZNAME:EST
DTSTART:20191103T060000
END:STANDARD
BEGIN:DAYLIGHT
TZOFFSETFROM:-0500
TZOFFSETTO:-0400
TZNAME:EDT
DTSTART:20200308T070000
END:DAYLIGHT
BEGIN:STANDARD
TZOFFSETFROM:-0400
TZOFFSETTO:-0500
TZNAME:EST
DTSTART:20201101T060000
END:STANDARD
END:VTIMEZONE
BEGIN:VEVENT
DTSTART;TZID=America/New_York:20190915T100000
DTEND;TZID=America/New_York:20190915T120000
DTSTAMP:20260425T135008
CREATED:20190905T222731Z
LAST-MODIFIED:20190905T222731Z
UID:3802-1568541600-1568548800@brucesgarden.net
SUMMARY:Children’s Craft Class
DESCRIPTION:Join Craftmaster Cathy Sanacore for delightful\, educationally entertaining\, mid-day fun!
URL:https://brucesgarden.net/event/childrens-craft-class-13/
LOCATION:Bruce’s Garden\, 11 Park Ter. E.\, New York\, NY\, 10034\, United States
ATTACH;FMTTYPE=image/jpeg:https://brucesgarden.net/wp-content/uploads/2019/05/57989016_380764962651614_3629009041679712256_n1.jpg
END:VEVENT
BEGIN:VEVENT
DTSTART;TZID=America/New_York:20190915T110000
DTEND;TZID=America/New_York:20190915T120000
DTSTAMP:20260425T135008
CREATED:20190905T223312Z
LAST-MODIFIED:20190905T223312Z
UID:3810-1568545200-1568548800@brucesgarden.net
SUMMARY:Manahatta Peace Project/ Northstar Family Choir
DESCRIPTION:Join Master Vocalist Dana Hanchard and her gifted ensemble for an afternoon of enchanting aural inspiration.
URL:https://brucesgarden.net/event/manahatta-peace-project-northstar-family-choir-31/
LOCATION:Bruce’s Garden\, 11 Park Ter. E.\, New York\, NY\, 10034\, United States
ATTACH;FMTTYPE=image/jpeg:https://brucesgarden.net/wp-content/uploads/2018/06/IMG_2318.jpg
END:VEVENT
BEGIN:VEVENT
DTSTART;TZID=America/New_York:20190915T130000
DTEND;TZID=America/New_York:20190915T160000
DTSTAMP:20260425T135008
CREATED:20190905T225145Z
LAST-MODIFIED:20190905T225145Z
UID:3824-1568552400-1568563200@brucesgarden.net
SUMMARY:GITG Closing: Medicine Wheel #3 ~ European Diaspora/ Potluck
DESCRIPTION:Our 2019 Gallery In The Gazebo • Medicine Wheel #3 ~ European Diaspora • the third installment of the Medicine Wheel Series\, curated by Nadema Agard \n\n\n\n\n\n\n\n\nJoin hostess Nadema Agard for the closing reception. You’ll never know who you’ll meet\, greet… or what you’ll eat! To attend please RSVP redearthstudio@aol.com by 8pm Saturday Eve \nBon Appitit!
URL:https://brucesgarden.net/event/gitg-closing-medicine-wheel-3-european-diaspora-potluck/
LOCATION:Bruce’s Garden\, 11 Park Ter. E.\, New York\, NY\, 10034\, United States
ATTACH;FMTTYPE=image/jpeg:https://brucesgarden.net/wp-content/uploads/2019/08/67736983_2900071383342419_4454687453176922112_o.jpg
END:VEVENT
END:VCALENDAR