BEGIN:VCALENDAR
VERSION:2.0
PRODID:-//Bruce's Garden - ECPv6.15.20//NONSGML v1.0//EN
CALSCALE:GREGORIAN
METHOD:PUBLISH
X-WR-CALNAME:Bruce's Garden
X-ORIGINAL-URL:https://brucesgarden.net
X-WR-CALDESC:Events for Bruce's Garden
REFRESH-INTERVAL;VALUE=DURATION:PT1H
X-Robots-Tag:noindex
X-PUBLISHED-TTL:PT1H
BEGIN:VTIMEZONE
TZID:America/New_York
BEGIN:DAYLIGHT
TZOFFSETFROM:-0500
TZOFFSETTO:-0400
TZNAME:EDT
DTSTART:20180311T070000
END:DAYLIGHT
BEGIN:STANDARD
TZOFFSETFROM:-0400
TZOFFSETTO:-0500
TZNAME:EST
DTSTART:20181104T060000
END:STANDARD
BEGIN:DAYLIGHT
TZOFFSETFROM:-0500
TZOFFSETTO:-0400
TZNAME:EDT
DTSTART:20190310T070000
END:DAYLIGHT
BEGIN:STANDARD
TZOFFSETFROM:-0400
TZOFFSETTO:-0500
TZNAME:EST
DTSTART:20191103T060000
END:STANDARD
BEGIN:DAYLIGHT
TZOFFSETFROM:-0500
TZOFFSETTO:-0400
TZNAME:EDT
DTSTART:20200308T070000
END:DAYLIGHT
BEGIN:STANDARD
TZOFFSETFROM:-0400
TZOFFSETTO:-0500
TZNAME:EST
DTSTART:20201101T060000
END:STANDARD
END:VTIMEZONE
BEGIN:VEVENT
DTSTART;TZID=America/New_York:20191013T100000
DTEND;TZID=America/New_York:20191013T123000
DTSTAMP:20260425T122332
CREATED:20191003T195058Z
LAST-MODIFIED:20191003T195058Z
UID:3866-1570960800-1570969800@brucesgarden.net
SUMMARY:Children’s Craft Class
DESCRIPTION:Join Craftmaster Cathy Sanacore for delightful\, educationally entertaining\, mid-day fun!
URL:https://brucesgarden.net/event/childrens-craft-class-15/
LOCATION:Bruce’s Garden\, 11 Park Ter. E.\, New York\, NY\, 10034\, United States
ATTACH;FMTTYPE=image/jpeg:https://brucesgarden.net/wp-content/uploads/2018/08/37175698_241916589869786_3997137869805191168_o.jpg
END:VEVENT
BEGIN:VEVENT
DTSTART;TZID=America/New_York:20191013T110000
DTEND;TZID=America/New_York:20191013T120000
DTSTAMP:20260425T122332
CREATED:20191003T195629Z
LAST-MODIFIED:20191003T200205Z
UID:3870-1570964400-1570968000@brucesgarden.net
SUMMARY:Manahatta Peace Project/ Northstar Family Choir
DESCRIPTION:Join Master Vocalist Dana Hanchard and her gifted ensemble for an afternoon of enchanting aural inspiration
URL:https://brucesgarden.net/event/manahatta-peace-project-northstar-family-choir-35/
LOCATION:Bruce’s Garden\, 11 Park Ter. E.\, New York\, NY\, 10034\, United States
ATTACH;FMTTYPE=image/jpeg:https://brucesgarden.net/wp-content/uploads/2018/06/IMG_2318.jpg
END:VEVENT
BEGIN:VEVENT
DTSTART;TZID=America/New_York:20191013T130000
DTEND;TZID=America/New_York:20191013T160000
DTSTAMP:20260425T122332
CREATED:20191003T193718Z
LAST-MODIFIED:20191003T193718Z
UID:3862-1570971600-1570982400@brucesgarden.net
SUMMARY:Sunday Afternoon Potluck in Bruce’s Garden
DESCRIPTION:Join hostess Nadema Agard for a mouthwatering culinary adventure. You’ll never know who you’ll meet\, greet… or what you’ll eat! To attend please RSVP redearthstudio@aol.com by 8pm Saturday Eve \nBon Appitit!
URL:https://brucesgarden.net/event/sunday-afternoon-potluck-in-bruces-garden-44/
LOCATION:Bruce’s Garden\, 11 Park Ter. E.\, New York\, NY\, 10034\, United States
ATTACH;FMTTYPE=image/jpeg:https://brucesgarden.net/wp-content/uploads/2019/05/59157564_10157211739169133_4849514858871259136_o.jpg
END:VEVENT
BEGIN:VEVENT
DTSTART;TZID=America/New_York:20191013T163000
DTEND;TZID=America/New_York:20191013T183000
DTSTAMP:20260425T122332
CREATED:20191003T201559Z
LAST-MODIFIED:20191003T201559Z
UID:3876-1570984200-1570991400@brucesgarden.net
SUMMARY:DR. DECEIVERINI • Something Wicked This Way Comes • CANCELLED
DESCRIPTION:Sadly\, we’ll have to wait until next year to enjoy once again Dr. Deceiverini and crew. We will truly miss the wild and woolly rides through the shaded\, arduous landscapes of… Who Done It!! \n\nAbsolutely the best Radio Play in town! \n 
URL:https://brucesgarden.net/event/dr-deceiverini-%e2%80%a2-something-wicked-this-way-comes-%e2%80%a2-cancelled/
LOCATION:Bruce’s Garden\, 11 Park Ter. E.\, New York\, NY\, 10034\, United States
ATTACH;FMTTYPE=image/jpeg:https://brucesgarden.net/wp-content/uploads/2018/03/07820-1502709831871.jpg
END:VEVENT
END:VCALENDAR