BEGIN:VCALENDAR
VERSION:2.0
PRODID:-//Bruce's Garden - ECPv6.15.20//NONSGML v1.0//EN
CALSCALE:GREGORIAN
METHOD:PUBLISH
X-WR-CALNAME:Bruce's Garden
X-ORIGINAL-URL:https://brucesgarden.net
X-WR-CALDESC:Events for Bruce's Garden
REFRESH-INTERVAL;VALUE=DURATION:PT1H
X-Robots-Tag:noindex
X-PUBLISHED-TTL:PT1H
BEGIN:VTIMEZONE
TZID:America/New_York
BEGIN:DAYLIGHT
TZOFFSETFROM:-0500
TZOFFSETTO:-0400
TZNAME:EDT
DTSTART:20180311T070000
END:DAYLIGHT
BEGIN:STANDARD
TZOFFSETFROM:-0400
TZOFFSETTO:-0500
TZNAME:EST
DTSTART:20181104T060000
END:STANDARD
BEGIN:DAYLIGHT
TZOFFSETFROM:-0500
TZOFFSETTO:-0400
TZNAME:EDT
DTSTART:20190310T070000
END:DAYLIGHT
BEGIN:STANDARD
TZOFFSETFROM:-0400
TZOFFSETTO:-0500
TZNAME:EST
DTSTART:20191103T060000
END:STANDARD
BEGIN:DAYLIGHT
TZOFFSETFROM:-0500
TZOFFSETTO:-0400
TZNAME:EDT
DTSTART:20200308T070000
END:DAYLIGHT
BEGIN:STANDARD
TZOFFSETFROM:-0400
TZOFFSETTO:-0500
TZNAME:EST
DTSTART:20201101T060000
END:STANDARD
END:VTIMEZONE
BEGIN:VEVENT
DTSTART;VALUE=DATE:20191031
DTEND;VALUE=DATE:20191101
DTSTAMP:20260425T105143
CREATED:20191003T202649Z
LAST-MODIFIED:20191003T202937Z
UID:3878-1572480000-1572566399@brucesgarden.net
SUMMARY:Gallery In The Gazebo: CLOSING • Medicine Wheel #4
DESCRIPTION:
URL:https://brucesgarden.net/event/gallery-in-the-gazebo-closing-%e2%80%a2-medicine-wheel-4/
LOCATION:Bruce’s Garden\, 11 Park Ter. E.\, New York\, NY\, 10034\, United States
ATTACH;FMTTYPE=image/jpeg:https://brucesgarden.net/wp-content/uploads/2019/08/67736983_2900071383342419_4454687453176922112_o.jpg
END:VEVENT
BEGIN:VEVENT
DTSTART;TZID=America/New_York:20191031T150000
DTEND;TZID=America/New_York:20191031T180000
DTSTAMP:20260425T105143
CREATED:20191003T203520Z
LAST-MODIFIED:20191003T203520Z
UID:3880-1572534000-1572544800@brucesgarden.net
SUMMARY:HALLOWEEN PARTY @Bruce's Garden
DESCRIPTION:Join Us!! for our 2nd Official Halloween Party!! They’ll be lots to do… \n…and as always\, in the usual Sneek-A-Boo fashion remember to… \n Come As You Aren’t!!!
URL:https://brucesgarden.net/event/halloween-party-bruces-garden-2/
LOCATION:Bruce’s Garden\, 11 Park Ter. E.\, New York\, NY\, 10034\, United States
ATTACH;FMTTYPE=image/jpeg:https://brucesgarden.net/wp-content/uploads/2018/10/Pumpkin-2018-Flyer.jpg
END:VEVENT
END:VCALENDAR