BEGIN:VCALENDAR
VERSION:2.0
PRODID:-//Bruce's Garden - ECPv6.15.20//NONSGML v1.0//EN
CALSCALE:GREGORIAN
METHOD:PUBLISH
X-WR-CALNAME:Bruce's Garden
X-ORIGINAL-URL:https://brucesgarden.net
X-WR-CALDESC:Events for Bruce's Garden
REFRESH-INTERVAL;VALUE=DURATION:PT1H
X-Robots-Tag:noindex
X-PUBLISHED-TTL:PT1H
BEGIN:VTIMEZONE
TZID:America/New_York
BEGIN:DAYLIGHT
TZOFFSETFROM:-0500
TZOFFSETTO:-0400
TZNAME:EDT
DTSTART:20210314T070000
END:DAYLIGHT
BEGIN:STANDARD
TZOFFSETFROM:-0400
TZOFFSETTO:-0500
TZNAME:EST
DTSTART:20211107T060000
END:STANDARD
BEGIN:DAYLIGHT
TZOFFSETFROM:-0500
TZOFFSETTO:-0400
TZNAME:EDT
DTSTART:20220313T070000
END:DAYLIGHT
BEGIN:STANDARD
TZOFFSETFROM:-0400
TZOFFSETTO:-0500
TZNAME:EST
DTSTART:20221106T060000
END:STANDARD
BEGIN:DAYLIGHT
TZOFFSETFROM:-0500
TZOFFSETTO:-0400
TZNAME:EDT
DTSTART:20230312T070000
END:DAYLIGHT
BEGIN:STANDARD
TZOFFSETFROM:-0400
TZOFFSETTO:-0500
TZNAME:EST
DTSTART:20231105T060000
END:STANDARD
END:VTIMEZONE
BEGIN:VEVENT
DTSTART;TZID=America/New_York:20220529T130000
DTEND;TZID=America/New_York:20220529T160000
DTSTAMP:20260423T055540
CREATED:20220527T005350Z
LAST-MODIFIED:20220527T005350Z
UID:4402-1653829200-1653840000@brucesgarden.net
SUMMARY:Sunday Afternoon Potluck in Bruce’s Garden
DESCRIPTION:Join hostess Nadema Agard for a mouthwatering culinary adventure. You’ll never know who you’ll meet\, greet… or what you’ll eat! To attend please RSVP redearthstudio@aol.com by 8pm Saturday Eve \nBon Appitit!
URL:https://brucesgarden.net/event/sunday-afternoon-potluck-in-bruces-garden-50/
LOCATION:Bruce’s Garden\, 11 Park Ter. E.\, New York\, NY\, 10034\, United States
ATTACH;FMTTYPE=image/jpeg:https://brucesgarden.net/wp-content/uploads/2019/05/59157564_10157211739169133_4849514858871259136_o.jpg
END:VEVENT
BEGIN:VEVENT
DTSTART;TZID=America/New_York:20220529T180000
DTEND;TZID=America/New_York:20220529T190000
DTSTAMP:20260423T055540
CREATED:20220527T013947Z
LAST-MODIFIED:20220527T014003Z
UID:4416-1653847200-1653850800@brucesgarden.net
SUMMARY:RAIN DATE: East Winds Ensemble – featuring Marco Lienhard & Masayo Ishigure
DESCRIPTION:
URL:https://brucesgarden.net/event/rain-dateeast-winds-ensemble-featuring-marco-lienhard-masayo-ishigure/
LOCATION:Bruce’s Garden\, 11 Park Ter. E.\, New York\, NY\, 10034\, United States
ATTACH;FMTTYPE=image/jpeg:https://brucesgarden.net/wp-content/uploads/2022/05/283040416_10159488498374927_4175447799514219664_n.jpg
END:VEVENT
END:VCALENDAR