BEGIN:VCALENDAR
VERSION:2.0
PRODID:-//Bruce's Garden - ECPv6.15.20//NONSGML v1.0//EN
CALSCALE:GREGORIAN
METHOD:PUBLISH
X-ORIGINAL-URL:https://brucesgarden.net
X-WR-CALDESC:Events for Bruce's Garden
REFRESH-INTERVAL;VALUE=DURATION:PT1H
X-Robots-Tag:noindex
X-PUBLISHED-TTL:PT1H
BEGIN:VTIMEZONE
TZID:America/New_York
BEGIN:DAYLIGHT
TZOFFSETFROM:-0500
TZOFFSETTO:-0400
TZNAME:EDT
DTSTART:20210314T070000
END:DAYLIGHT
BEGIN:STANDARD
TZOFFSETFROM:-0400
TZOFFSETTO:-0500
TZNAME:EST
DTSTART:20211107T060000
END:STANDARD
BEGIN:DAYLIGHT
TZOFFSETFROM:-0500
TZOFFSETTO:-0400
TZNAME:EDT
DTSTART:20220313T070000
END:DAYLIGHT
BEGIN:STANDARD
TZOFFSETFROM:-0400
TZOFFSETTO:-0500
TZNAME:EST
DTSTART:20221106T060000
END:STANDARD
BEGIN:DAYLIGHT
TZOFFSETFROM:-0500
TZOFFSETTO:-0400
TZNAME:EDT
DTSTART:20230312T070000
END:DAYLIGHT
BEGIN:STANDARD
TZOFFSETFROM:-0400
TZOFFSETTO:-0500
TZNAME:EST
DTSTART:20231105T060000
END:STANDARD
END:VTIMEZONE
BEGIN:VEVENT
DTSTART;TZID=America/New_York:20220827T160000
DTEND;TZID=America/New_York:20220827T170000
DTSTAMP:20260422T233954
CREATED:20220809T183849Z
LAST-MODIFIED:20220809T183849Z
UID:4570-1661616000-1661619600@brucesgarden.net
SUMMARY:Ben & Val • Song Cycle Performance
DESCRIPTION:Join Ben\, Val and their young students for a delightful afternoon of song just outside of Bruce Reynolds Garden in Isham Park.  \nBring a friend!
URL:https://brucesgarden.net/event/ben-val-song-cycle-performance/
LOCATION:Bruce’s Garden\, 11 Park Ter. E.\, New York\, NY\, 10034\, United States
ATTACH;FMTTYPE=image/jpeg:https://brucesgarden.net/wp-content/uploads/2022/08/Image-of-Children-Singing.jpg
END:VEVENT
END:VCALENDAR