BEGIN:VCALENDAR
VERSION:2.0
PRODID:-//Bruce's Garden - ECPv6.15.20//NONSGML v1.0//EN
CALSCALE:GREGORIAN
METHOD:PUBLISH
X-WR-CALNAME:Bruce's Garden
X-ORIGINAL-URL:https://brucesgarden.net
X-WR-CALDESC:Events for Bruce's Garden
REFRESH-INTERVAL;VALUE=DURATION:PT1H
X-Robots-Tag:noindex
X-PUBLISHED-TTL:PT1H
BEGIN:VTIMEZONE
TZID:America/New_York
BEGIN:DAYLIGHT
TZOFFSETFROM:-0500
TZOFFSETTO:-0400
TZNAME:EDT
DTSTART:20210314T070000
END:DAYLIGHT
BEGIN:STANDARD
TZOFFSETFROM:-0400
TZOFFSETTO:-0500
TZNAME:EST
DTSTART:20211107T060000
END:STANDARD
BEGIN:DAYLIGHT
TZOFFSETFROM:-0500
TZOFFSETTO:-0400
TZNAME:EDT
DTSTART:20220313T070000
END:DAYLIGHT
BEGIN:STANDARD
TZOFFSETFROM:-0400
TZOFFSETTO:-0500
TZNAME:EST
DTSTART:20221106T060000
END:STANDARD
BEGIN:DAYLIGHT
TZOFFSETFROM:-0500
TZOFFSETTO:-0400
TZNAME:EDT
DTSTART:20230312T070000
END:DAYLIGHT
BEGIN:STANDARD
TZOFFSETFROM:-0400
TZOFFSETTO:-0500
TZNAME:EST
DTSTART:20231105T060000
END:STANDARD
END:VTIMEZONE
BEGIN:VEVENT
DTSTART;VALUE=DATE:20220831
DTEND;VALUE=DATE:20220901
DTSTAMP:20260422T214703
CREATED:20220809T182450Z
LAST-MODIFIED:20220809T182534Z
UID:4567-1661904000-1661990399@brucesgarden.net
SUMMARY:Gallery In The Gazebo CLOSING: Father Sky – Male Aspect Vertical Axis
DESCRIPTION:Our latest installation “Father Sky – Male Aspect Vertical Axis” featuring the works of Craig Lemley\, Paul Deo\, Pedro Gonzalez and Takashi Harada closes today!  \nStay tuned for the following installation…
URL:https://brucesgarden.net/event/gallery-in-the-gazebo-closing-father-sky-male-aspect-vertical-axis/
LOCATION:NY
ATTACH;FMTTYPE=image/jpeg:https://brucesgarden.net/wp-content/uploads/2022/07/Father-Sky-Male-Aspect-Vertical-Axis-2-July-to-21-August-2022.jpg
END:VEVENT
BEGIN:VEVENT
DTSTART;TZID=America/New_York:20220831T170000
DTEND;TZID=America/New_York:20220831T180000
DTSTAMP:20260422T214703
CREATED:20220809T181859Z
LAST-MODIFIED:20220809T181859Z
UID:4565-1661965200-1661968800@brucesgarden.net
SUMMARY:Summer Summit by the Spring • Musical Conversations in INWOOD HILL PARK w/ Dana Gae Hanchard & Aaron Scott
DESCRIPTION:Enjoy an evening serenade of gentle\, acoustic\, improvisational music as you enjoy the magic of the spring\, in Inwood Hill Park. \nMusicians\, feel free to join in. Dancers\, feel free to dance. Artists\, feel free to sketch… \n\nDIRECTIONS: \n\nENTER Inwood Hill Park @ISHAM STREET\nGO DIRECTLY TOWARD AND PASS the Flag Pole\nFOLLOW PATH DOWNHILL towards SHORAKKOPOCH ROCK (along the southern boarder of the Soccer Field) \nTHE SPRING is ON THE LEFT before you arrive to Shorakkapoch Rock\n\n\nSee you there!
URL:https://brucesgarden.net/event/summer-summit-by-the-spring-musical-conversations-in-inwood-hill-park-w-dana-gae-hanchard-aaron-scott-9/
LOCATION:Bruce’s Garden\, 11 Park Ter. E.\, New York\, NY\, 10034\, United States
ATTACH;FMTTYPE=image/jpeg:https://brucesgarden.net/wp-content/uploads/2018/06/IMG_2318.jpg
END:VEVENT
END:VCALENDAR