BEGIN:VCALENDAR
VERSION:2.0
PRODID:-//Bruce's Garden - ECPv6.15.20//NONSGML v1.0//EN
CALSCALE:GREGORIAN
METHOD:PUBLISH
X-WR-CALNAME:Bruce's Garden
X-ORIGINAL-URL:https://brucesgarden.net
X-WR-CALDESC:Events for Bruce's Garden
REFRESH-INTERVAL;VALUE=DURATION:PT1H
X-Robots-Tag:noindex
X-PUBLISHED-TTL:PT1H
BEGIN:VTIMEZONE
TZID:America/New_York
BEGIN:DAYLIGHT
TZOFFSETFROM:-0500
TZOFFSETTO:-0400
TZNAME:EDT
DTSTART:20220313T070000
END:DAYLIGHT
BEGIN:STANDARD
TZOFFSETFROM:-0400
TZOFFSETTO:-0500
TZNAME:EST
DTSTART:20221106T060000
END:STANDARD
BEGIN:DAYLIGHT
TZOFFSETFROM:-0500
TZOFFSETTO:-0400
TZNAME:EDT
DTSTART:20230312T070000
END:DAYLIGHT
BEGIN:STANDARD
TZOFFSETFROM:-0400
TZOFFSETTO:-0500
TZNAME:EST
DTSTART:20231105T060000
END:STANDARD
BEGIN:DAYLIGHT
TZOFFSETFROM:-0500
TZOFFSETTO:-0400
TZNAME:EDT
DTSTART:20240310T070000
END:DAYLIGHT
BEGIN:STANDARD
TZOFFSETFROM:-0400
TZOFFSETTO:-0500
TZNAME:EST
DTSTART:20241103T060000
END:STANDARD
END:VTIMEZONE
BEGIN:VEVENT
DTSTART;VALUE=DATE:20230902
DTEND;VALUE=DATE:20231031
DTSTAMP:20260422T023044
CREATED:20230902T180055Z
LAST-MODIFIED:20230902T180606Z
UID:4977-1693612800-1698710399@brucesgarden.net
SUMMARY:Gallery in the Gazebo presents: Music & Art Series/ MONOTYPES by Robin Holder
DESCRIPTION:
URL:https://brucesgarden.net/event/gallery-in-the-gazebo-presents-music-art-series/
LOCATION:Bruce’s Garden\, 11 Park Ter. E.\, New York\, NY\, 10034\, United States
ATTACH;FMTTYPE=image/jpeg:https://brucesgarden.net/wp-content/uploads/2023/09/GITG-•-Sept-23-Show.jpg
END:VEVENT
BEGIN:VEVENT
DTSTART;TZID=America/New_York:20230910T130000
DTEND;TZID=America/New_York:20230910T160000
DTSTAMP:20260422T023044
CREATED:20230902T171535Z
LAST-MODIFIED:20230902T171535Z
UID:4945-1694350800-1694361600@brucesgarden.net
SUMMARY:Sunday Afternoon Potluck 1-4pm• RSVP
DESCRIPTION:Join hostess Nadema Agard for a mouthwatering culinary adventure. You’ll never know who you’ll meet\, greet… or what you’ll eat! To attend please RSVP redearthstudio@aol.com by 8pm Saturday Eve\nBon Appitit!
URL:https://brucesgarden.net/event/sunday-afternoon-potluck-1-4pm-rsvp-11/
LOCATION:Bruce’s Garden\, 11 Park Ter. E.\, New York\, NY\, 10034\, United States
ATTACH;FMTTYPE=image/jpeg:https://brucesgarden.net/wp-content/uploads/2019/05/59157564_10157211739169133_4849514858871259136_o.jpg
END:VEVENT
BEGIN:VEVENT
DTSTART;TZID=America/New_York:20230910T180000
DTEND;TZID=America/New_York:20230910T180000
DTSTAMP:20260422T023044
CREATED:20230902T173735Z
LAST-MODIFIED:20230902T173735Z
UID:4971-1694368800-1694368800@brucesgarden.net
SUMMARY:TAIKOZA! in Isham Park • Rain Date
DESCRIPTION:A concert with student performers. There will also be other activities for children in the audience.
URL:https://brucesgarden.net/event/taikoza-in-isham-park-rain-date-2/
LOCATION:Bruce’s Garden\, 11 Park Ter. E.\, New York\, NY\, 10034\, United States
ATTACH;FMTTYPE=image/jpeg:https://brucesgarden.net/wp-content/uploads/2022/09/TAIKOZA-Drums.jpg
END:VEVENT
END:VCALENDAR