BEGIN:VCALENDAR
VERSION:2.0
PRODID:-//Bruce's Garden - ECPv6.15.20//NONSGML v1.0//EN
CALSCALE:GREGORIAN
METHOD:PUBLISH
X-ORIGINAL-URL:https://brucesgarden.net
X-WR-CALDESC:Events for Bruce's Garden
REFRESH-INTERVAL;VALUE=DURATION:PT1H
X-Robots-Tag:noindex
X-PUBLISHED-TTL:PT1H
BEGIN:VTIMEZONE
TZID:America/New_York
BEGIN:DAYLIGHT
TZOFFSETFROM:-0500
TZOFFSETTO:-0400
TZNAME:EDT
DTSTART:20220313T070000
END:DAYLIGHT
BEGIN:STANDARD
TZOFFSETFROM:-0400
TZOFFSETTO:-0500
TZNAME:EST
DTSTART:20221106T060000
END:STANDARD
BEGIN:DAYLIGHT
TZOFFSETFROM:-0500
TZOFFSETTO:-0400
TZNAME:EDT
DTSTART:20230312T070000
END:DAYLIGHT
BEGIN:STANDARD
TZOFFSETFROM:-0400
TZOFFSETTO:-0500
TZNAME:EST
DTSTART:20231105T060000
END:STANDARD
BEGIN:DAYLIGHT
TZOFFSETFROM:-0500
TZOFFSETTO:-0400
TZNAME:EDT
DTSTART:20240310T070000
END:DAYLIGHT
BEGIN:STANDARD
TZOFFSETFROM:-0400
TZOFFSETTO:-0500
TZNAME:EST
DTSTART:20241103T060000
END:STANDARD
END:VTIMEZONE
BEGIN:VEVENT
DTSTART;VALUE=DATE:20230902
DTEND;VALUE=DATE:20231031
DTSTAMP:20260422T002303
CREATED:20230902T180055Z
LAST-MODIFIED:20230902T180606Z
UID:4977-1693612800-1698710399@brucesgarden.net
SUMMARY:Gallery in the Gazebo presents: Music & Art Series/ MONOTYPES by Robin Holder
DESCRIPTION:
URL:https://brucesgarden.net/event/gallery-in-the-gazebo-presents-music-art-series/
LOCATION:Bruce’s Garden\, 11 Park Ter. E.\, New York\, NY\, 10034\, United States
ATTACH;FMTTYPE=image/jpeg:https://brucesgarden.net/wp-content/uploads/2023/09/GITG-•-Sept-23-Show.jpg
END:VEVENT
BEGIN:VEVENT
DTSTART;TZID=America/New_York:20231009T140000
DTEND;TZID=America/New_York:20231009T160000
DTSTAMP:20260422T002303
CREATED:20230929T031458Z
LAST-MODIFIED:20230929T031458Z
UID:4998-1696860000-1696867200@brucesgarden.net
SUMMARY:Dr. Deceiverini • Last Radio Play of the Season!
DESCRIPTION:Join us! in welcoming the return of Dr. Deceiverini and crew as they urgently usher us\, once again\, on the many wild and woolly escapades within the murky\, shaded\, arduous landscape of the land known as…  \n“Whodunnit?”
URL:https://brucesgarden.net/event/dr-deceiverini-last-radio-play-of-the-season/
LOCATION:Bruce’s Garden\, 11 Park Ter. E.\, New York\, NY\, 10034\, United States
ATTACH;FMTTYPE=image/jpeg:https://brucesgarden.net/wp-content/uploads/2018/03/07820-1502709831871.jpg
END:VEVENT
END:VCALENDAR