BEGIN:VCALENDAR
VERSION:2.0
PRODID:-//Bruce's Garden - ECPv6.15.20//NONSGML v1.0//EN
CALSCALE:GREGORIAN
METHOD:PUBLISH
X-WR-CALNAME:Bruce's Garden
X-ORIGINAL-URL:https://brucesgarden.net
X-WR-CALDESC:Events for Bruce's Garden
REFRESH-INTERVAL;VALUE=DURATION:PT1H
X-Robots-Tag:noindex
X-PUBLISHED-TTL:PT1H
BEGIN:VTIMEZONE
TZID:America/New_York
BEGIN:DAYLIGHT
TZOFFSETFROM:-0500
TZOFFSETTO:-0400
TZNAME:EDT
DTSTART:20230312T070000
END:DAYLIGHT
BEGIN:STANDARD
TZOFFSETFROM:-0400
TZOFFSETTO:-0500
TZNAME:EST
DTSTART:20231105T060000
END:STANDARD
BEGIN:DAYLIGHT
TZOFFSETFROM:-0500
TZOFFSETTO:-0400
TZNAME:EDT
DTSTART:20240310T070000
END:DAYLIGHT
BEGIN:STANDARD
TZOFFSETFROM:-0400
TZOFFSETTO:-0500
TZNAME:EST
DTSTART:20241103T060000
END:STANDARD
BEGIN:DAYLIGHT
TZOFFSETFROM:-0500
TZOFFSETTO:-0400
TZNAME:EDT
DTSTART:20250309T070000
END:DAYLIGHT
BEGIN:STANDARD
TZOFFSETFROM:-0400
TZOFFSETTO:-0500
TZNAME:EST
DTSTART:20251102T060000
END:STANDARD
END:VTIMEZONE
BEGIN:VEVENT
DTSTART;TZID=America/New_York:20240707T130000
DTEND;TZID=America/New_York:20240707T160000
DTSTAMP:20260421T102549
CREATED:20240630T175439Z
LAST-MODIFIED:20240630T175439Z
UID:5046-1720357200-1720368000@brucesgarden.net
SUMMARY:Sunday Afternoon Potluck 1-4pm• RSVP
DESCRIPTION:Join hostess Nadema Agard for a mouthwatering culinary adventure. You’ll never know who you’ll meet\, greet… or what you’ll eat! To attend please RSVP redearthstudio@aol.com by 8pm Saturday Eve\nBon Appitit!
URL:https://brucesgarden.net/event/sunday-afternoon-potluck-1-4pm-rsvp-19/
LOCATION:Bruce’s Garden\, 11 Park Ter. E.\, New York\, NY\, 10034\, United States
ATTACH;FMTTYPE=image/jpeg:https://brucesgarden.net/wp-content/uploads/2019/05/59157564_10157211739169133_4849514858871259136_o.jpg
END:VEVENT
END:VCALENDAR