BEGIN:VCALENDAR
VERSION:2.0
PRODID:-//Bruce's Garden - ECPv6.15.20//NONSGML v1.0//EN
CALSCALE:GREGORIAN
METHOD:PUBLISH
X-WR-CALNAME:Bruce's Garden
X-ORIGINAL-URL:https://brucesgarden.net
X-WR-CALDESC:Events for Bruce's Garden
REFRESH-INTERVAL;VALUE=DURATION:PT1H
X-Robots-Tag:noindex
X-PUBLISHED-TTL:PT1H
BEGIN:VTIMEZONE
TZID:America/New_York
BEGIN:DAYLIGHT
TZOFFSETFROM:-0500
TZOFFSETTO:-0400
TZNAME:EDT
DTSTART:20230312T070000
END:DAYLIGHT
BEGIN:STANDARD
TZOFFSETFROM:-0400
TZOFFSETTO:-0500
TZNAME:EST
DTSTART:20231105T060000
END:STANDARD
BEGIN:DAYLIGHT
TZOFFSETFROM:-0500
TZOFFSETTO:-0400
TZNAME:EDT
DTSTART:20240310T070000
END:DAYLIGHT
BEGIN:STANDARD
TZOFFSETFROM:-0400
TZOFFSETTO:-0500
TZNAME:EST
DTSTART:20241103T060000
END:STANDARD
BEGIN:DAYLIGHT
TZOFFSETFROM:-0500
TZOFFSETTO:-0400
TZNAME:EDT
DTSTART:20250309T070000
END:DAYLIGHT
BEGIN:STANDARD
TZOFFSETFROM:-0400
TZOFFSETTO:-0500
TZNAME:EST
DTSTART:20251102T060000
END:STANDARD
END:VTIMEZONE
BEGIN:VEVENT
DTSTART;TZID=America/New_York:20240717T180000
DTEND;TZID=America/New_York:20240717T200000
DTSTAMP:20260421T102515
CREATED:20240716T211942Z
LAST-MODIFIED:20240716T212311Z
UID:5074-1721239200-1721246400@brucesgarden.net
SUMMARY:Welcome Best-Selling author Margalit Fox
DESCRIPTION:It is a great pleasure to welcome best-selling author Margalit Fox to read from her new book “The Talented Mrs. Mandelbaum” on Wednesday\, July 17th.\nThe book is a true-crime tale of an immigrant’s rise in Gilded Age New York. How did a Jewish woman become a powerful crime boss?  Here is a short video to introduce the story:\nhttps://www.youtube.com/watch?v=6ynn5koWzaA\nMargalit Fox had a distinguished writing career in the famed New York Times’s Obituary Department. Her recently-published remembrance of Faith Ringgold (linked below) shows her eye for details that informed the larger narraives of a person’s life.\nhttps://www.nytimes.com/2024/04/13/arts/faith-ringgold-dead.html?unlocked_article_code=1.6E0.wubt.erV3HoZEFOep&smid=url-share\n\nHope to see you on Wednesday\, July 17\nRefreshments at 6:00\nReading will start at 6:30\n Books will be available.
URL:https://brucesgarden.net/event/welcome-best-selling-author-margalit-fox/
LOCATION:Bruce’s Garden\, 11 Park Ter. E.\, New York\, NY\, 10034\, United States
ATTACH;FMTTYPE=image/jpeg:https://brucesgarden.net/wp-content/uploads/2024/06/PastedGraphic-1.jpeg
END:VEVENT
END:VCALENDAR