BEGIN:VCALENDAR
VERSION:2.0
PRODID:-//Bruce's Garden - ECPv6.15.20//NONSGML v1.0//EN
CALSCALE:GREGORIAN
METHOD:PUBLISH
X-WR-CALNAME:Bruce's Garden
X-ORIGINAL-URL:https://brucesgarden.net
X-WR-CALDESC:Events for Bruce's Garden
REFRESH-INTERVAL;VALUE=DURATION:PT1H
X-Robots-Tag:noindex
X-PUBLISHED-TTL:PT1H
BEGIN:VTIMEZONE
TZID:America/New_York
BEGIN:DAYLIGHT
TZOFFSETFROM:-0500
TZOFFSETTO:-0400
TZNAME:EDT
DTSTART:20160313T070000
END:DAYLIGHT
BEGIN:STANDARD
TZOFFSETFROM:-0400
TZOFFSETTO:-0500
TZNAME:EST
DTSTART:20161106T060000
END:STANDARD
BEGIN:DAYLIGHT
TZOFFSETFROM:-0500
TZOFFSETTO:-0400
TZNAME:EDT
DTSTART:20170312T070000
END:DAYLIGHT
BEGIN:STANDARD
TZOFFSETFROM:-0400
TZOFFSETTO:-0500
TZNAME:EST
DTSTART:20171105T060000
END:STANDARD
BEGIN:DAYLIGHT
TZOFFSETFROM:-0500
TZOFFSETTO:-0400
TZNAME:EDT
DTSTART:20180311T070000
END:DAYLIGHT
BEGIN:STANDARD
TZOFFSETFROM:-0400
TZOFFSETTO:-0500
TZNAME:EST
DTSTART:20181104T060000
END:STANDARD
END:VTIMEZONE
BEGIN:VEVENT
DTSTART;TZID=America/New_York:20170901T100000
DTEND;TZID=America/New_York:20170901T110000
DTSTAMP:20260425T225036
CREATED:20170829T190536Z
LAST-MODIFIED:20170907T172544Z
UID:2352-1504260000-1504263600@brucesgarden.net
SUMMARY:Preschool on the Planet *CANCELLED*
DESCRIPTION:Join Nina for wonderfully stimulating educational activities (aged 1 – 5) in Inwood’s natural community center.
URL:https://brucesgarden.net/event/preschool-on-the-planet-cancelled/
LOCATION:Bruce’s Garden\, 11 Park Ter. E.\, New York\, NY\, 10034\, United States
ATTACH;FMTTYPE=image/jpeg:https://brucesgarden.net/wp-content/uploads/2016/10/14641905_10153683187531377_4453781826490564606_n.jpg
END:VEVENT
BEGIN:VEVENT
DTSTART;TZID=America/New_York:20170826T120000
DTEND;TZID=America/New_York:20170826T140000
DTSTAMP:20260425T225036
CREATED:20170723T200950Z
LAST-MODIFIED:20170723T200950Z
UID:2223-1503748800-1503756000@brucesgarden.net
SUMMARY:Saturday Noon Potluck
DESCRIPTION:Join hostess Nadema for exciting collaborations of varied culinary treats offered by neighbors near and far.  You’ll never know what you’ll eat or who you’ll meet! See you soon…
URL:https://brucesgarden.net/event/saturday-noon-potluck-13/
LOCATION:Bruce’s Garden\, 11 Park Ter. E.\, New York\, NY\, 10034\, United States
ATTACH;FMTTYPE=image/jpeg:https://brucesgarden.net/wp-content/uploads/2017/04/18121533_10155274250184133_6289587828734152585_o.jpg
END:VEVENT
BEGIN:VEVENT
DTSTART;TZID=America/New_York:20170825T100000
DTEND;TZID=America/New_York:20170825T110000
DTSTAMP:20260425T225036
CREATED:20170723T200425Z
LAST-MODIFIED:20170723T200425Z
UID:2215-1503655200-1503658800@brucesgarden.net
SUMMARY:Preschool on the Planet
DESCRIPTION:Join Nina for wonderfully stimulating educational activities (aged 1 – 5) in Inwood’s natural community center.
URL:https://brucesgarden.net/event/preschool-on-the-planet-71/
LOCATION:Bruce’s Garden\, 11 Park Ter. E.\, New York\, NY\, 10034\, United States
ATTACH;FMTTYPE=image/jpeg:https://brucesgarden.net/wp-content/uploads/2016/10/14601096_10153683187471377_6629083471588793266_n-e1506806337993.jpg
END:VEVENT
BEGIN:VEVENT
DTSTART;TZID=America/New_York:20170823T183000
DTEND;TZID=America/New_York:20170823T203000
DTSTAMP:20260425T225036
CREATED:20170723T203045Z
LAST-MODIFIED:20170818T180242Z
UID:2238-1503513000-1503520200@brucesgarden.net
SUMMARY:Midweek Literary Reading Series
DESCRIPTION:Bruce’s Garden welcomes the return of Sid Horenstein who will read from his book on Isham & Inwood Hill Parks!
URL:https://brucesgarden.net/event/midweek-literary-reading-series-10/
LOCATION:Bruce’s Garden\, 11 Park Ter. E.\, New York\, NY\, 10034\, United States
ATTACH;FMTTYPE=image/jpeg:https://brucesgarden.net/wp-content/uploads/2017/07/Sids-flyer-2017.jpg
END:VEVENT
BEGIN:VEVENT
DTSTART;TZID=America/New_York:20170820T173000
DTEND;TZID=America/New_York:20170820T190000
DTSTAMP:20260425T225036
CREATED:20170723T202613Z
LAST-MODIFIED:20170818T175829Z
UID:2236-1503250200-1503255600@brucesgarden.net
SUMMARY:Dr. Deceiverini Radio Play!
DESCRIPTION:The Best Live Radio Play Performances In Inwood! Who knows.  \nMaybe you’ll be the one who figures out… “ \nWho Done it???!”
URL:https://brucesgarden.net/event/dr-deceiverini-radio-play-7/
LOCATION:Bruce’s Garden\, 11 Park Ter. E.\, New York\, NY\, 10034\, United States
ATTACH;FMTTYPE=image/jpeg:https://brucesgarden.net/wp-content/uploads/2017/07/To-Guard-a-Seal-flyer-August-2017-v3.jpg
END:VEVENT
BEGIN:VEVENT
DTSTART;TZID=America/New_York:20170820T130000
DTEND;TZID=America/New_York:20170820T150000
DTSTAMP:20260425T225036
CREATED:20170723T202413Z
LAST-MODIFIED:20170723T202413Z
UID:2233-1503234000-1503241200@brucesgarden.net
SUMMARY:Corn Husk Doll Making Workshop
DESCRIPTION:Join Hostess Nadema Agard for a fun filled workshop.  \nAll ages invited!
URL:https://brucesgarden.net/event/corn-husk-doll-making-workshop/
LOCATION:Bruce’s Garden\, 11 Park Ter. E.\, New York\, NY\, 10034\, United States
ATTACH;FMTTYPE=image/jpeg:https://brucesgarden.net/wp-content/uploads/2017/07/Corn-Husk-Doll-Making-.jpg
END:VEVENT
BEGIN:VEVENT
DTSTART;TZID=America/New_York:20170819T120000
DTEND;TZID=America/New_York:20170819T140000
DTSTAMP:20260425T225036
CREATED:20170723T200842Z
LAST-MODIFIED:20170723T200842Z
UID:2221-1503144000-1503151200@brucesgarden.net
SUMMARY:Saturday Noon Potluck
DESCRIPTION:Join hostess Nadema for exciting collaborations of varied culinary treats offered by neighbors near and far.  You’ll never know what you’ll eat or who you’ll meet! See you soon...
URL:https://brucesgarden.net/event/saturday-noon-potluck-12/
LOCATION:Bruce’s Garden\, 11 Park Ter. E.\, New York\, NY\, 10034\, United States
ATTACH;FMTTYPE=image/jpeg:https://brucesgarden.net/wp-content/uploads/2017/04/18121533_10155274250184133_6289587828734152585_o.jpg
END:VEVENT
BEGIN:VEVENT
DTSTART;TZID=America/New_York:20170818T100000
DTEND;TZID=America/New_York:20170818T110000
DTSTAMP:20260425T225036
CREATED:20170723T194817Z
LAST-MODIFIED:20170723T194817Z
UID:2213-1503050400-1503054000@brucesgarden.net
SUMMARY:Preschool on the Planet
DESCRIPTION:Join Nina for wonderfully stimulating educational activities (aged 1 – 5) in Inwood’s natural community center.
URL:https://brucesgarden.net/event/preschool-on-the-planet-70/
LOCATION:Bruce’s Garden\, 11 Park Ter. E.\, New York\, NY\, 10034\, United States
ATTACH;FMTTYPE=image/jpeg:https://brucesgarden.net/wp-content/uploads/2016/10/14601096_10153683187471377_6629083471588793266_n-e1506806337993.jpg
END:VEVENT
BEGIN:VEVENT
DTSTART;TZID=America/New_York:20170812T120000
DTEND;TZID=America/New_York:20170812T140000
DTSTAMP:20260425T225036
CREATED:20170723T200734Z
LAST-MODIFIED:20170723T200734Z
UID:2219-1502539200-1502546400@brucesgarden.net
SUMMARY:Saturday Noon Potluck
DESCRIPTION:Join hostess Nadema for exciting collaborations of varied culinary treats offered by neighbors near and far.  You’ll never know what you’ll eat or who you’ll meet! See you soon…
URL:https://brucesgarden.net/event/saturday-noon-potluck-11/
LOCATION:Bruce’s Garden\, 11 Park Ter. E.\, New York\, NY\, 10034\, United States
ATTACH;FMTTYPE=image/jpeg:https://brucesgarden.net/wp-content/uploads/2017/04/18121533_10155274250184133_6289587828734152585_o.jpg
END:VEVENT
BEGIN:VEVENT
DTSTART;TZID=America/New_York:20170811T100000
DTEND;TZID=America/New_York:20170811T110000
DTSTAMP:20260425T225036
CREATED:20170723T194655Z
LAST-MODIFIED:20170723T194655Z
UID:2211-1502445600-1502449200@brucesgarden.net
SUMMARY:Preschool on the Planet
DESCRIPTION:Join Nina for wonderfully stimulating educational activities (aged 1 – 5) in Inwood’s natural community center.
URL:https://brucesgarden.net/event/preschool-on-the-planet-69/
LOCATION:Bruce’s Garden\, 11 Park Ter. E.\, New York\, NY\, 10034\, United States
ATTACH;FMTTYPE=image/jpeg:https://brucesgarden.net/wp-content/uploads/2016/10/14601096_10153683187471377_6629083471588793266_n-e1506806337993.jpg
END:VEVENT
BEGIN:VEVENT
DTSTART;TZID=America/New_York:20170805T120000
DTEND;TZID=America/New_York:20170805T140000
DTSTAMP:20260425T225036
CREATED:20170723T201411Z
LAST-MODIFIED:20170723T201515Z
UID:2225-1501934400-1501941600@brucesgarden.net
SUMMARY:Gallery In The Gazebo
DESCRIPTION:Opening Reception for Prairie Daze: Manhattan Daze
URL:https://brucesgarden.net/event/gallery-in-the-gazebo-2/
LOCATION:Bruce’s Garden\, 11 Park Ter. E.\, New York\, NY\, 10034\, United States
ATTACH;FMTTYPE=image/jpeg:https://brucesgarden.net/wp-content/uploads/2017/07/Prairie-Daze-Manhattan-Gaze-.jpg
END:VEVENT
BEGIN:VEVENT
DTSTART;TZID=America/New_York:20170805T120000
DTEND;TZID=America/New_York:20170805T140000
DTSTAMP:20260425T225036
CREATED:20170723T200636Z
LAST-MODIFIED:20170723T200636Z
UID:2217-1501934400-1501941600@brucesgarden.net
SUMMARY:Saturday Noon Potluck
DESCRIPTION:Join hostess Nadema for exciting collaborations of varied culinary treats offered by neighbors near and far.  You’ll never know what you’ll eat or who you’ll meet! See you soon…
URL:https://brucesgarden.net/event/saturday-noon-potluck-10/
LOCATION:Bruce’s Garden\, 11 Park Ter. E.\, New York\, NY\, 10034\, United States
ATTACH;FMTTYPE=image/jpeg:https://brucesgarden.net/wp-content/uploads/2017/04/18121533_10155274250184133_6289587828734152585_o.jpg
END:VEVENT
BEGIN:VEVENT
DTSTART;TZID=America/New_York:20170804T100000
DTEND;TZID=America/New_York:20170804T110000
DTSTAMP:20260425T225036
CREATED:20170723T194510Z
LAST-MODIFIED:20170723T194510Z
UID:2209-1501840800-1501844400@brucesgarden.net
SUMMARY:Preschool on the Planet
DESCRIPTION:Join Nina for wonderfully stimulating educational activities (aged 1 – 5) in Inwood’s natural community center.
URL:https://brucesgarden.net/event/preschool-on-the-planet-68/
LOCATION:Bruce’s Garden\, 11 Park Ter. E.\, New York\, NY\, 10034\, United States
ATTACH;FMTTYPE=image/jpeg:https://brucesgarden.net/wp-content/uploads/2016/10/14601096_10153683187471377_6629083471588793266_n-e1506806337993.jpg
END:VEVENT
BEGIN:VEVENT
DTSTART;TZID=America/New_York:20170803T150000
DTEND;TZID=America/New_York:20170803T160000
DTSTAMP:20260425T225036
CREATED:20170626T001040Z
LAST-MODIFIED:20170626T001040Z
UID:2176-1501772400-1501776000@brucesgarden.net
SUMMARY:Literacy Inc.
DESCRIPTION:Come join our pilot program\, funded in part by Partnership For Parks\, created to delight children aged 5 – 10. \nSee you there!
URL:https://brucesgarden.net/event/literacy-inc-5/
LOCATION:Bruce’s Garden\, 11 Park Ter. E.\, New York\, NY\, 10034\, United States
ATTACH;FMTTYPE=image/png:https://brucesgarden.net/wp-content/uploads/2017/06/LINC-Logo.png
END:VEVENT
BEGIN:VEVENT
DTSTART;VALUE=DATE:20170801
DTEND;VALUE=DATE:20170802
DTSTAMP:20260425T225036
CREATED:20170723T201943Z
LAST-MODIFIED:20170723T201943Z
UID:2231-1501545600-1501631999@brucesgarden.net
SUMMARY:Gallery In The Gazebo
DESCRIPTION:Opening Reception for Prairie Daze: Manhattan Daze
URL:https://brucesgarden.net/event/gallery-in-the-gazebo-4/
LOCATION:Bruce’s Garden\, 11 Park Ter. E.\, New York\, NY\, 10034\, United States
ATTACH;FMTTYPE=image/jpeg:https://brucesgarden.net/wp-content/uploads/2017/07/Prairie-Daze-Manhattan-Gaze-.jpg
END:VEVENT
BEGIN:VEVENT
DTSTART;TZID=America/New_York:20170730T170000
DTEND;TZID=America/New_York:20170730T190000
DTSTAMP:20260425T225036
CREATED:20170626T185515Z
LAST-MODIFIED:20170626T185624Z
UID:2202-1501434000-1501441200@brucesgarden.net
SUMMARY:Listen Closely Concert
DESCRIPTION:Listen Closely returns to Bruce’s Garden. \nJoin us! for an evening of magical music performed by Inwood’s own classical chamber ensemble.
URL:https://brucesgarden.net/event/listen-closely-concert/
LOCATION:Bruce’s Garden\, 11 Park Ter. E.\, New York\, NY\, 10034\, United States
ATTACH;FMTTYPE=image/png:https://brucesgarden.net/wp-content/uploads/2015/09/Listeb-Closely-Logo-2015.png
END:VEVENT
BEGIN:VEVENT
DTSTART;VALUE=DATE:20170730
DTEND;VALUE=DATE:20170731
DTSTAMP:20260425T225036
CREATED:20170626T190112Z
LAST-MODIFIED:20170626T190153Z
UID:2205-1501372800-1501459199@brucesgarden.net
SUMMARY:Inwood's 1st Children's Art Show • Gallery In The Gazebo • Closing
DESCRIPTION:Our 1st Children’s Art Show presented by Gallery in the Gazebo will close today. Thanks to you\, it was a remarkable success!
URL:https://brucesgarden.net/event/inwoods-1st-childrens-art-show-%e2%80%a2-gallery-in-the-gazebo-%e2%80%a2-closing/
LOCATION:Bruce’s Garden\, 11 Park Ter. E.\, New York\, NY\, 10034\, United States
ATTACH;FMTTYPE=image/jpeg:https://brucesgarden.net/wp-content/uploads/2017/04/We-Are-One-Human-Family-•-Gazebo-517.jpg
END:VEVENT
BEGIN:VEVENT
DTSTART;TZID=America/New_York:20170729T120000
DTEND;TZID=America/New_York:20170729T140000
DTSTAMP:20260425T225036
CREATED:20170625T215104Z
LAST-MODIFIED:20170625T215104Z
UID:2148-1501329600-1501336800@brucesgarden.net
SUMMARY:Saturday Noon Potluck
DESCRIPTION:Join hostess Nadema for exciting collaborations of varied culinary treats offered by neighbors near and far.  You’ll never know what you’ll eat or who you’ll meet!  \nSee you soon…
URL:https://brucesgarden.net/event/saturday-noon-potluck-9/
LOCATION:Bruce’s Garden\, 11 Park Ter. E.\, New York\, NY\, 10034\, United States
ATTACH;FMTTYPE=image/jpeg:https://brucesgarden.net/wp-content/uploads/2017/04/18121533_10155274250184133_6289587828734152585_o.jpg
END:VEVENT
BEGIN:VEVENT
DTSTART;TZID=America/New_York:20170728T100000
DTEND;TZID=America/New_York:20170728T110000
DTSTAMP:20260425T225036
CREATED:20170625T232533Z
LAST-MODIFIED:20170625T232533Z
UID:2164-1501236000-1501239600@brucesgarden.net
SUMMARY:Preschool on the Planet
DESCRIPTION:Join Nina for wonderfully stimulating educational activities (aged 1 – 5) in Inwood’s natural community center.
URL:https://brucesgarden.net/event/preschool-on-the-planet-67/
LOCATION:Bruce’s Garden\, 11 Park Ter. E.\, New York\, NY\, 10034\, United States
ATTACH;FMTTYPE=image/jpeg:https://brucesgarden.net/wp-content/uploads/2016/10/14641905_10153683187531377_4453781826490564606_n.jpg
END:VEVENT
BEGIN:VEVENT
DTSTART;TZID=America/New_York:20170727T150000
DTEND;TZID=America/New_York:20170727T160000
DTSTAMP:20260425T225036
CREATED:20170626T000944Z
LAST-MODIFIED:20170626T000944Z
UID:2174-1501167600-1501171200@brucesgarden.net
SUMMARY:Literacy Inc.
DESCRIPTION:Come join our pilot program\, funded in part by Partnership For Parks\, created to delight children aged 5 – 10. \nSee you there!
URL:https://brucesgarden.net/event/literacy-inc-4/
LOCATION:Bruce’s Garden\, 11 Park Ter. E.\, New York\, NY\, 10034\, United States
ATTACH;FMTTYPE=image/png:https://brucesgarden.net/wp-content/uploads/2017/06/LINC-Logo.png
END:VEVENT
BEGIN:VEVENT
DTSTART;TZID=America/New_York:20170726T183000
DTEND;TZID=America/New_York:20170726T203000
DTSTAMP:20260425T225036
CREATED:20170626T001550Z
LAST-MODIFIED:20170723T204632Z
UID:2178-1501093800-1501101000@brucesgarden.net
SUMMARY:Midweek Literary Reading Series
DESCRIPTION:Bruce’s Garden welcomes back Geoffrey Wisner who will read Thoreau! Happy 200th Birthday Henry David Thoreau!
URL:https://brucesgarden.net/event/midweek-literary-reading-series-9/
LOCATION:Bruce’s Garden\, 11 Park Ter. E.\, New York\, NY\, 10034\, United States
ATTACH;FMTTYPE=image/jpeg:https://brucesgarden.net/wp-content/uploads/2017/07/Thoreaus_Animals_Bruces_Garden.jpg
END:VEVENT
BEGIN:VEVENT
DTSTART;VALUE=DATE:20170723
DTEND;VALUE=DATE:20170724
DTSTAMP:20260425T225036
CREATED:20170723T201725Z
LAST-MODIFIED:20170723T201725Z
UID:2229-1500768000-1500854399@brucesgarden.net
SUMMARY:Gallery In The Gazebo
DESCRIPTION:Opening for Prairie Daze: Manhattan Daze
URL:https://brucesgarden.net/event/gallery-in-the-gazebo-3/
LOCATION:Bruce’s Garden\, 11 Park Ter. E.\, New York\, NY\, 10034\, United States
ATTACH;FMTTYPE=image/jpeg:https://brucesgarden.net/wp-content/uploads/2017/07/Prairie-Daze-Manhattan-Gaze-.jpg
END:VEVENT
BEGIN:VEVENT
DTSTART;TZID=America/New_York:20170722T170000
DTEND;TZID=America/New_York:20170722T183000
DTSTAMP:20260425T225036
CREATED:20170625T231952Z
LAST-MODIFIED:20170625T231952Z
UID:2155-1500742800-1500748200@brucesgarden.net
SUMMARY:Annette A. Aguilar & String Beans Quartet
DESCRIPTION:The Aguilar String Beans finally grace Bruce’s Garden! Get ready for an evening of Musica Caliente!
URL:https://brucesgarden.net/event/annette-a-aguilar-string-beans-quartet/
LOCATION:Bruce’s Garden\, 11 Park Ter. E.\, New York\, NY\, 10034\, United States
ATTACH;FMTTYPE=image/jpeg:https://brucesgarden.net/wp-content/uploads/2017/06/Anettte_Aguilar_smz2CB40C.jpg
END:VEVENT
BEGIN:VEVENT
DTSTART;TZID=America/New_York:20170722T120000
DTEND;TZID=America/New_York:20170722T140000
DTSTAMP:20260425T225036
CREATED:20170625T215017Z
LAST-MODIFIED:20170625T215017Z
UID:2146-1500724800-1500732000@brucesgarden.net
SUMMARY:Saturday Noon Potluck
DESCRIPTION:Join hostess Nadema for exciting collaborations of varied culinary treats offered by neighbors near and far.  You’ll never know what you’ll eat or who you’ll meet!  \nSee you soon…
URL:https://brucesgarden.net/event/saturday-noon-potluck-8/
LOCATION:Bruce’s Garden\, 11 Park Ter. E.\, New York\, NY\, 10034\, United States
ATTACH;FMTTYPE=image/jpeg:https://brucesgarden.net/wp-content/uploads/2017/04/18121533_10155274250184133_6289587828734152585_o.jpg
END:VEVENT
BEGIN:VEVENT
DTSTART;TZID=America/New_York:20170721T100000
DTEND;TZID=America/New_York:20170721T110000
DTSTAMP:20260425T225036
CREATED:20170625T232442Z
LAST-MODIFIED:20170625T232442Z
UID:2162-1500631200-1500634800@brucesgarden.net
SUMMARY:Preschool on the Planet
DESCRIPTION:Join Nina for wonderfully stimulating educational activities (aged 1 – 5) in Inwood’s natural community center.
URL:https://brucesgarden.net/event/preschool-on-the-planet-66/
LOCATION:Bruce’s Garden\, 11 Park Ter. E.\, New York\, NY\, 10034\, United States
ATTACH;FMTTYPE=image/jpeg:https://brucesgarden.net/wp-content/uploads/2016/10/14641905_10153683187531377_4453781826490564606_n.jpg
END:VEVENT
BEGIN:VEVENT
DTSTART;TZID=America/New_York:20170720T150000
DTEND;TZID=America/New_York:20170720T160000
DTSTAMP:20260425T225036
CREATED:20170626T000652Z
LAST-MODIFIED:20170626T000652Z
UID:2170-1500562800-1500566400@brucesgarden.net
SUMMARY:Literacy Inc.
DESCRIPTION:Come join our pilot program\, funded in part by Partnership For Parks\, created to delight children aged 5 – 10. \nSee you there!
URL:https://brucesgarden.net/event/literacy-inc-2/
LOCATION:Bruce’s Garden\, 11 Park Ter. E.\, New York\, NY\, 10034\, United States
ATTACH;FMTTYPE=image/png:https://brucesgarden.net/wp-content/uploads/2017/06/LINC-Logo.png
END:VEVENT
BEGIN:VEVENT
DTSTART;TZID=America/New_York:20170716T163000
DTEND;TZID=America/New_York:20170716T183000
DTSTAMP:20260425T225036
CREATED:20170626T184826Z
LAST-MODIFIED:20170626T184826Z
UID:2200-1500222600-1500229800@brucesgarden.net
SUMMARY:Dr. Deceiverini Radio Play!
DESCRIPTION:The Best Live Radio Play Performances In Inwood! Who knows. Maybe you’ll be the one who figures out… “Who Done it???!”
URL:https://brucesgarden.net/event/dr-deceiverini-radio-play-6/
LOCATION:Bruce’s Garden\, 11 Park Ter. E.\, New York\, NY\, 10034\, United States
ATTACH;FMTTYPE=image/jpeg:https://brucesgarden.net/wp-content/uploads/2017/05/hqdefault.jpg
END:VEVENT
BEGIN:VEVENT
DTSTART;TZID=America/New_York:20170715T190000
DTEND;TZID=America/New_York:20170715T213000
DTSTAMP:20260425T225036
CREATED:20170625T225856Z
LAST-MODIFIED:20170626T184147Z
UID:2152-1500145200-1500154200@brucesgarden.net
SUMMARY:•The Rubaiyat Of Omar Khayyam•
DESCRIPTION:The Rubaiyat Of Omar Khayyam has been recited by Mr. Reynolds more than seventy years. One might call it\, his signature piece. \nWe’ve grown to know him as a father\, visionary\, patriarch\, trailblazer\, soliloquist\, role model\, educator… friend. Not to mention the family’s intense drive to preserve and restore Isham Park – a determination which persisted\, through Mr. Reynolds’ efforts\, for a span of fifty years. More noteable is the legacy of Bruce’s Garden\, our neighborhood oasis. \nMost have forgotten the impact the Reynolds family has had these past fifty years or why Isham Park looks the way it does today. Things pass. Histories are rewritten… \nOn this day\, we celebrate Mr. Renyolds as he recites a most noted work of art\, The Rubaiyat. Help us celebrate our Honored Neighbor & Friend. \nThe stage will be set!\nAn atmosphere\, created!\nSenses\, aroused!\nJoin us! \n• Stage Design – Diane Schenker\n• Musical Accompaniment – Daniel Yousef Tehrani\n• Belly Dancing – Amy Stoyko \nYou won’t be disappointed! \nSPECIAL THANKS TO:\n• NYC Department of Parks\n• Open Space Institute – Fiscal Sponsor\n• CHOCnyc\n• Inwood Gourmet\n• Team Bruce’s Garden Members\n• The Community of Inwood\n• …& You! Thank You! For Your Support \n 
URL:https://brucesgarden.net/event/%e2%80%a2the-rubaiyat-of-omar-khayyam%e2%80%a2/
LOCATION:Bruce’s Garden\, 11 Park Ter. E.\, New York\, NY\, 10034\, United States
ATTACH;FMTTYPE=image/jpeg:https://brucesgarden.net/wp-content/uploads/2017/06/Rubaiyat-Flyer-3.jpg
END:VEVENT
BEGIN:VEVENT
DTSTART;TZID=America/New_York:20170715T120000
DTEND;TZID=America/New_York:20170715T140000
DTSTAMP:20260425T225036
CREATED:20170625T214915Z
LAST-MODIFIED:20170625T214915Z
UID:2144-1500120000-1500127200@brucesgarden.net
SUMMARY:Saturday Noon Potluck
DESCRIPTION:Join hostess Nadema for exciting collaborations of varied culinary treats offered by neighbors near and far.  You’ll never know what you’ll eat or who you’ll meet!  \nSee you soon…
URL:https://brucesgarden.net/event/saturday-noon-potluck-7/
LOCATION:Bruce’s Garden\, 11 Park Ter. E.\, New York\, NY\, 10034\, United States
ATTACH;FMTTYPE=image/jpeg:https://brucesgarden.net/wp-content/uploads/2017/04/18121533_10155274250184133_6289587828734152585_o.jpg
END:VEVENT
BEGIN:VEVENT
DTSTART;TZID=America/New_York:20170714T100000
DTEND;TZID=America/New_York:20170714T110000
DTSTAMP:20260425T225036
CREATED:20170625T232337Z
LAST-MODIFIED:20170625T232337Z
UID:2160-1500026400-1500030000@brucesgarden.net
SUMMARY:Preschool on the Planet
DESCRIPTION:Join Nina for wonderfully stimulating educational activities (aged 1 – 5) in Inwood’s natural community center.
URL:https://brucesgarden.net/event/preschool-on-the-planet-65/
LOCATION:Bruce’s Garden\, 11 Park Ter. E.\, New York\, NY\, 10034\, United States
ATTACH;FMTTYPE=image/jpeg:https://brucesgarden.net/wp-content/uploads/2016/10/14641905_10153683187531377_4453781826490564606_n.jpg
END:VEVENT
END:VCALENDAR