BEGIN:VCALENDAR
VERSION:2.0
PRODID:-//Bruce's Garden - ECPv6.15.20//NONSGML v1.0//EN
CALSCALE:GREGORIAN
METHOD:PUBLISH
X-WR-CALNAME:Bruce's Garden
X-ORIGINAL-URL:https://brucesgarden.net
X-WR-CALDESC:Events for Bruce's Garden
REFRESH-INTERVAL;VALUE=DURATION:PT1H
X-Robots-Tag:noindex
X-PUBLISHED-TTL:PT1H
BEGIN:VTIMEZONE
TZID:America/New_York
BEGIN:DAYLIGHT
TZOFFSETFROM:-0500
TZOFFSETTO:-0400
TZNAME:EDT
DTSTART:20160313T070000
END:DAYLIGHT
BEGIN:STANDARD
TZOFFSETFROM:-0400
TZOFFSETTO:-0500
TZNAME:EST
DTSTART:20161106T060000
END:STANDARD
BEGIN:DAYLIGHT
TZOFFSETFROM:-0500
TZOFFSETTO:-0400
TZNAME:EDT
DTSTART:20170312T070000
END:DAYLIGHT
BEGIN:STANDARD
TZOFFSETFROM:-0400
TZOFFSETTO:-0500
TZNAME:EST
DTSTART:20171105T060000
END:STANDARD
BEGIN:DAYLIGHT
TZOFFSETFROM:-0500
TZOFFSETTO:-0400
TZNAME:EDT
DTSTART:20180311T070000
END:DAYLIGHT
BEGIN:STANDARD
TZOFFSETFROM:-0400
TZOFFSETTO:-0500
TZNAME:EST
DTSTART:20181104T060000
END:STANDARD
END:VTIMEZONE
BEGIN:VEVENT
DTSTART;TZID=America/New_York:20170716T163000
DTEND;TZID=America/New_York:20170716T183000
DTSTAMP:20260425T213720
CREATED:20170626T184826Z
LAST-MODIFIED:20170626T184826Z
UID:2200-1500222600-1500229800@brucesgarden.net
SUMMARY:Dr. Deceiverini Radio Play!
DESCRIPTION:The Best Live Radio Play Performances In Inwood! Who knows. Maybe you’ll be the one who figures out… “Who Done it???!”
URL:https://brucesgarden.net/event/dr-deceiverini-radio-play-6/
LOCATION:Bruce’s Garden\, 11 Park Ter. E.\, New York\, NY\, 10034\, United States
ATTACH;FMTTYPE=image/jpeg:https://brucesgarden.net/wp-content/uploads/2017/05/hqdefault.jpg
END:VEVENT
BEGIN:VEVENT
DTSTART;TZID=America/New_York:20170715T190000
DTEND;TZID=America/New_York:20170715T213000
DTSTAMP:20260425T213720
CREATED:20170625T225856Z
LAST-MODIFIED:20170626T184147Z
UID:2152-1500145200-1500154200@brucesgarden.net
SUMMARY:•The Rubaiyat Of Omar Khayyam•
DESCRIPTION:The Rubaiyat Of Omar Khayyam has been recited by Mr. Reynolds more than seventy years. One might call it\, his signature piece. \nWe’ve grown to know him as a father\, visionary\, patriarch\, trailblazer\, soliloquist\, role model\, educator… friend. Not to mention the family’s intense drive to preserve and restore Isham Park – a determination which persisted\, through Mr. Reynolds’ efforts\, for a span of fifty years. More noteable is the legacy of Bruce’s Garden\, our neighborhood oasis. \nMost have forgotten the impact the Reynolds family has had these past fifty years or why Isham Park looks the way it does today. Things pass. Histories are rewritten… \nOn this day\, we celebrate Mr. Renyolds as he recites a most noted work of art\, The Rubaiyat. Help us celebrate our Honored Neighbor & Friend. \nThe stage will be set!\nAn atmosphere\, created!\nSenses\, aroused!\nJoin us! \n• Stage Design – Diane Schenker\n• Musical Accompaniment – Daniel Yousef Tehrani\n• Belly Dancing – Amy Stoyko \nYou won’t be disappointed! \nSPECIAL THANKS TO:\n• NYC Department of Parks\n• Open Space Institute – Fiscal Sponsor\n• CHOCnyc\n• Inwood Gourmet\n• Team Bruce’s Garden Members\n• The Community of Inwood\n• …& You! Thank You! For Your Support \n 
URL:https://brucesgarden.net/event/%e2%80%a2the-rubaiyat-of-omar-khayyam%e2%80%a2/
LOCATION:Bruce’s Garden\, 11 Park Ter. E.\, New York\, NY\, 10034\, United States
ATTACH;FMTTYPE=image/jpeg:https://brucesgarden.net/wp-content/uploads/2017/06/Rubaiyat-Flyer-3.jpg
END:VEVENT
BEGIN:VEVENT
DTSTART;TZID=America/New_York:20170715T120000
DTEND;TZID=America/New_York:20170715T140000
DTSTAMP:20260425T213720
CREATED:20170625T214915Z
LAST-MODIFIED:20170625T214915Z
UID:2144-1500120000-1500127200@brucesgarden.net
SUMMARY:Saturday Noon Potluck
DESCRIPTION:Join hostess Nadema for exciting collaborations of varied culinary treats offered by neighbors near and far.  You’ll never know what you’ll eat or who you’ll meet!  \nSee you soon…
URL:https://brucesgarden.net/event/saturday-noon-potluck-7/
LOCATION:Bruce’s Garden\, 11 Park Ter. E.\, New York\, NY\, 10034\, United States
ATTACH;FMTTYPE=image/jpeg:https://brucesgarden.net/wp-content/uploads/2017/04/18121533_10155274250184133_6289587828734152585_o.jpg
END:VEVENT
BEGIN:VEVENT
DTSTART;TZID=America/New_York:20170714T100000
DTEND;TZID=America/New_York:20170714T110000
DTSTAMP:20260425T213720
CREATED:20170625T232337Z
LAST-MODIFIED:20170625T232337Z
UID:2160-1500026400-1500030000@brucesgarden.net
SUMMARY:Preschool on the Planet
DESCRIPTION:Join Nina for wonderfully stimulating educational activities (aged 1 – 5) in Inwood’s natural community center.
URL:https://brucesgarden.net/event/preschool-on-the-planet-65/
LOCATION:Bruce’s Garden\, 11 Park Ter. E.\, New York\, NY\, 10034\, United States
ATTACH;FMTTYPE=image/jpeg:https://brucesgarden.net/wp-content/uploads/2016/10/14641905_10153683187531377_4453781826490564606_n.jpg
END:VEVENT
BEGIN:VEVENT
DTSTART;TZID=America/New_York:20170713T150000
DTEND;TZID=America/New_York:20170713T160000
DTSTAMP:20260425T213720
CREATED:20170626T000500Z
LAST-MODIFIED:20170626T000500Z
UID:2167-1499958000-1499961600@brucesgarden.net
SUMMARY:Literacy Inc.
DESCRIPTION:Come join our pilot program\, funded in part by Partnership For Parks\, created to delight children aged 5 – 10. \nSee you there!
URL:https://brucesgarden.net/event/literacy-inc/
LOCATION:Bruce’s Garden\, 11 Park Ter. E.\, New York\, NY\, 10034\, United States
ATTACH;FMTTYPE=image/png:https://brucesgarden.net/wp-content/uploads/2017/06/LINC-Logo.png
END:VEVENT
BEGIN:VEVENT
DTSTART;TZID=America/New_York:20170708T120000
DTEND;TZID=America/New_York:20170708T140000
DTSTAMP:20260425T213720
CREATED:20170625T214737Z
LAST-MODIFIED:20170625T215253Z
UID:2142-1499515200-1499522400@brucesgarden.net
SUMMARY:Saturday Noon Potluck
DESCRIPTION:Join hostess Nadema for exciting collaborations of varied culinary treats offered by neighbors near and far.  You’ll never know what you’ll eat or who you’ll meet! \n\nSee you soon…
URL:https://brucesgarden.net/event/saturday-noon-potluck-6/
LOCATION:Bruce’s Garden\, 11 Park Ter. E.\, New York\, NY\, 10034\, United States
ATTACH;FMTTYPE=image/jpeg:https://brucesgarden.net/wp-content/uploads/2017/04/18121533_10155274250184133_6289587828734152585_o.jpg
END:VEVENT
BEGIN:VEVENT
DTSTART;TZID=America/New_York:20170707T100000
DTEND;TZID=America/New_York:20170707T110000
DTSTAMP:20260425T213720
CREATED:20170625T232220Z
LAST-MODIFIED:20170625T232220Z
UID:2158-1499421600-1499425200@brucesgarden.net
SUMMARY:Preschool on the Planet
DESCRIPTION:Join Nina for wonderfully stimulating educational activities (aged 1 – 5) in Inwood’s natural community center.
URL:https://brucesgarden.net/event/preschool-on-the-planet-64/
LOCATION:Bruce’s Garden\, 11 Park Ter. E.\, New York\, NY\, 10034\, United States
ATTACH;FMTTYPE=image/jpeg:https://brucesgarden.net/wp-content/uploads/2016/10/14641905_10153683187531377_4453781826490564606_n.jpg
END:VEVENT
BEGIN:VEVENT
DTSTART;TZID=America/New_York:20170701T120000
DTEND;TZID=America/New_York:20170701T140000
DTSTAMP:20260425T213720
CREATED:20170625T214553Z
LAST-MODIFIED:20170625T215219Z
UID:2140-1498910400-1498917600@brucesgarden.net
SUMMARY:Saturday Noon Potluck
DESCRIPTION:Join hostess Nadema for exciting collaborations of varied culinary treats offered by neighbors near and far.  You’ll never know what you’ll eat or who you’ll meet! \n\nSee you soon…
URL:https://brucesgarden.net/event/saturday-noon-potluck-5/
LOCATION:Bruce’s Garden\, 11 Park Ter. E.\, New York\, NY\, 10034\, United States
ATTACH;FMTTYPE=image/jpeg:https://brucesgarden.net/wp-content/uploads/2017/04/18121533_10155274250184133_6289587828734152585_o.jpg
END:VEVENT
BEGIN:VEVENT
DTSTART;TZID=America/New_York:20170630T100000
DTEND;TZID=America/New_York:20170630T110000
DTSTAMP:20260425T213720
CREATED:20170605T223559Z
LAST-MODIFIED:20170605T223559Z
UID:2075-1498816800-1498820400@brucesgarden.net
SUMMARY:Preschool on the Planet
DESCRIPTION:Join Nina for wonderfully stimulating educational activities (aged 1 – 5) in Inwood’s natural community center.
URL:https://brucesgarden.net/event/preschool-on-the-planet-63/
LOCATION:Bruce’s Garden\, 11 Park Ter. E.\, New York\, NY\, 10034\, United States
ATTACH;FMTTYPE=image/jpeg:https://brucesgarden.net/wp-content/uploads/2016/10/14601096_10153683187471377_6629083471588793266_n-e1506806337993.jpg
END:VEVENT
BEGIN:VEVENT
DTSTART;VALUE=DATE:20170630
DTEND;VALUE=DATE:20170701
DTSTAMP:20260425T213720
CREATED:20170605T230221Z
LAST-MODIFIED:20170612T232251Z
UID:2091-1498780800-1498867199@brucesgarden.net
SUMMARY:Gallery in the Gazebo • We Are All One Family - EXTENDED through July 31st
DESCRIPTION:Thank You! for your support
URL:https://brucesgarden.net/event/gallery-in-the-gazebo-closing-%e2%80%a2-1st-childrens-art-show/
LOCATION:Bruce’s Garden\, 11 Park Ter. E.\, New York\, NY\, 10034\, United States
ATTACH;FMTTYPE=image/jpeg:https://brucesgarden.net/wp-content/uploads/2017/04/We-Are-One-Human-Family-•-Gazebo-517.jpg
END:VEVENT
BEGIN:VEVENT
DTSTART;TZID=America/New_York:20170625T130000
DTEND;TZID=America/New_York:20170625T150000
DTSTAMP:20260425T213720
CREATED:20170605T233038Z
LAST-MODIFIED:20170612T232727Z
UID:2105-1498395600-1498402800@brucesgarden.net
SUMMARY:Watercolor Workshop with Elissa Gore
DESCRIPTION:A rare\, one on one watercolor workshop with Inwood’s own Elissa Gore. \n\nLimited to 10 adults\n$20 fee\nFor more information contact: elissa.gore@gmail.com
URL:https://brucesgarden.net/event/watercolor-workshop-with-elissa-gore-%e2%80%a2-10-adult-limit-%e2%80%a2-20-00-fee/
LOCATION:Bruce’s Garden\, 11 Park Ter. E.\, New York\, NY\, 10034\, United States
ATTACH;FMTTYPE=image/jpeg:https://brucesgarden.net/wp-content/uploads/2017/06/image2-2.jpeg
END:VEVENT
BEGIN:VEVENT
DTSTART;TZID=America/New_York:20170624T120000
DTEND;TZID=America/New_York:20170624T120000
DTSTAMP:20260425T213720
CREATED:20170605T224255Z
LAST-MODIFIED:20170605T224255Z
UID:2083-1498305600-1498305600@brucesgarden.net
SUMMARY:Saturday Noon Potluck
DESCRIPTION:Join hostess Nadema for exciting collaborations of varied culinary treats offered by neighbors near and far.  You’ll never know what you’ll eat or who you’ll meet!  \nSee you soon…
URL:https://brucesgarden.net/event/saturday-noon-potluck-4/
LOCATION:Bruce’s Garden\, 11 Park Ter. E.\, New York\, NY\, 10034\, United States
ATTACH;FMTTYPE=image/jpeg:https://brucesgarden.net/wp-content/uploads/2017/04/18121533_10155274250184133_6289587828734152585_o.jpg
END:VEVENT
BEGIN:VEVENT
DTSTART;TZID=America/New_York:20170623T100000
DTEND;TZID=America/New_York:20170623T110000
DTSTAMP:20260425T213720
CREATED:20170605T223436Z
LAST-MODIFIED:20170605T223436Z
UID:2073-1498212000-1498215600@brucesgarden.net
SUMMARY:Preschool on the Planet
DESCRIPTION:Join Nina for wonderfully stimulating educational activities (aged 1 – 5) in Inwood’s natural community center.
URL:https://brucesgarden.net/event/preschool-on-the-planet-62/
LOCATION:Bruce’s Garden\, 11 Park Ter. E.\, New York\, NY\, 10034\, United States
ATTACH;FMTTYPE=image/jpeg:https://brucesgarden.net/wp-content/uploads/2016/10/14601096_10153683187471377_6629083471588793266_n-e1506806337993.jpg
END:VEVENT
BEGIN:VEVENT
DTSTART;TZID=America/New_York:20170621T180000
DTEND;TZID=America/New_York:20170621T200000
DTSTAMP:20260425T213720
CREATED:20170605T230808Z
LAST-MODIFIED:20170605T230808Z
UID:2095-1498068000-1498075200@brucesgarden.net
SUMMARY:Our Summer Solstice Fundraiser • A Taste Of Inwood
DESCRIPTION:Join us for Our Second Summer Solstice Fundraiser featuring several of Inwood’s finer eateries and businesses:\n• Indian Road Cafe\n• CHOCnyc\n• Inwood Gourmet\n• Park Terrace Deli\n• C-Town\n• Vine & Beans… \nSuggested donation $20.00 \nThere will be specialty dishes which include ingredients from the garden\, as well as delicious offerings from fellow neighbors like yourself. \n\nIf you would like to contribute a dish or dessert\, kindly make your intentions known in the form of a comment. Be sure to include your email address. \nWhen offering food items please be mindful of those with allergies. \nThe Father & Founder of the garden\, Mr. Reynolds\, will also be honored. \nSee You There!!
URL:https://brucesgarden.net/event/our-summer-solstice-fundraiser-%e2%80%a2-a-taste-of-inwood/
LOCATION:Bruce’s Garden\, 11 Park Ter. E.\, New York\, NY\, 10034\, United States
ATTACH;FMTTYPE=image/jpeg:https://brucesgarden.net/wp-content/uploads/2017/06/Yellow-Daffodil-Orange-Center-TOInwood-2.jpeg
END:VEVENT
BEGIN:VEVENT
DTSTART;TZID=America/New_York:20170618T163000
DTEND;TZID=America/New_York:20170618T183000
DTSTAMP:20260425T213720
CREATED:20170605T231811Z
LAST-MODIFIED:20170612T232020Z
UID:2103-1497803400-1497810600@brucesgarden.net
SUMMARY:Dr. Deceiverini Radio Play!
DESCRIPTION:The Best Live Radio Play Performances In Inwood! Who knows. Maybe you’ll be the one who figures out… “Who Done it???!”
URL:https://brucesgarden.net/event/dr-deceiverini-radio-play-5/
LOCATION:Bruce’s Garden\, 11 Park Ter. E.\, New York\, NY\, 10034\, United States
ATTACH;FMTTYPE=image/jpeg:https://brucesgarden.net/wp-content/uploads/2017/06/Dr.-Deceiverini-Flyer-June-2017.jpg
END:VEVENT
BEGIN:VEVENT
DTSTART;TZID=America/New_York:20170617T180000
DTEND;TZID=America/New_York:20170617T193000
DTSTAMP:20260425T213720
CREATED:20170605T225706Z
LAST-MODIFIED:20170605T225706Z
UID:2088-1497722400-1497727800@brucesgarden.net
SUMMARY:East Winds Ensemble
DESCRIPTION:?The East Winds Ensemble\, comprised of Japanese instruments Shakuhachi and Koto\, blend magically in the perfect natural setting of Bruce’s Garden. \nA Must See..
URL:https://brucesgarden.net/event/east-winds-ensemble-3/
LOCATION:Bruce’s Garden\, 11 Park Ter. E.\, New York\, NY\, 10034\, United States
ATTACH;FMTTYPE=image/jpeg:https://brucesgarden.net/wp-content/uploads/2017/06/images-15.jpeg
END:VEVENT
BEGIN:VEVENT
DTSTART;TZID=America/New_York:20170617T120000
DTEND;TZID=America/New_York:20170617T120000
DTSTAMP:20260425T213720
CREATED:20170605T224157Z
LAST-MODIFIED:20170605T224157Z
UID:2081-1497700800-1497700800@brucesgarden.net
SUMMARY:Saturday Noon Potluck
DESCRIPTION:Join hostess Nadema for exciting collaborations of varied culinary treats offered by neighbors near and far.  You’ll never know what you’ll eat or who you’ll meet!  \nSee you soon…
URL:https://brucesgarden.net/event/saturday-noon-potluck-3/
LOCATION:Bruce’s Garden\, 11 Park Ter. E.\, New York\, NY\, 10034\, United States
ATTACH;FMTTYPE=image/jpeg:https://brucesgarden.net/wp-content/uploads/2017/04/18121533_10155274250184133_6289587828734152585_o.jpg
END:VEVENT
BEGIN:VEVENT
DTSTART;TZID=America/New_York:20170616T100000
DTEND;TZID=America/New_York:20170616T110000
DTSTAMP:20260425T213720
CREATED:20170605T223342Z
LAST-MODIFIED:20170605T223342Z
UID:2071-1497607200-1497610800@brucesgarden.net
SUMMARY:Preschool on the Planet
DESCRIPTION:Join Nina for wonderfully stimulating educational activities (aged 1 – 5) in Inwood’s natural community center.
URL:https://brucesgarden.net/event/preschool-on-the-planet-61/
LOCATION:Bruce’s Garden\, 11 Park Ter. E.\, New York\, NY\, 10034\, United States
ATTACH;FMTTYPE=image/jpeg:https://brucesgarden.net/wp-content/uploads/2016/10/14601096_10153683187471377_6629083471588793266_n-e1506806337993.jpg
END:VEVENT
BEGIN:VEVENT
DTSTART;TZID=America/New_York:20170614T183000
DTEND;TZID=America/New_York:20170614T203000
DTSTAMP:20260425T213720
CREATED:20170605T231118Z
LAST-MODIFIED:20170612T232938Z
UID:2099-1497465000-1497472200@brucesgarden.net
SUMMARY:Midweek Literary Reading Series
DESCRIPTION:
URL:https://brucesgarden.net/event/midweek-literary-reading-series-8/
LOCATION:Bruce’s Garden\, 11 Park Ter. E.\, New York\, NY\, 10034\, United States
ATTACH;FMTTYPE=image/jpeg:https://brucesgarden.net/wp-content/uploads/2017/06/geoffery-nutter-sign-aligned.jpg
END:VEVENT
BEGIN:VEVENT
DTSTART;TZID=America/New_York:20170611T180000
DTEND;TZID=America/New_York:20170611T193000
DTSTAMP:20260425T213720
CREATED:20170605T231339Z
LAST-MODIFIED:20170605T231339Z
UID:2101-1497204000-1497209400@brucesgarden.net
SUMMARY:** Rain Date ** Taikoza!
DESCRIPTION:** Taikoza! Rain Date **
URL:https://brucesgarden.net/event/rain-date-taikoza/
LOCATION:Bruce’s Garden\, 11 Park Ter. E.\, New York\, NY\, 10034\, United States
ATTACH;FMTTYPE=image/jpeg:https://brucesgarden.net/wp-content/uploads/2017/06/18814641_10155190229864927_3915880215909363646_o.jpg
END:VEVENT
BEGIN:VEVENT
DTSTART;TZID=America/New_York:20170610T180000
DTEND;TZID=America/New_York:20170610T193000
DTSTAMP:20260425T213720
CREATED:20170605T224836Z
LAST-MODIFIED:20170605T224836Z
UID:2085-1497117600-1497123000@brucesgarden.net
SUMMARY:Taikoza!
DESCRIPTION:Taikoza\, the phenomenal Japanese taiko drum group presents a Japanese summer celebration\, full of colorful and exciting performances. The perfect summer concerts for children of all ages. It will include Japanese Bon Festival Dancing. \n\nSee You There…
URL:https://brucesgarden.net/event/taikoza-2/
LOCATION:Bruce’s Garden\, 11 Park Ter. E.\, New York\, NY\, 10034\, United States
ATTACH;FMTTYPE=image/jpeg:https://brucesgarden.net/wp-content/uploads/2017/06/18814641_10155190229864927_3915880215909363646_o.jpg
END:VEVENT
BEGIN:VEVENT
DTSTART;TZID=America/New_York:20170610T130000
DTEND;TZID=America/New_York:20170610T150000
DTSTAMP:20260425T213720
CREATED:20170508T190353Z
LAST-MODIFIED:20170508T190353Z
UID:2038-1497099600-1497106800@brucesgarden.net
SUMMARY:3D Collage Workshop
DESCRIPTION:3D collage workshop for children with Howard Better \nThis art workshop is planned in conjunction with the current Inwood children’s art exhibition\, We Are All One Human Family. Using balloons\, images or photos on paper and acrylic medium\, children will make 3D collage globes with renown Inwood artist Howard Better.
URL:https://brucesgarden.net/event/3d-collage-workshop/
LOCATION:Bruce’s Garden\, 11 Park Ter. E.\, New York\, NY\, 10034\, United States
ATTACH;FMTTYPE=image/jpeg:https://brucesgarden.net/wp-content/uploads/2017/05/ArtStroll2017-Event-3D-Collage-workshop-for-children-with-Howard-Better-768x768.jpg
END:VEVENT
BEGIN:VEVENT
DTSTART;TZID=America/New_York:20170610T120000
DTEND;TZID=America/New_York:20170610T120000
DTSTAMP:20260425T213720
CREATED:20170605T224051Z
LAST-MODIFIED:20170605T224051Z
UID:2079-1497096000-1497096000@brucesgarden.net
SUMMARY:Saturday Noon Potluck
DESCRIPTION:Join hostess Nadema for exciting collaborations of varied culinary treats offered by neighbors near and far.  You’ll never know what you’ll eat or who you’ll meet!  \nSee you soon…
URL:https://brucesgarden.net/event/saturday-noon-potluck-2/
LOCATION:Bruce’s Garden\, 11 Park Ter. E.\, New York\, NY\, 10034\, United States
ATTACH;FMTTYPE=image/jpeg:https://brucesgarden.net/wp-content/uploads/2017/04/18121533_10155274250184133_6289587828734152585_o.jpg
END:VEVENT
BEGIN:VEVENT
DTSTART;TZID=America/New_York:20170609T100000
DTEND;TZID=America/New_York:20170609T110000
DTSTAMP:20260425T213720
CREATED:20170605T223240Z
LAST-MODIFIED:20170605T223240Z
UID:2069-1497002400-1497006000@brucesgarden.net
SUMMARY:Preschool on the Planet
DESCRIPTION:Join Nina for wonderfully stimulating educational activities (aged 1 – 5) in Inwood’s natural community center.
URL:https://brucesgarden.net/event/preschool-on-the-planet-60/
LOCATION:Bruce’s Garden\, 11 Park Ter. E.\, New York\, NY\, 10034\, United States
ATTACH;FMTTYPE=image/jpeg:https://brucesgarden.net/wp-content/uploads/2016/10/14601096_10153683187471377_6629083471588793266_n-e1506806337993.jpg
END:VEVENT
BEGIN:VEVENT
DTSTART;TZID=America/New_York:20170603T120000
DTEND;TZID=America/New_York:20170603T120000
DTSTAMP:20260425T213720
CREATED:20170605T223930Z
LAST-MODIFIED:20170605T223930Z
UID:2077-1496491200-1496491200@brucesgarden.net
SUMMARY:Saturday Noon Potluck
DESCRIPTION:Join hostess Nadema for exciting collaborations of varied culinary treats offered by neighbors near and far.  You’ll never know what you’ll eat or who you’ll meet!  \nSee you soon…
URL:https://brucesgarden.net/event/saturday-noon-potluck/
LOCATION:Bruce’s Garden\, 11 Park Ter. E.\, New York\, NY\, 10034\, United States
ATTACH;FMTTYPE=image/jpeg:https://brucesgarden.net/wp-content/uploads/2017/04/18121533_10155274250184133_6289587828734152585_o.jpg
END:VEVENT
BEGIN:VEVENT
DTSTART;TZID=America/New_York:20170602T100000
DTEND;TZID=America/New_York:20170602T110000
DTSTAMP:20260425T213720
CREATED:20170605T223120Z
LAST-MODIFIED:20170605T223120Z
UID:2065-1496397600-1496401200@brucesgarden.net
SUMMARY:Preschool on the Planet
DESCRIPTION:Join Nina for wonderfully stimulating educational activities (aged 1 – 5) in Inwood’s natural community center.
URL:https://brucesgarden.net/event/preschool-on-the-planet-59/
LOCATION:Bruce’s Garden\, 11 Park Ter. E.\, New York\, NY\, 10034\, United States
ATTACH;FMTTYPE=image/jpeg:https://brucesgarden.net/wp-content/uploads/2016/10/14601096_10153683187471377_6629083471588793266_n-e1506806337993.jpg
END:VEVENT
BEGIN:VEVENT
DTSTART;TZID=America/New_York:20170527T130000
DTEND;TZID=America/New_York:20170527T150000
DTSTAMP:20260425T213720
CREATED:20170522T224034Z
LAST-MODIFIED:20170522T224034Z
UID:2057-1495890000-1495897200@brucesgarden.net
SUMMARY:Paper Flower Making Workshop
DESCRIPTION:Enjoy an afternoon of fun and serenity.  \nJoin the flower making workshop.  \nFor the young and younger!
URL:https://brucesgarden.net/event/paper-flower-making-workshop/
LOCATION:Bruce’s Garden\, 11 Park Ter. E.\, New York\, NY\, 10034\, United States
ATTACH;FMTTYPE=image/png:https://brucesgarden.net/wp-content/uploads/2017/05/Flowers-of-One-Garden.png
END:VEVENT
BEGIN:VEVENT
DTSTART;TZID=America/New_York:20170527T120000
DTEND;TZID=America/New_York:20170527T140000
DTSTAMP:20260425T213721
CREATED:20170501T213922Z
LAST-MODIFIED:20170501T214019Z
UID:2015-1495886400-1495893600@brucesgarden.net
SUMMARY:Noon Potluck
DESCRIPTION:Join hostess Nadema for exciting collaborations of varied culinary treats offered by neighbors near and far.  You’ll never know what you’ll eat or who you’ll meet!
URL:https://brucesgarden.net/event/noon-potluck-4/
LOCATION:Bruce’s Garden\, 11 Park Ter. E.\, New York\, NY\, 10034\, United States
ATTACH;FMTTYPE=image/jpeg:https://brucesgarden.net/wp-content/uploads/2017/04/18121533_10155274250184133_6289587828734152585_o.jpg
END:VEVENT
BEGIN:VEVENT
DTSTART;TZID=America/New_York:20170526T100000
DTEND;TZID=America/New_York:20170526T110000
DTSTAMP:20260425T213721
CREATED:20170430T184217Z
LAST-MODIFIED:20170430T184217Z
UID:2004-1495792800-1495796400@brucesgarden.net
SUMMARY:Preschool on the Planet
DESCRIPTION:Join Nina for wonderfully stimulating educational activities (aged 1 – 5) in Inwood’s natural community center.
URL:https://brucesgarden.net/event/preschool-on-the-planet-58/
LOCATION:Bruce’s Garden\, 11 Park Ter. E.\, New York\, NY\, 10034\, United States
ATTACH;FMTTYPE=image/jpeg:https://brucesgarden.net/wp-content/uploads/2016/10/14641905_10153683187531377_4453781826490564606_n.jpg
END:VEVENT
BEGIN:VEVENT
DTSTART;TZID=America/New_York:20170524T183000
DTEND;TZID=America/New_York:20170524T200000
DTSTAMP:20260425T213721
CREATED:20170522T221738Z
LAST-MODIFIED:20170522T222002Z
UID:2042-1495650600-1495656000@brucesgarden.net
SUMMARY:Midweek Literary Reading Series
DESCRIPTION:••••••••••••••••••••••••••••••••• \nFor more information please go to his website: \n http://www.jasonhuza.com/ \n•••••••••••••••••••••••••••••••••
URL:https://brucesgarden.net/event/midweek-literary-reading-series-7/
LOCATION:Bruce’s Garden\, 11 Park Ter. E.\, New York\, NY\, 10034\, United States
ATTACH;FMTTYPE=image/jpeg:https://brucesgarden.net/wp-content/uploads/2017/05/Jasons-sign.jpg
END:VEVENT
END:VCALENDAR