BEGIN:VCALENDAR
VERSION:2.0
PRODID:-//Bruce's Garden - ECPv6.15.20//NONSGML v1.0//EN
CALSCALE:GREGORIAN
METHOD:PUBLISH
X-ORIGINAL-URL:https://brucesgarden.net
X-WR-CALDESC:Events for Bruce's Garden
REFRESH-INTERVAL;VALUE=DURATION:PT1H
X-Robots-Tag:noindex
X-PUBLISHED-TTL:PT1H
BEGIN:VTIMEZONE
TZID:America/New_York
BEGIN:DAYLIGHT
TZOFFSETFROM:-0500
TZOFFSETTO:-0400
TZNAME:EDT
DTSTART:20240310T070000
END:DAYLIGHT
BEGIN:STANDARD
TZOFFSETFROM:-0400
TZOFFSETTO:-0500
TZNAME:EST
DTSTART:20241103T060000
END:STANDARD
BEGIN:DAYLIGHT
TZOFFSETFROM:-0500
TZOFFSETTO:-0400
TZNAME:EDT
DTSTART:20250309T070000
END:DAYLIGHT
BEGIN:STANDARD
TZOFFSETFROM:-0400
TZOFFSETTO:-0500
TZNAME:EST
DTSTART:20251102T060000
END:STANDARD
BEGIN:DAYLIGHT
TZOFFSETFROM:-0500
TZOFFSETTO:-0400
TZNAME:EDT
DTSTART:20260308T070000
END:DAYLIGHT
BEGIN:STANDARD
TZOFFSETFROM:-0400
TZOFFSETTO:-0500
TZNAME:EST
DTSTART:20261101T060000
END:STANDARD
END:VTIMEZONE
BEGIN:VEVENT
DTSTART;TZID=America/New_York:20250921T120000
DTEND;TZID=America/New_York:20250921T163000
DTSTAMP:20260420T031052
CREATED:20250901T022149Z
LAST-MODIFIED:20250901T023218Z
UID:5324-1758456000-1758472200@brucesgarden.net
SUMMARY:3rd Annual Inwood Jazz Festival • Main Stage
DESCRIPTION:MAIN STAGE PERFORMANCES\nPat’s Lawn – Inwood Hill Park\n(Corner of W. 218th St. & Indian Road)\n12:00 PM – 12:45 PM\nKevin Nathanial & Spirit\nAfro-Caribbean rhythms meet spiritual jazz in an energetic opening set.\n\n1:00 PM – 1:45 PM\nMelvis Santa & Jazz Orishas\nCuban-rooted jazz with Yoruba soul. A powerful voice and vision.\n\n2:00 PM – 3:00 PM\nAkua Dixon Quartette Indigo\nTrailblazing string ensemble led by jazz cellist-composer-conductor-educator\, Akua Dixon.\n\n3:15 PM – 4:30 PM\nStefon Harris + Blackout\nRenowned composer\, educator and globally acclaimed vibraphonist\, with an impressive track record for jazz education\, delivers a fusion of jazz\, funk\, and soul.\n  \nVisit www.inwoodjazzfestival.com for more information
URL:https://brucesgarden.net/event/3rd-annual-inwood-jazz-festival-main-stage/
LOCATION:Inwood Hill Park
ATTACH;FMTTYPE=image/png:https://brucesgarden.net/wp-content/uploads/2023/08/CZimmerman_IJF_Facebook_Profile_V2-e1691113882959.png
END:VEVENT
BEGIN:VEVENT
DTSTART;TZID=America/New_York:20250921T170000
DTEND;TZID=America/New_York:20250921T190000
DTSTAMP:20260420T031052
CREATED:20250901T023113Z
LAST-MODIFIED:20250901T023113Z
UID:5329-1758474000-1758481200@brucesgarden.net
SUMMARY:3rd Annual Inwood Jazz Festival • After Party & Jam Session
DESCRIPTION:FESTIVAL AFTER-PARTY & JAM SESSION\nInwood Farm Restaurant\n(Corner of W. 218th St. & Indian Road)\n5:00 PM – 7:00 PM\n  \nMelvin “Tiger” Vines Sextet\nHarlem’s legendary jazz trumpeter\, composer\, bandleader\, painter and sculptor of St. Nick’s Pub & Paris Blues fame\, brings fire to the evening groove. Audience participation encouraged! Bring your voice\, horn\, or sticks—everyone’s welcome on the bandstand!\n  \nVisit www.inwoodjazzfestival.com for more information
URL:https://brucesgarden.net/event/3rd-annual-inwood-jazz-festival-after-party-jam-session/
LOCATION:Indian Farm Restaurant\, 600 W. 218th St\, New York\, NY\, 10034\, United States
ATTACH;FMTTYPE=image/png:https://brucesgarden.net/wp-content/uploads/2023/08/CZimmerman_IJF_Facebook_Profile_V2-e1691113882959.png
END:VEVENT
BEGIN:VEVENT
DTSTART;TZID=America/New_York:20250924T180000
DTEND;TZID=America/New_York:20250924T190000
DTSTAMP:20260420T031052
CREATED:20250901T034101Z
LAST-MODIFIED:20250901T034101Z
UID:5349-1758736800-1758740400@brucesgarden.net
SUMMARY:Earth to Yoga X
DESCRIPTION:Join Haydee Ruiz every Wednesday!\nBring your yoga mats. This is an open invitation to breathe\, move and build Community Consciousness.
URL:https://brucesgarden.net/event/earth-to-yoga-x-3/
LOCATION:Bruce’s Garden\, 11 Park Ter. E.\, New York\, NY\, 10034\, United States
ATTACH;FMTTYPE=image/jpeg:https://brucesgarden.net/wp-content/uploads/2025/08/Earth-to-Yoga-Flyer.jpg
END:VEVENT
BEGIN:VEVENT
DTSTART;TZID=America/New_York:20250928T130000
DTEND;TZID=America/New_York:20250928T160000
DTSTAMP:20260420T031052
CREATED:20250901T014307Z
LAST-MODIFIED:20250901T014307Z
UID:5296-1759064400-1759075200@brucesgarden.net
SUMMARY:Sunday Afternoon Potluck 1-4pm• RSVP
DESCRIPTION:Join hostess Nadema Agard for a mouthwatering culinary adventure. You’ll never know who you’ll meet\, greet… or what you’ll eat! To attend please RSVP redearthstudio@aol.com by 8pm Saturday Eve\nBon Appitit!
URL:https://brucesgarden.net/event/sunday-afternoon-potluck-1-4pm-rsvp-39/
LOCATION:Bruce’s Garden\, 11 Park Ter. E.\, New York\, NY\, 10034\, United States
ATTACH;FMTTYPE=image/jpeg:https://brucesgarden.net/wp-content/uploads/2019/05/59157564_10157211739169133_4849514858871259136_o.jpg
END:VEVENT
BEGIN:VEVENT
DTSTART;TZID=America/New_York:20250928T163000
DTEND;TZID=America/New_York:20250928T180000
DTSTAMP:20260420T031052
CREATED:20250901T014559Z
LAST-MODIFIED:20250901T014559Z
UID:5302-1759077000-1759082400@brucesgarden.net
SUMMARY:Quiet Sitting
DESCRIPTION:Enjoy a moment of collective quiet\, rest & relaxation
URL:https://brucesgarden.net/event/quiet-sitting-17/
LOCATION:Bruce’s Garden\, 11 Park Ter. E.\, New York\, NY\, 10034\, United States
ATTACH;FMTTYPE=image/png:https://brucesgarden.net/wp-content/uploads/2025/06/Yoga-Bowls.png
END:VEVENT
BEGIN:VEVENT
DTSTART;TZID=America/New_York:20251001T180000
DTEND;TZID=America/New_York:20251001T190000
DTSTAMP:20260420T031052
CREATED:20251002T002938Z
LAST-MODIFIED:20251002T002938Z
UID:5394-1759341600-1759345200@brucesgarden.net
SUMMARY:Earth to Yoga X
DESCRIPTION:Join Haydee Ruiz every Wednesday!\nBring your yoga mats. This is an open invitation to breathe\, move and build Community Consciousness.
URL:https://brucesgarden.net/event/earth-to-yoga-x-4/
LOCATION:Bruce’s Garden\, 11 Park Ter. E.\, New York\, NY\, 10034\, United States
ATTACH;FMTTYPE=image/jpeg:https://brucesgarden.net/wp-content/uploads/2025/08/Earth-to-Yoga-Flyer.jpg
END:VEVENT
BEGIN:VEVENT
DTSTART;TZID=America/New_York:20251004T100000
DTEND;TZID=America/New_York:20251004T120000
DTSTAMP:20260420T031052
CREATED:20251002T004316Z
LAST-MODIFIED:20251002T004316Z
UID:5405-1759572000-1759579200@brucesgarden.net
SUMMARY:As Lovely As A Tree
DESCRIPTION:
URL:https://brucesgarden.net/event/as-lovely-as-a-tree/
LOCATION:Bruce’s Garden\, 11 Park Ter. E.\, New York\, NY\, 10034\, United States
ATTACH;FMTTYPE=image/jpeg:https://brucesgarden.net/wp-content/uploads/2025/10/IMG_3421.jpg
END:VEVENT
BEGIN:VEVENT
DTSTART;TZID=America/New_York:20251005T163000
DTEND;TZID=America/New_York:20251005T180000
DTSTAMP:20260420T031052
CREATED:20251002T002347Z
LAST-MODIFIED:20251002T002347Z
UID:5386-1759681800-1759687200@brucesgarden.net
SUMMARY:Quiet Sitting
DESCRIPTION:Enjoy a moment of collective quiet\, rest & relaxation
URL:https://brucesgarden.net/event/quiet-sitting-18/
LOCATION:Bruce’s Garden\, 11 Park Ter. E.\, New York\, NY\, 10034\, United States
ATTACH;FMTTYPE=image/png:https://brucesgarden.net/wp-content/uploads/2025/06/Yoga-Bowls.png
END:VEVENT
BEGIN:VEVENT
DTSTART;TZID=America/New_York:20251008T180000
DTEND;TZID=America/New_York:20251008T190000
DTSTAMP:20260420T031052
CREATED:20251002T040110Z
LAST-MODIFIED:20251002T121113Z
UID:5396-1759946400-1759950000@brucesgarden.net
SUMMARY:Earth to Yoga X
DESCRIPTION:Join Haydee Ruiz every Wednesday!\nBring your yoga mats. This is an open invitation to breathe\, move and build Community Consciousness.
URL:https://brucesgarden.net/event/earth-to-yoga-x-5/
LOCATION:Bruce’s Garden\, 11 Park Ter. E.\, New York\, NY\, 10034\, United States
ATTACH;FMTTYPE=image/jpeg:https://brucesgarden.net/wp-content/uploads/2025/08/Earth-to-Yoga-Flyer.jpg
END:VEVENT
BEGIN:VEVENT
DTSTART;TZID=America/New_York:20251012T163000
DTEND;TZID=America/New_York:20251012T180000
DTSTAMP:20260420T031052
CREATED:20251002T040143Z
LAST-MODIFIED:20251002T121131Z
UID:5388-1760286600-1760292000@brucesgarden.net
SUMMARY:Quiet Sitting
DESCRIPTION:Enjoy a moment of collective quiet\, rest & relaxation
URL:https://brucesgarden.net/event/quiet-sitting-19/
LOCATION:Bruce’s Garden\, 11 Park Ter. E.\, New York\, NY\, 10034\, United States
ATTACH;FMTTYPE=image/png:https://brucesgarden.net/wp-content/uploads/2025/06/Yoga-Bowls.png
END:VEVENT
BEGIN:VEVENT
DTSTART;TZID=America/New_York:20251015T180000
DTEND;TZID=America/New_York:20251015T190000
DTSTAMP:20260420T031052
CREATED:20251002T040103Z
LAST-MODIFIED:20251002T121149Z
UID:5398-1760551200-1760554800@brucesgarden.net
SUMMARY:Earth to Yoga X
DESCRIPTION:Join Haydee Ruiz every Wednesday!\nBring your yoga mats. This is an open invitation to breathe\, move and build Community Consciousness.
URL:https://brucesgarden.net/event/earth-to-yoga-x-6/
LOCATION:Bruce’s Garden\, 11 Park Ter. E.\, New York\, NY\, 10034\, United States
ATTACH;FMTTYPE=image/jpeg:https://brucesgarden.net/wp-content/uploads/2025/08/Earth-to-Yoga-Flyer.jpg
END:VEVENT
BEGIN:VEVENT
DTSTART;TZID=America/New_York:20251018T120000
DTEND;TZID=America/New_York:20251018T133000
DTSTAMP:20260420T031052
CREATED:20251002T040123Z
LAST-MODIFIED:20251002T121202Z
UID:5408-1760788800-1760794200@brucesgarden.net
SUMMARY:Tinkerbell
DESCRIPTION:Join the cast of the theatrical company\, Frog & Peaches for their Bruce’s Garden debut performance of “Tinkerbell”. Weather permitting\, bring a blanket\, lawn chair or your favorite resting form\, and enjoy the show!
URL:https://brucesgarden.net/event/tinkerbell/
LOCATION:Bruce’s Garden\, 11 Park Ter. E.\, New York\, NY\, 10034\, United States
ATTACH;FMTTYPE=image/jpeg:https://brucesgarden.net/wp-content/uploads/2025/10/IMG_8386-2.jpeg
END:VEVENT
BEGIN:VEVENT
DTSTART;TZID=America/New_York:20251019T163000
DTEND;TZID=America/New_York:20251019T183000
DTSTAMP:20260420T031052
CREATED:20251002T040131Z
LAST-MODIFIED:20251002T121216Z
UID:5390-1760891400-1760898600@brucesgarden.net
SUMMARY:Quiet Sitting
DESCRIPTION:Enjoy a moment of collective quiet\, rest & relaxation
URL:https://brucesgarden.net/event/quiet-sitting-20/
LOCATION:Bruce’s Garden\, 11 Park Ter. E.\, New York\, NY\, 10034\, United States
ATTACH;FMTTYPE=image/png:https://brucesgarden.net/wp-content/uploads/2025/06/Yoga-Bowls.png
END:VEVENT
BEGIN:VEVENT
DTSTART;TZID=America/New_York:20251022T180000
DTEND;TZID=America/New_York:20251022T190000
DTSTAMP:20260420T031052
CREATED:20251002T040155Z
LAST-MODIFIED:20251002T121226Z
UID:5400-1761156000-1761159600@brucesgarden.net
SUMMARY:Earth to Yoga X
DESCRIPTION:Join Haydee Ruiz every Wednesday!\nBring your yoga mats. This is an open invitation to breathe\, move and build Community Consciousness.
URL:https://brucesgarden.net/event/earth-to-yoga-x-7/
LOCATION:Bruce’s Garden\, 11 Park Ter. E.\, New York\, NY\, 10034\, United States
ATTACH;FMTTYPE=image/jpeg:https://brucesgarden.net/wp-content/uploads/2025/08/Earth-to-Yoga-Flyer.jpg
END:VEVENT
BEGIN:VEVENT
DTSTART;TZID=America/New_York:20251026T163000
DTEND;TZID=America/New_York:20251026T180000
DTSTAMP:20260420T031052
CREATED:20251002T040119Z
LAST-MODIFIED:20251002T121233Z
UID:5392-1761496200-1761501600@brucesgarden.net
SUMMARY:Quiet Sitting
DESCRIPTION:Enjoy a moment of collective quiet\, rest & relaxation
URL:https://brucesgarden.net/event/quiet-sitting-21/
LOCATION:Bruce’s Garden\, 11 Park Ter. E.\, New York\, NY\, 10034\, United States
ATTACH;FMTTYPE=image/png:https://brucesgarden.net/wp-content/uploads/2025/06/Yoga-Bowls.png
END:VEVENT
BEGIN:VEVENT
DTSTART;TZID=America/New_York:20251029T180000
DTEND;TZID=America/New_York:20251029T190000
DTSTAMP:20260420T031052
CREATED:20251002T040154Z
LAST-MODIFIED:20251002T121244Z
UID:5402-1761760800-1761764400@brucesgarden.net
SUMMARY:Earth to Yoga X
DESCRIPTION:Join Haydee Ruiz every Wednesday!\nBring your yoga mats. This is an open invitation to breathe\, move and build Community Consciousness.
URL:https://brucesgarden.net/event/earth-to-yoga-x-8/
LOCATION:Bruce’s Garden\, 11 Park Ter. E.\, New York\, NY\, 10034\, United States
ATTACH;FMTTYPE=image/jpeg:https://brucesgarden.net/wp-content/uploads/2025/08/Earth-to-Yoga-Flyer.jpg
END:VEVENT
BEGIN:VEVENT
DTSTART;TZID=America/New_York:20251102T163000
DTEND;TZID=America/New_York:20251102T170000
DTSTAMP:20260420T031052
CREATED:20251107T011529Z
LAST-MODIFIED:20251107T011529Z
UID:5436-1762101000-1762102800@brucesgarden.net
SUMMARY:Quiet Sitting
DESCRIPTION:Enjoy a moment of collective quiet\, rest & relaxation
URL:https://brucesgarden.net/event/quiet-sitting-22/
LOCATION:Bruce’s Garden\, 11 Park Ter. E.\, New York\, NY\, 10034\, United States
ATTACH;FMTTYPE=image/png:https://brucesgarden.net/wp-content/uploads/2025/06/Yoga-Bowls.png
END:VEVENT
BEGIN:VEVENT
DTSTART;TZID=America/New_York:20251109T163000
DTEND;TZID=America/New_York:20251109T170000
DTSTAMP:20260420T031052
CREATED:20251107T011640Z
LAST-MODIFIED:20251107T011640Z
UID:5438-1762705800-1762707600@brucesgarden.net
SUMMARY:Quiet Sitting
DESCRIPTION:Enjoy a moment of collective quiet\, rest & relaxation
URL:https://brucesgarden.net/event/quiet-sitting-23/
LOCATION:Bruce’s Garden\, 11 Park Ter. E.\, New York\, NY\, 10034\, United States
ATTACH;FMTTYPE=image/png:https://brucesgarden.net/wp-content/uploads/2025/06/Yoga-Bowls.png
END:VEVENT
BEGIN:VEVENT
DTSTART;TZID=America/New_York:20251116T110000
DTEND;TZID=America/New_York:20251116T150000
DTSTAMP:20260420T031052
CREATED:20251107T012757Z
LAST-MODIFIED:20251114T174144Z
UID:5446-1763290800-1763305200@brucesgarden.net
SUMMARY:Holiday Market at Bruce's Garden _THIS SUNDAY!!
DESCRIPTION:Last week it rained… \nJoin us THIS SUNDAY\nLADIES LEMONADE and BRUCE’S GARDEN\nInvite neighbors and friends to a special community art fundraiser supporting the garden’s upkeep and programs.\n\nLocal artisans and craftspeople will share their handmade creations and donate a portion of their proceeds to help keep Bruce’s Garden thriving.\nThis is a nonprofit community event.\nAll participants are volunteering to support the garden’s fundraising efforts.\n\n\nOur sincere thanks to all participants volunteering.
URL:https://brucesgarden.net/event/holiday-market-at-bruces-garden/
LOCATION:Bruce’s Garden\, 11 Park Ter. E.\, New York\, NY\, 10034\, United States
ATTACH;FMTTYPE=image/jpeg:https://brucesgarden.net/wp-content/uploads/2025/11/Holidaymarketflyer3.jpg
END:VEVENT
BEGIN:VEVENT
DTSTART;TZID=America/New_York:20251116T163000
DTEND;TZID=America/New_York:20251116T170000
DTSTAMP:20260420T031052
CREATED:20251107T011736Z
LAST-MODIFIED:20251107T011736Z
UID:5440-1763310600-1763312400@brucesgarden.net
SUMMARY:Quiet Sitting
DESCRIPTION:Enjoy a moment of collective quiet\, rest & relaxation
URL:https://brucesgarden.net/event/quiet-sitting-24/
LOCATION:Bruce’s Garden\, 11 Park Ter. E.\, New York\, NY\, 10034\, United States
ATTACH;FMTTYPE=image/png:https://brucesgarden.net/wp-content/uploads/2025/06/Yoga-Bowls.png
END:VEVENT
BEGIN:VEVENT
DTSTART;TZID=America/New_York:20251123T163000
DTEND;TZID=America/New_York:20251123T170000
DTSTAMP:20260420T031052
CREATED:20251107T011831Z
LAST-MODIFIED:20251107T011831Z
UID:5442-1763915400-1763917200@brucesgarden.net
SUMMARY:Quiet Sitting
DESCRIPTION:Enjoy a moment of collective quiet\, rest & relaxation
URL:https://brucesgarden.net/event/quiet-sitting-25/
LOCATION:Bruce’s Garden\, 11 Park Ter. E.\, New York\, NY\, 10034\, United States
ATTACH;FMTTYPE=image/png:https://brucesgarden.net/wp-content/uploads/2025/06/Yoga-Bowls.png
END:VEVENT
BEGIN:VEVENT
DTSTART;TZID=America/New_York:20251129T120000
DTEND;TZID=America/New_York:20251129T140000
DTSTAMP:20260420T031052
CREATED:20251114T165921Z
LAST-MODIFIED:20251114T170118Z
UID:5462-1764417600-1764424800@brucesgarden.net
SUMMARY:Winter Wren Workshop
DESCRIPTION:Discover the beauty of nature and craft with naturalist and craft artist Noelle King in a new rain-or-shine workshop at Bruce’s Garden.
URL:https://brucesgarden.net/event/winter-wren-workshop/
LOCATION:Bruce’s Garden\, 11 Park Ter. E.\, New York\, NY\, 10034\, United States
ATTACH;FMTTYPE=image/jpeg:https://brucesgarden.net/wp-content/uploads/2025/11/WINTER-WREN.jpg
END:VEVENT
BEGIN:VEVENT
DTSTART;TZID=America/New_York:20251130T163000
DTEND;TZID=America/New_York:20251130T170000
DTSTAMP:20260420T031052
CREATED:20251107T011922Z
LAST-MODIFIED:20251107T011922Z
UID:5444-1764520200-1764522000@brucesgarden.net
SUMMARY:Quiet Sitting
DESCRIPTION:Enjoy a moment of collective quiet\, rest & relaxation
URL:https://brucesgarden.net/event/quiet-sitting-26/
LOCATION:Bruce’s Garden\, 11 Park Ter. E.\, New York\, NY\, 10034\, United States
ATTACH;FMTTYPE=image/png:https://brucesgarden.net/wp-content/uploads/2025/06/Yoga-Bowls.png
END:VEVENT
END:VCALENDAR