BEGIN:VCALENDAR
VERSION:2.0
PRODID:-//Bruce's Garden - ECPv6.15.20//NONSGML v1.0//EN
CALSCALE:GREGORIAN
METHOD:PUBLISH
X-WR-CALNAME:Bruce's Garden
X-ORIGINAL-URL:https://brucesgarden.net
X-WR-CALDESC:Events for Bruce's Garden
REFRESH-INTERVAL;VALUE=DURATION:PT1H
X-Robots-Tag:noindex
X-PUBLISHED-TTL:PT1H
BEGIN:VTIMEZONE
TZID:America/New_York
BEGIN:DAYLIGHT
TZOFFSETFROM:-0500
TZOFFSETTO:-0400
TZNAME:EDT
DTSTART:20180311T070000
END:DAYLIGHT
BEGIN:STANDARD
TZOFFSETFROM:-0400
TZOFFSETTO:-0500
TZNAME:EST
DTSTART:20181104T060000
END:STANDARD
BEGIN:DAYLIGHT
TZOFFSETFROM:-0500
TZOFFSETTO:-0400
TZNAME:EDT
DTSTART:20190310T070000
END:DAYLIGHT
BEGIN:STANDARD
TZOFFSETFROM:-0400
TZOFFSETTO:-0500
TZNAME:EST
DTSTART:20191103T060000
END:STANDARD
BEGIN:DAYLIGHT
TZOFFSETFROM:-0500
TZOFFSETTO:-0400
TZNAME:EDT
DTSTART:20200308T070000
END:DAYLIGHT
BEGIN:STANDARD
TZOFFSETFROM:-0400
TZOFFSETTO:-0500
TZNAME:EST
DTSTART:20201101T060000
END:STANDARD
END:VTIMEZONE
BEGIN:VEVENT
DTSTART;TZID=America/New_York:20190705T100000
DTEND;TZID=America/New_York:20190705T110000
DTSTAMP:20260425T164131
CREATED:20190630T174835Z
LAST-MODIFIED:20190630T174835Z
UID:3661-1562320800-1562324400@brucesgarden.net
SUMMARY:Preschool On The Planet
DESCRIPTION:Wonderfully stimulating educational activities (aged 1 – 5) in Inwood’s natural community center.
URL:https://brucesgarden.net/event/preschool-on-the-planet-123/
LOCATION:Bruce’s Garden\, 11 Park Ter. E.\, New York\, NY\, 10034\, United States
ATTACH;FMTTYPE=image/jpeg:https://brucesgarden.net/wp-content/uploads/2019/05/57272199_10155711121736377_3904481007025258496_n.jpg
END:VEVENT
BEGIN:VEVENT
DTSTART;TZID=America/New_York:20190706T180000
DTEND;TZID=America/New_York:20190706T193000
DTSTAMP:20260425T164131
CREATED:20190630T201647Z
LAST-MODIFIED:20190630T201647Z
UID:3700-1562436000-1562441400@brucesgarden.net
SUMMARY:East Winds Ensemble Concert
DESCRIPTION:A wonderfully musical continuation of affirmating summer’s arrival\, performed in a magical setting!
URL:https://brucesgarden.net/event/east-winds-ensemble-concert-4/
LOCATION:Bruce’s Garden\, 11 Park Ter. E.\, New York\, NY\, 10034\, United States
ATTACH;FMTTYPE=image/jpeg:https://brucesgarden.net/wp-content/uploads/2018/06/34585044_10156159022749927_3479333923949903872_o1.jpg
END:VEVENT
BEGIN:VEVENT
DTSTART;TZID=America/New_York:20190707T100000
DTEND;TZID=America/New_York:20190707T120000
DTSTAMP:20260425T164131
CREATED:20190630T184453Z
LAST-MODIFIED:20190630T184453Z
UID:3678-1562493600-1562500800@brucesgarden.net
SUMMARY:Children’s Craft Class
DESCRIPTION:Join Craftmaster Cathy Sanacore for delightful\, educationally entertaining\, mid-day fun!
URL:https://brucesgarden.net/event/childrens-craft-class-8/
LOCATION:Bruce’s Garden\, 11 Park Ter. E.\, New York\, NY\, 10034\, United States
ATTACH;FMTTYPE=image/jpeg:https://brucesgarden.net/wp-content/uploads/2019/05/57989016_380764962651614_3629009041679712256_n1.jpg
END:VEVENT
BEGIN:VEVENT
DTSTART;TZID=America/New_York:20190707T103000
DTEND;TZID=America/New_York:20190707T113000
DTSTAMP:20260425T164131
CREATED:20190630T185118Z
LAST-MODIFIED:20190630T185118Z
UID:3682-1562495400-1562499000@brucesgarden.net
SUMMARY:Manahatta Peace Project/ Northstar Family Choir
DESCRIPTION:Join Master Vocalist Dana Hanchard and her gifted ensemble for an afternoon of enchanting aural inspiration.
URL:https://brucesgarden.net/event/manahatta-peace-project-northstar-family-choir-23/
LOCATION:NY
ATTACH;FMTTYPE=image/jpeg:https://brucesgarden.net/wp-content/uploads/2018/06/IMG_2318.jpg
END:VEVENT
BEGIN:VEVENT
DTSTART;TZID=America/New_York:20190707T130000
DTEND;TZID=America/New_York:20190707T160000
DTSTAMP:20260425T164131
CREATED:20190630T181452Z
LAST-MODIFIED:20190630T181452Z
UID:3670-1562504400-1562515200@brucesgarden.net
SUMMARY:Sunday Afternoon Potluck in Bruce’s Garden
DESCRIPTION:Join hostess Nadema Agard for a mouthwatering culinary adventure. You’ll never know who you’ll meet\, greet… or what you’ll eat! To attend please RSVP redearthstudio@aol.com by 8pm Saturday Eve \nBon Appitit!
URL:https://brucesgarden.net/event/sunday-afternoon-potluck-in-bruces-garden-31/
LOCATION:Bruce’s Garden\, 11 Park Ter. E.\, New York\, NY\, 10034\, United States
ATTACH;FMTTYPE=image/jpeg:https://brucesgarden.net/wp-content/uploads/2019/05/59157564_10157211739169133_4849514858871259136_o.jpg
END:VEVENT
BEGIN:VEVENT
DTSTART;TZID=America/New_York:20190711T100000
DTEND;TZID=America/New_York:20190711T130000
DTSTAMP:20260425T164131
CREATED:20190630T190539Z
LAST-MODIFIED:20190630T190539Z
UID:3690-1562839200-1562850000@brucesgarden.net
SUMMARY:CCC: 1-Day Paint Class
DESCRIPTION:Join Cathy for Children’s Painting Class! Who knows… your child may be the next most talked about young artist in Inwood!
URL:https://brucesgarden.net/event/ccc-1-day-paint-class-6/
LOCATION:Bruce’s Garden\, 11 Park Ter. E.\, New York\, NY\, 10034\, United States
ATTACH;FMTTYPE=image/jpeg:https://brucesgarden.net/wp-content/uploads/2018/08/37384959_243586113036167_6567183863792009216_o.jpg
END:VEVENT
BEGIN:VEVENT
DTSTART;TZID=America/New_York:20190712T100000
DTEND;TZID=America/New_York:20190712T110000
DTSTAMP:20260425T164131
CREATED:20190630T174946Z
LAST-MODIFIED:20190630T174946Z
UID:3663-1562925600-1562929200@brucesgarden.net
SUMMARY:Preschool On The Planet
DESCRIPTION:Wonderfully stimulating educational activities (aged 1 – 5) in Inwood’s natural community center.
URL:https://brucesgarden.net/event/preschool-on-the-planet-124/
LOCATION:Bruce’s Garden\, 11 Park Ter. E.\, New York\, NY\, 10034\, United States
ATTACH;FMTTYPE=image/jpeg:https://brucesgarden.net/wp-content/uploads/2019/05/57272199_10155711121736377_3904481007025258496_n.jpg
END:VEVENT
BEGIN:VEVENT
DTSTART;TZID=America/New_York:20190714T130000
DTEND;TZID=America/New_York:20190714T160000
DTSTAMP:20260425T164131
CREATED:20190630T181546Z
LAST-MODIFIED:20190630T181546Z
UID:3672-1563109200-1563120000@brucesgarden.net
SUMMARY:Sunday Afternoon Potluck in Bruce’s Garden
DESCRIPTION:Join hostess Nadema Agard for a mouthwatering culinary adventure. You’ll never know who you’ll meet\, greet… or what you’ll eat! To attend please RSVP redearthstudio@aol.com by 8pm Saturday Eve \nBon Appitit!
URL:https://brucesgarden.net/event/sunday-afternoon-potluck-in-bruces-garden-32/
LOCATION:Bruce’s Garden\, 11 Park Ter. E.\, New York\, NY\, 10034\, United States
ATTACH;FMTTYPE=image/jpeg:https://brucesgarden.net/wp-content/uploads/2019/05/59157564_10157211739169133_4849514858871259136_o.jpg
END:VEVENT
BEGIN:VEVENT
DTSTART;TZID=America/New_York:20190717T183000
DTEND;TZID=America/New_York:20190717T203000
DTSTAMP:20260425T164131
CREATED:20190630T185740Z
LAST-MODIFIED:20190630T185740Z
UID:3686-1563388200-1563395400@brucesgarden.net
SUMMARY:Mid-Week Reading Series
DESCRIPTION:Our Mid-Week Reading Series Returns…\nJoin Gail Addiss and guests as they read from their new works!\n\n\nWe’ll begin with refreshments at 6:30pm\nSee you there!
URL:https://brucesgarden.net/event/mid-week-reading-series-2/
LOCATION:Bruce’s Garden\, 11 Park Ter. E.\, New York\, NY\, 10034\, United States
ATTACH;FMTTYPE=image/jpeg:https://brucesgarden.net/wp-content/uploads/2016/06/fridge-poetry.jpg
END:VEVENT
BEGIN:VEVENT
DTSTART;TZID=America/New_York:20190718T100000
DTEND;TZID=America/New_York:20190718T130000
DTSTAMP:20260425T164131
CREATED:20190630T190708Z
LAST-MODIFIED:20190630T190708Z
UID:3692-1563444000-1563454800@brucesgarden.net
SUMMARY:CCC: 1-Day Paint Class
DESCRIPTION:Join Cathy for Children’s Painting Class! Who knows… your child may be the next most talked about young artist in Inwood!
URL:https://brucesgarden.net/event/ccc-1-day-paint-class-7/
LOCATION:Bruce’s Garden\, 11 Park Ter. E.\, New York\, NY\, 10034\, United States
ATTACH;FMTTYPE=image/jpeg:https://brucesgarden.net/wp-content/uploads/2018/08/37384959_243586113036167_6567183863792009216_o.jpg
END:VEVENT
BEGIN:VEVENT
DTSTART;TZID=America/New_York:20190719T100000
DTEND;TZID=America/New_York:20190719T110000
DTSTAMP:20260425T164131
CREATED:20190630T181045Z
LAST-MODIFIED:20190630T181045Z
UID:3665-1563530400-1563534000@brucesgarden.net
SUMMARY:Preschool On The Planet
DESCRIPTION:Wonderfully stimulating educational activities (aged 1 – 5) in Inwood’s natural community center.
URL:https://brucesgarden.net/event/preschool-on-the-planet-125/
LOCATION:Bruce’s Garden\, 11 Park Ter. E.\, New York\, NY\, 10034\, United States
ATTACH;FMTTYPE=image/jpeg:https://brucesgarden.net/wp-content/uploads/2019/05/57272199_10155711121736377_3904481007025258496_n.jpg
END:VEVENT
BEGIN:VEVENT
DTSTART;TZID=America/New_York:20190720T100000
DTEND;TZID=America/New_York:20190720T140000
DTSTAMP:20260425T164131
CREATED:20190630T200950Z
LAST-MODIFIED:20190630T201032Z
UID:3696-1563616800-1563631200@brucesgarden.net
SUMMARY:GITG: Medicine Wheel Workshop
DESCRIPTION:Join curator Nadema Agard and artists \n\nCheramie Mondesire\nEddie Rcks\nKobi Bromley\nVasco Wellington\n\nfor a morning of shared fun and excitement. Explore your talents as each artist demonstrates their featured artistic technique.
URL:https://brucesgarden.net/event/gitg-medicine-wheel-workshop/
LOCATION:Bruce’s Garden\, 11 Park Ter. E.\, New York\, NY\, 10034\, United States
ATTACH;FMTTYPE=image/jpeg:https://brucesgarden.net/wp-content/uploads/2019/06/62406592_2796418873707671_7239433669675319296_o.jpg
END:VEVENT
BEGIN:VEVENT
DTSTART;TZID=America/New_York:20190721T100000
DTEND;TZID=America/New_York:20190721T120000
DTSTAMP:20260425T164131
CREATED:20190630T184607Z
LAST-MODIFIED:20190630T184607Z
UID:3680-1563703200-1563710400@brucesgarden.net
SUMMARY:Children’s Craft Class
DESCRIPTION:Join Craftmaster Cathy Sanacore for delightful\, educationally entertaining\, mid-day fun!
URL:https://brucesgarden.net/event/childrens-craft-class-9/
LOCATION:Bruce’s Garden\, 11 Park Ter. E.\, New York\, NY\, 10034\, United States
ATTACH;FMTTYPE=image/jpeg:https://brucesgarden.net/wp-content/uploads/2019/05/57989016_380764962651614_3629009041679712256_n1.jpg
END:VEVENT
BEGIN:VEVENT
DTSTART;TZID=America/New_York:20190721T103000
DTEND;TZID=America/New_York:20190721T113000
DTSTAMP:20260425T164131
CREATED:20190630T185220Z
LAST-MODIFIED:20190630T185220Z
UID:3684-1563705000-1563708600@brucesgarden.net
SUMMARY:Manahatta Peace Project/ Northstar Family Choir
DESCRIPTION:Join Master Vocalist Dana Hanchard and her gifted ensemble for an afternoon of enchanting aural inspiration.
URL:https://brucesgarden.net/event/manahatta-peace-project-northstar-family-choir-24/
LOCATION:Bruce’s Garden\, 11 Park Ter. E.\, New York\, NY\, 10034\, United States
ATTACH;FMTTYPE=image/jpeg:https://brucesgarden.net/wp-content/uploads/2018/06/IMG_2318.jpg
END:VEVENT
BEGIN:VEVENT
DTSTART;TZID=America/New_York:20190721T130000
DTEND;TZID=America/New_York:20190721T160000
DTSTAMP:20260425T164131
CREATED:20190630T181646Z
LAST-MODIFIED:20190630T181646Z
UID:3674-1563714000-1563724800@brucesgarden.net
SUMMARY:Sunday Afternoon Potluck in Bruce’s Garden
DESCRIPTION:Join hostess Nadema Agard for a mouthwatering culinary adventure. You’ll never know who you’ll meet\, greet… or what you’ll eat! To attend please RSVP redearthstudio@aol.com by 8pm Saturday Eve \nBon Appitit!
URL:https://brucesgarden.net/event/sunday-afternoon-potluck-in-bruces-garden-33/
LOCATION:Bruce’s Garden\, 11 Park Ter. E.\, New York\, NY\, 10034\, United States
ATTACH;FMTTYPE=image/jpeg:https://brucesgarden.net/wp-content/uploads/2019/05/59157564_10157211739169133_4849514858871259136_o.jpg
END:VEVENT
BEGIN:VEVENT
DTSTART;TZID=America/New_York:20190725T100000
DTEND;TZID=America/New_York:20190725T130000
DTSTAMP:20260425T164131
CREATED:20190630T190824Z
LAST-MODIFIED:20190630T190824Z
UID:3694-1564048800-1564059600@brucesgarden.net
SUMMARY:CCC: 1-Day Paint Class
DESCRIPTION:Join Cathy for Children’s Painting Class! Who knows… your child may be the next most talked about young artist in Inwood!
URL:https://brucesgarden.net/event/ccc-1-day-paint-class-8/
LOCATION:Bruce’s Garden\, 11 Park Ter. E.\, New York\, NY\, 10034\, United States
ATTACH;FMTTYPE=image/jpeg:https://brucesgarden.net/wp-content/uploads/2018/08/37384959_243586113036167_6567183863792009216_o.jpg
END:VEVENT
BEGIN:VEVENT
DTSTART;TZID=America/New_York:20190726T100000
DTEND;TZID=America/New_York:20190726T110000
DTSTAMP:20260425T164131
CREATED:20190630T181140Z
LAST-MODIFIED:20190630T181140Z
UID:3667-1564135200-1564138800@brucesgarden.net
SUMMARY:Preschool On The Planet
DESCRIPTION:Wonderfully stimulating educational activities (aged 1 – 5) in Inwood’s natural community center.
URL:https://brucesgarden.net/event/preschool-on-the-planet-126/
LOCATION:Bruce’s Garden\, 11 Park Ter. E.\, New York\, NY\, 10034\, United States
ATTACH;FMTTYPE=image/jpeg:https://brucesgarden.net/wp-content/uploads/2019/05/57272199_10155711121736377_3904481007025258496_n.jpg
END:VEVENT
BEGIN:VEVENT
DTSTART;TZID=America/New_York:20190728T130000
DTEND;TZID=America/New_York:20190728T160000
DTSTAMP:20260425T164131
CREATED:20190630T181741Z
LAST-MODIFIED:20190630T202108Z
UID:3676-1564318800-1564329600@brucesgarden.net
SUMMARY:GITG Closing Reception: Medicine Wheel #2 ~ African Diaspora
DESCRIPTION:Gallery In The Gazebo • Closing Reception: Medicine Wheel #2 ~ African Diaspora • the second installment of the Medicine Wheel Series\, curated by Nadema Agard \n\nSee You There! \n\n 
URL:https://brucesgarden.net/event/sunday-afternoon-potluck-in-bruces-garden-34/
LOCATION:Bruce’s Garden\, 11 Park Ter. E.\, New York\, NY\, 10034\, United States
ATTACH;FMTTYPE=image/jpeg:https://brucesgarden.net/wp-content/uploads/2019/06/62406592_2796418873707671_7239433669675319296_o.jpg
END:VEVENT
BEGIN:VEVENT
DTSTART;VALUE=DATE:20190731
DTEND;VALUE=DATE:20190801
DTSTAMP:20260425T164131
CREATED:20190630T190025Z
LAST-MODIFIED:20190630T190025Z
UID:3688-1564531200-1564617599@brucesgarden.net
SUMMARY:GITG Closing: Medicine Wheel #2 ~ African Diaspora
DESCRIPTION:Our 2019 Gallery In The Gazebo • Medicine Wheel #2 ~ African Diaspora • the second installment of the Medicine Wheel Series\, curated by Nadema Agard \nCloses Today
URL:https://brucesgarden.net/event/gitg-closing-medicine-wheel-2-african-diaspora/
LOCATION:Bruce’s Garden\, 11 Park Ter. E.\, New York\, NY\, 10034\, United States
ATTACH;FMTTYPE=image/jpeg:https://brucesgarden.net/wp-content/uploads/2019/06/62406592_2796418873707671_7239433669675319296_o.jpg
END:VEVENT
END:VCALENDAR