BEGIN:VCALENDAR
VERSION:2.0
PRODID:-//Bruce's Garden - ECPv6.15.20//NONSGML v1.0//EN
CALSCALE:GREGORIAN
METHOD:PUBLISH
X-ORIGINAL-URL:https://brucesgarden.net
X-WR-CALDESC:Events for Bruce's Garden
REFRESH-INTERVAL;VALUE=DURATION:PT1H
X-Robots-Tag:noindex
X-PUBLISHED-TTL:PT1H
BEGIN:VTIMEZONE
TZID:America/New_York
BEGIN:DAYLIGHT
TZOFFSETFROM:-0500
TZOFFSETTO:-0400
TZNAME:EDT
DTSTART:20180311T070000
END:DAYLIGHT
BEGIN:STANDARD
TZOFFSETFROM:-0400
TZOFFSETTO:-0500
TZNAME:EST
DTSTART:20181104T060000
END:STANDARD
BEGIN:DAYLIGHT
TZOFFSETFROM:-0500
TZOFFSETTO:-0400
TZNAME:EDT
DTSTART:20190310T070000
END:DAYLIGHT
BEGIN:STANDARD
TZOFFSETFROM:-0400
TZOFFSETTO:-0500
TZNAME:EST
DTSTART:20191103T060000
END:STANDARD
BEGIN:DAYLIGHT
TZOFFSETFROM:-0500
TZOFFSETTO:-0400
TZNAME:EDT
DTSTART:20200308T070000
END:DAYLIGHT
BEGIN:STANDARD
TZOFFSETFROM:-0400
TZOFFSETTO:-0500
TZNAME:EST
DTSTART:20201101T060000
END:STANDARD
END:VTIMEZONE
BEGIN:VEVENT
DTSTART;TZID=America/New_York:20191101T100000
DTEND;TZID=America/New_York:20191101T110000
DTSTAMP:20260425T091715
CREATED:20191109T200405Z
LAST-MODIFIED:20191109T200405Z
UID:3908-1572602400-1572606000@brucesgarden.net
SUMMARY:Preschool On The Planet
DESCRIPTION:Wonderfully stimulating educational activities (aged 1 – 5) in Inwood’s natural community center.
URL:https://brucesgarden.net/event/preschool-on-the-planet-140/
LOCATION:Bruce’s Garden\, 11 Park Ter. E.\, New York\, NY\, 10034\, United States
ATTACH;FMTTYPE=image/jpeg:https://brucesgarden.net/wp-content/uploads/2019/05/57456824_10155711121851377_1489862062640201728_n.jpg
END:VEVENT
BEGIN:VEVENT
DTSTART;TZID=America/New_York:20191103T110000
DTEND;TZID=America/New_York:20191103T120000
DTSTAMP:20260425T091715
CREATED:20191109T201004Z
LAST-MODIFIED:20191109T201004Z
UID:3918-1572778800-1572782400@brucesgarden.net
SUMMARY:Manahatta Peace Project/ Northstar Family Choir
DESCRIPTION:Join Master Vocalist Dana Hanchard and her gifted ensemble for an afternoon of enchanting aural inspiration
URL:https://brucesgarden.net/event/manahatta-peace-project-northstar-family-choir-38/
LOCATION:Bruce’s Garden\, 11 Park Ter. E.\, New York\, NY\, 10034\, United States
ATTACH;FMTTYPE=image/jpeg:https://brucesgarden.net/wp-content/uploads/2018/06/IMG_2318.jpg
END:VEVENT
BEGIN:VEVENT
DTSTART;TZID=America/New_York:20191108T100000
DTEND;TZID=America/New_York:20191108T110000
DTSTAMP:20260425T091715
CREATED:20191109T200506Z
LAST-MODIFIED:20191109T200506Z
UID:3910-1573207200-1573210800@brucesgarden.net
SUMMARY:Preschool On The Planet
DESCRIPTION:Wonderfully stimulating educational activities (aged 1 – 5) in Inwood’s natural community center.
URL:https://brucesgarden.net/event/preschool-on-the-planet-141/
LOCATION:Bruce’s Garden\, 11 Park Ter. E.\, New York\, NY\, 10034\, United States
ATTACH;FMTTYPE=image/jpeg:https://brucesgarden.net/wp-content/uploads/2019/05/57456824_10155711121851377_1489862062640201728_n.jpg
END:VEVENT
BEGIN:VEVENT
DTSTART;TZID=America/New_York:20191110T110000
DTEND;TZID=America/New_York:20191110T120000
DTSTAMP:20260425T091715
CREATED:20191109T201106Z
LAST-MODIFIED:20191109T201106Z
UID:3920-1573383600-1573387200@brucesgarden.net
SUMMARY:Manahatta Peace Project/ Northstar Family Choir
DESCRIPTION:Join Master Vocalist Dana Hanchard and her gifted ensemble for an afternoon of enchanting aural inspiration
URL:https://brucesgarden.net/event/manahatta-peace-project-northstar-family-choir-39/
LOCATION:Bruce’s Garden\, 11 Park Ter. E.\, New York\, NY\, 10034\, United States
ATTACH;FMTTYPE=image/jpeg:https://brucesgarden.net/wp-content/uploads/2018/06/IMG_2318.jpg
END:VEVENT
BEGIN:VEVENT
DTSTART;TZID=America/New_York:20191111T111100
DTEND;TZID=America/New_York:20191111T130000
DTSTAMP:20260425T091715
CREATED:20191109T201947Z
LAST-MODIFIED:20191109T201947Z
UID:3926-1573470660-1573477200@brucesgarden.net
SUMMARY:A Veterans Day Tribute to Truth: Honoring Sacrifice/ Considering Peace
DESCRIPTION:Photo Exhibit & Music by Dana Gae Hanchard
URL:https://brucesgarden.net/event/a-veterans-day-tribute-to-truth-honoring-sacrifice-considering-peace/
LOCATION:Bruce’s Garden\, 11 Park Ter. E.\, New York\, NY\, 10034\, United States
ATTACH;FMTTYPE=image/jpeg:https://brucesgarden.net/wp-content/uploads/2019/11/75258520_10157697859684133_6994574874005995520_o.jpg
END:VEVENT
BEGIN:VEVENT
DTSTART;TZID=America/New_York:20191115T100000
DTEND;TZID=America/New_York:20191115T110000
DTSTAMP:20260425T091715
CREATED:20191109T200555Z
LAST-MODIFIED:20191109T200555Z
UID:3912-1573812000-1573815600@brucesgarden.net
SUMMARY:Preschool On The Planet
DESCRIPTION:Wonderfully stimulating educational activities (aged 1 – 5) in Inwood’s natural community center.
URL:https://brucesgarden.net/event/preschool-on-the-planet-142/
LOCATION:Bruce’s Garden\, 11 Park Ter. E.\, New York\, NY\, 10034\, United States
ATTACH;FMTTYPE=image/jpeg:https://brucesgarden.net/wp-content/uploads/2019/05/57456824_10155711121851377_1489862062640201728_n.jpg
END:VEVENT
BEGIN:VEVENT
DTSTART;TZID=America/New_York:20191117T110000
DTEND;TZID=America/New_York:20191117T120000
DTSTAMP:20260425T091715
CREATED:20191109T201202Z
LAST-MODIFIED:20191109T201202Z
UID:3922-1573988400-1573992000@brucesgarden.net
SUMMARY:Manahatta Peace Project/ Northstar Family Choir
DESCRIPTION:Join Master Vocalist Dana Hanchard and her gifted ensemble for an afternoon of enchanting aural inspiration
URL:https://brucesgarden.net/event/manahatta-peace-project-northstar-family-choir-40/
LOCATION:Bruce’s Garden\, 11 Park Ter. E.\, New York\, NY\, 10034\, United States
ATTACH;FMTTYPE=image/jpeg:https://brucesgarden.net/wp-content/uploads/2018/06/IMG_2318.jpg
END:VEVENT
BEGIN:VEVENT
DTSTART;TZID=America/New_York:20191121T000000
DTEND;TZID=America/New_York:20191121T210000
DTSTAMP:20260425T091715
CREATED:20191123T195550Z
LAST-MODIFIED:20191123T210000Z
UID:3946-1574294400-1574370000@brucesgarden.net
SUMMARY:Bruce’s Garden Online Silent Auction NOW OPEN!!
DESCRIPTION:CLICK HERE: Welcome to our Online Silent Auction & Winter Solstice – A TASTE OF INWOOD!! \nThank You! for supporting our Silent Auction for Bruce’s Garden. Our work goes much further when caring neighbors such as yourself invests in our efforts\, which in turn\, is an investment in the community.  \nWe’ve a strong commitment to Inwood and its local businesses. It’s wonderful the number of restaurants\, eateries and cafés who have decided to participate – and the number keeps growing! I’m sure there will be more before the auction’s end.  \nOur themed fundraiser – A Taste Of Inwood – helps us\, yes! Yet\, it’s also our way of giving back to those establishments\, as it is a means of bringing customers their way. \nThe auction closes December 20\, 2019 at 9pm \nDo consider becoming a part of our Online Silent Auction themed “A Taste Of Inwood”.  \n\nSupport our local businesses as well. \nThe more we invest in our neighborhood\, the stronger our community.\n\n  \nAgain\, Thank You! & Happy Holidays!!!
URL:https://brucesgarden.net/event/bruces-garden-online-silent-auction-now-open-2/
LOCATION:Bruce’s Garden\, 11 Park Ter. E.\, New York\, NY\, 10034\, United States
END:VEVENT
BEGIN:VEVENT
DTSTART;TZID=America/New_York:20191122T100000
DTEND;TZID=America/New_York:20191122T110000
DTSTAMP:20260425T091715
CREATED:20191109T200651Z
LAST-MODIFIED:20191109T200651Z
UID:3914-1574416800-1574420400@brucesgarden.net
SUMMARY:Preschool On The Planet
DESCRIPTION:Wonderfully stimulating educational activities (aged 1 – 5) in Inwood’s natural community center.
URL:https://brucesgarden.net/event/preschool-on-the-planet-143/
LOCATION:Bruce’s Garden\, 11 Park Ter. E.\, New York\, NY\, 10034\, United States
ATTACH;FMTTYPE=image/jpeg:https://brucesgarden.net/wp-content/uploads/2019/05/57456824_10155711121851377_1489862062640201728_n.jpg
END:VEVENT
BEGIN:VEVENT
DTSTART;TZID=America/New_York:20191124T110000
DTEND;TZID=America/New_York:20191124T120000
DTSTAMP:20260425T091715
CREATED:20191109T201308Z
LAST-MODIFIED:20191109T201308Z
UID:3924-1574593200-1574596800@brucesgarden.net
SUMMARY:Manahatta Peace Project/ Northstar Family Choir
DESCRIPTION:Join Master Vocalist Dana Hanchard and her gifted ensemble for an afternoon of enchanting aural inspiration
URL:https://brucesgarden.net/event/manahatta-peace-project-northstar-family-choir-41/
LOCATION:Bruce’s Garden\, 11 Park Ter. E.\, New York\, NY\, 10034\, United States
ATTACH;FMTTYPE=image/jpeg:https://brucesgarden.net/wp-content/uploads/2018/06/IMG_2318.jpg
END:VEVENT
BEGIN:VEVENT
DTSTART;TZID=America/New_York:20191129T100000
DTEND;TZID=America/New_York:20191129T110000
DTSTAMP:20260425T091715
CREATED:20191109T200744Z
LAST-MODIFIED:20191109T200744Z
UID:3916-1575021600-1575025200@brucesgarden.net
SUMMARY:Preschool On The Planet
DESCRIPTION:Wonderfully stimulating educational activities (aged 1 – 5) in Inwood’s natural community center.
URL:https://brucesgarden.net/event/preschool-on-the-planet-144/
LOCATION:Bruce’s Garden\, 11 Park Ter. E.\, New York\, NY\, 10034\, United States
ATTACH;FMTTYPE=image/jpeg:https://brucesgarden.net/wp-content/uploads/2019/05/57456824_10155711121851377_1489862062640201728_n.jpg
END:VEVENT
END:VCALENDAR