BEGIN:VCALENDAR
VERSION:2.0
PRODID:-//Bruce's Garden - ECPv6.15.20//NONSGML v1.0//EN
CALSCALE:GREGORIAN
METHOD:PUBLISH
X-ORIGINAL-URL:https://brucesgarden.net
X-WR-CALDESC:Events for Bruce's Garden
REFRESH-INTERVAL;VALUE=DURATION:PT1H
X-Robots-Tag:noindex
X-PUBLISHED-TTL:PT1H
BEGIN:VTIMEZONE
TZID:America/New_York
BEGIN:DAYLIGHT
TZOFFSETFROM:-0500
TZOFFSETTO:-0400
TZNAME:EDT
DTSTART:20180311T070000
END:DAYLIGHT
BEGIN:STANDARD
TZOFFSETFROM:-0400
TZOFFSETTO:-0500
TZNAME:EST
DTSTART:20181104T060000
END:STANDARD
BEGIN:DAYLIGHT
TZOFFSETFROM:-0500
TZOFFSETTO:-0400
TZNAME:EDT
DTSTART:20190310T070000
END:DAYLIGHT
BEGIN:STANDARD
TZOFFSETFROM:-0400
TZOFFSETTO:-0500
TZNAME:EST
DTSTART:20191103T060000
END:STANDARD
BEGIN:DAYLIGHT
TZOFFSETFROM:-0500
TZOFFSETTO:-0400
TZNAME:EDT
DTSTART:20200308T070000
END:DAYLIGHT
BEGIN:STANDARD
TZOFFSETFROM:-0400
TZOFFSETTO:-0500
TZNAME:EST
DTSTART:20201101T060000
END:STANDARD
END:VTIMEZONE
BEGIN:VEVENT
DTSTART;TZID=America/New_York:20191205T193000
DTEND;TZID=America/New_York:20191205T220000
DTSTAMP:20260425T073909
CREATED:20191123T185200Z
LAST-MODIFIED:20191123T190248Z
UID:3938-1575574200-1575583200@brucesgarden.net
SUMMARY:Benefit Dinner For Bruce’s Garden
DESCRIPTION:This year our Winter Solstice Benefit Dinner will be held at Beans & Vines \n\n4799 Broadway\, New York\, NY 10034 \n(between Cumming & Academy Sts.)\nhttps://beansandvines.com/\n\nJoin us for an evening attesting to the ongoing legacy and contributions of the Reynolds family!  Enjoy fine dining\, fun\, music\, reflections of Bruce’s Garden… and of course\, the elegant surroundings and generosity of our host!\n \nNext year will be the garden’s 50th Anniversary! We’d love to see you. Consider this the Kick Off to next year’s festivities!! \n\n\nBe sure to RSVP\nbeansnvines@gmail.com\n646.928.0209\n\n\nSee You There!
URL:https://brucesgarden.net/event/benefit-dinner-for-bruces-garden-2/
LOCATION:Beans & Vines\, 4799 Broadway\, New York\, NY\, 10034\, United States
ATTACH;FMTTYPE=image/jpeg:https://brucesgarden.net/wp-content/uploads/2019/11/SA19-Beans-Vines-1-flyer.jpg
ORGANIZER;CN="":MAILTO:aarosco@gmail.com
END:VEVENT
BEGIN:VEVENT
DTSTART;TZID=America/New_York:20191212T190000
DTEND;TZID=America/New_York:20191212T210000
DTSTAMP:20260425T073909
CREATED:20191123T181801Z
LAST-MODIFIED:20191123T181801Z
UID:3933-1576177200-1576184400@brucesgarden.net
SUMMARY:Winter Solstice Celebration & Tree Lighting
DESCRIPTION:Dear Friends & Neighbors\, \nYou are cordially invited to be honored guests at the annual Bruce’s Garden Winter Solstice Celebration in Isham Park which will take place Thursday December 12\, 2018 from 7 – 9:00pm. \nTree will be illuminated 8 – 8:30pm. \nEntertainment and refreshments will be served.  \n\nProposed Schedule:\n7:00pm – 8:00pm Celebration Begins\n8:00pm – 8:30pm Tree Lights On\n8:30pm – 9:00pm Sing Along/ End of Program\n\n\n\nMany Thanks! \nWishing You and Family well\,\nFamily Bruce’s Garden
URL:https://brucesgarden.net/event/winter-solstice-celebration-tree-lighting-2/
LOCATION:Bruce’s Garden\, 11 Park Ter. E.\, New York\, NY\, 10034\, United States
ATTACH;FMTTYPE=image/jpeg:https://brucesgarden.net/wp-content/uploads/2019/11/winter-solstice-fill-in-2019.jpg
END:VEVENT
END:VCALENDAR