BEGIN:VCALENDAR
VERSION:2.0
PRODID:-//Bruce's Garden - ECPv6.15.20//NONSGML v1.0//EN
CALSCALE:GREGORIAN
METHOD:PUBLISH
X-ORIGINAL-URL:https://brucesgarden.net
X-WR-CALDESC:Events for Bruce's Garden
REFRESH-INTERVAL;VALUE=DURATION:PT1H
X-Robots-Tag:noindex
X-PUBLISHED-TTL:PT1H
BEGIN:VTIMEZONE
TZID:America/New_York
BEGIN:DAYLIGHT
TZOFFSETFROM:-0500
TZOFFSETTO:-0400
TZNAME:EDT
DTSTART:20190310T070000
END:DAYLIGHT
BEGIN:STANDARD
TZOFFSETFROM:-0400
TZOFFSETTO:-0500
TZNAME:EST
DTSTART:20191103T060000
END:STANDARD
BEGIN:DAYLIGHT
TZOFFSETFROM:-0500
TZOFFSETTO:-0400
TZNAME:EDT
DTSTART:20200308T070000
END:DAYLIGHT
BEGIN:STANDARD
TZOFFSETFROM:-0400
TZOFFSETTO:-0500
TZNAME:EST
DTSTART:20201101T060000
END:STANDARD
BEGIN:DAYLIGHT
TZOFFSETFROM:-0500
TZOFFSETTO:-0400
TZNAME:EDT
DTSTART:20210314T070000
END:DAYLIGHT
BEGIN:STANDARD
TZOFFSETFROM:-0400
TZOFFSETTO:-0500
TZNAME:EST
DTSTART:20211107T060000
END:STANDARD
END:VTIMEZONE
BEGIN:VEVENT
DTSTART;TZID=America/New_York:20200704T100000
DTEND;TZID=America/New_York:20200704T160000
DTSTAMP:20260424T211804
CREATED:20200718T172900Z
LAST-MODIFIED:20200718T173602Z
UID:4005-1593856800-1593878400@brucesgarden.net
SUMMARY:Bruce Reynolds Memorial Garden is Open!
DESCRIPTION:THANK YOU! for your support of our reopening on July 4th during these difficult\, exasperating times. As a reminder\, we will continue our stance on trying to slow the spread of COVID-19 by following New York State social distancing protocols\, which include wearing masks outdoors when social distancing is not possible. \n\nOperating Hours:\n10 AM to 4 PM daily for public use\, until further notice.\n\nALSO:The gazebo will be closed for scheduled maintenance. \nGarden Maintenance occurs daily *After Closing Hours* to better protect those who are working. If Interested In VOLUNTEERING please visit: https://brucesgarden.net/volunteer-bruces-garden/ \n\nFor additional questions\, kindly use: info@brucesgarden.net. \nMany Thanks! & Welcome Back \nFamily Bruce’s Garden
URL:https://brucesgarden.net/event/bruce-reynolds-memorial-garden-is-open/
LOCATION:Bruce’s Garden\, 11 Park Ter. E.\, New York\, NY\, 10034\, United States
ATTACH;FMTTYPE=image/jpeg:https://brucesgarden.net/wp-content/uploads/2020/07/BRMG-COVID-19-July-2020-Signage.jpg
END:VEVENT
END:VCALENDAR