BEGIN:VCALENDAR
VERSION:2.0
PRODID:-//Bruce's Garden - ECPv6.15.20//NONSGML v1.0//EN
CALSCALE:GREGORIAN
METHOD:PUBLISH
X-WR-CALNAME:Bruce's Garden
X-ORIGINAL-URL:https://brucesgarden.net
X-WR-CALDESC:Events for Bruce's Garden
REFRESH-INTERVAL;VALUE=DURATION:PT1H
X-Robots-Tag:noindex
X-PUBLISHED-TTL:PT1H
BEGIN:VTIMEZONE
TZID:America/New_York
BEGIN:DAYLIGHT
TZOFFSETFROM:-0500
TZOFFSETTO:-0400
TZNAME:EDT
DTSTART:20200308T070000
END:DAYLIGHT
BEGIN:STANDARD
TZOFFSETFROM:-0400
TZOFFSETTO:-0500
TZNAME:EST
DTSTART:20201101T060000
END:STANDARD
BEGIN:DAYLIGHT
TZOFFSETFROM:-0500
TZOFFSETTO:-0400
TZNAME:EDT
DTSTART:20210314T070000
END:DAYLIGHT
BEGIN:STANDARD
TZOFFSETFROM:-0400
TZOFFSETTO:-0500
TZNAME:EST
DTSTART:20211107T060000
END:STANDARD
BEGIN:DAYLIGHT
TZOFFSETFROM:-0500
TZOFFSETTO:-0400
TZNAME:EDT
DTSTART:20220313T070000
END:DAYLIGHT
BEGIN:STANDARD
TZOFFSETFROM:-0400
TZOFFSETTO:-0500
TZNAME:EST
DTSTART:20221106T060000
END:STANDARD
END:VTIMEZONE
BEGIN:VEVENT
DTSTART;TZID=America/New_York:20210604T100000
DTEND;TZID=America/New_York:20210604T110000
DTSTAMP:20260424T011551
CREATED:20210606T201759Z
LAST-MODIFIED:20210606T201759Z
UID:4112-1622800800-1622804400@brucesgarden.net
SUMMARY:Preschool On The Planet
DESCRIPTION:Wonderfully stimulating educational activities (aged 1 – 5) in Inwood’s natural community center.
URL:https://brucesgarden.net/event/preschool-on-the-planet-154/
LOCATION:Bruce’s Garden\, 11 Park Ter. E.\, New York\, NY\, 10034\, United States
ATTACH;FMTTYPE=image/jpeg:https://brucesgarden.net/wp-content/uploads/2016/03/12782141_10208560056421569_1056907136_n.jpg
END:VEVENT
BEGIN:VEVENT
DTSTART;TZID=America/New_York:20210606T180000
DTEND;TZID=America/New_York:20210606T190000
DTSTAMP:20260424T011551
CREATED:20210606T212625Z
LAST-MODIFIED:20210606T212625Z
UID:4148-1623002400-1623006000@brucesgarden.net
SUMMARY:TAIKOZA!
DESCRIPTION:
URL:https://brucesgarden.net/event/taikoza-3/
LOCATION:NY
ATTACH;FMTTYPE=image/jpeg:https://brucesgarden.net/wp-content/uploads/2021/06/197306247_10158860149129927_8873841866162095672_n.jpg
END:VEVENT
BEGIN:VEVENT
DTSTART;TZID=America/New_York:20210611T100000
DTEND;TZID=America/New_York:20210611T110000
DTSTAMP:20260424T011551
CREATED:20210606T201905Z
LAST-MODIFIED:20210606T202325Z
UID:4114-1623405600-1623409200@brucesgarden.net
SUMMARY:Preschool On The Planet
DESCRIPTION:Wonderfully stimulating educational activities (aged 1 – 5) in Inwood’s natural community center.
URL:https://brucesgarden.net/event/preschool-on-the-planet-155/
LOCATION:Bruce’s Garden\, 11 Park Ter. E.\, New York\, NY\, 10034\, United States
ATTACH;FMTTYPE=image/jpeg:https://brucesgarden.net/wp-content/uploads/2016/03/12782141_10208560056421569_1056907136_n.jpg
END:VEVENT
BEGIN:VEVENT
DTSTART;TZID=America/New_York:20210612T150000
DTEND;TZID=America/New_York:20210612T170000
DTSTAMP:20260424T011551
CREATED:20210606T203215Z
LAST-MODIFIED:20210606T203215Z
UID:4120-1623510000-1623517200@brucesgarden.net
SUMMARY:Children’s Craft Class
DESCRIPTION:Join Craftmaster Cathy Sanacore for delightful\, educationally entertaining\, mid-day fun!
URL:https://brucesgarden.net/event/childrens-craft-class-19/
LOCATION:Bruce’s Garden\, 11 Park Ter. E.\, New York\, NY\, 10034\, United States
ATTACH;FMTTYPE=image/jpeg:https://brucesgarden.net/wp-content/uploads/2018/08/37175698_241916589869786_3997137869805191168_o.jpg
END:VEVENT
BEGIN:VEVENT
DTSTART;TZID=America/New_York:20210616T063000
DTEND;TZID=America/New_York:20210616T200000
DTSTAMP:20260424T011551
CREATED:20210606T204425Z
LAST-MODIFIED:20210615T180108Z
UID:4124-1623825000-1623873600@brucesgarden.net
SUMMARY:Mid-Month Summer Reading Series
DESCRIPTION:Geoff Wisner\, a noted Thoreau scholar\, will present two writers who closely observed hawks and wrote about them beautifully:  Henry David Thoreau wrote on the birds in his journals over several years; and Marie Winn’s Red-Tails in Love\, about Pale Male\, New York’s favorite hawk.  \nAlso as a special pleasure\, NYCAudubon has given permission for those attending to view Bruce Yolton’s film A Year with Pale Male prior to the reading. Through amazing photography\, the film follows the birds for a year after Marie Winn’s book and shows newer hawk nests.  Spoiler alert: look for Inwood Hill Park.  \nHere’s the link: https://www.youtube.com/watch?v=6d_ilxVTeAE \n\nPlease come. It will be a beautiful outdoor night in our community’s garden.\nWe are grateful to Humanities New York for their generous support and to the Thoreau Society and NYC Audubon for their kind assistance.  \n  \n\n    \n        \n            \n                \n                \n                \n                \n                \n            \n        \n        \n    \n \n•Drag slideshow images to your desktop for better viewing \n 
URL:https://brucesgarden.net/event/mid-month-summer-reading-series/
LOCATION:Bruce’s Garden\, 11 Park Ter. E.\, New York\, NY\, 10034\, United States
ATTACH;FMTTYPE=image/jpeg:https://brucesgarden.net/wp-content/uploads/2021/06/Red-Tails-Smaller.jpeg
END:VEVENT
BEGIN:VEVENT
DTSTART;TZID=America/New_York:20210618T100000
DTEND;TZID=America/New_York:20210618T110000
DTSTAMP:20260424T011552
CREATED:20210606T202010Z
LAST-MODIFIED:20210606T202819Z
UID:4116-1624010400-1624014000@brucesgarden.net
SUMMARY:Preschool On The Planet
DESCRIPTION:Wonderfully stimulating educational activities (aged 1 – 5) in Inwood’s natural community center.
URL:https://brucesgarden.net/event/preschool-on-the-planet-156/
LOCATION:Bruce’s Garden\, 11 Park Ter. E.\, New York\, NY\, 10034\, United States
ATTACH;FMTTYPE=image/jpeg:https://brucesgarden.net/wp-content/uploads/2016/03/12782141_10208560056421569_1056907136_n.jpg
END:VEVENT
BEGIN:VEVENT
DTSTART;TZID=America/New_York:20210619T170000
DTEND;TZID=America/New_York:20210619T180000
DTSTAMP:20260424T011552
CREATED:20210606T214804Z
LAST-MODIFIED:20210606T215010Z
UID:4157-1624122000-1624125600@brucesgarden.net
SUMMARY:East Winds Ensemble
DESCRIPTION:A masterful mix of Japanese traditional & contemporary Shakuhachi and Koto music for your listening pleasure – featuring Marco Lienhard & Masayo Ishigure
URL:https://brucesgarden.net/event/east-winds-ensemble-4/
LOCATION:Bruce’s Garden\, 11 Park Ter. E.\, New York\, NY\, 10034\, United States
ATTACH;FMTTYPE=image/jpeg:https://brucesgarden.net/wp-content/uploads/2021/06/East-Winds-Ensemble-Flyer-•-Sat-Jun-19th-2021.jpeg
END:VEVENT
BEGIN:VEVENT
DTSTART;TZID=America/New_York:20210625T100000
DTEND;TZID=America/New_York:20210625T110000
DTSTAMP:20260424T011552
CREATED:20210606T202136Z
LAST-MODIFIED:20210606T202136Z
UID:4118-1624615200-1624618800@brucesgarden.net
SUMMARY:Preschool On The Planet
DESCRIPTION:Wonderfully stimulating educational activities (aged 1 – 5) in Inwood’s natural community center.
URL:https://brucesgarden.net/event/preschool-on-the-planet-157/
LOCATION:Bruce’s Garden\, 11 Park Ter. E.\, New York\, NY\, 10034\, United States
ATTACH;FMTTYPE=image/jpeg:https://brucesgarden.net/wp-content/uploads/2016/03/12782141_10208560056421569_1056907136_n.jpg
END:VEVENT
BEGIN:VEVENT
DTSTART;TZID=America/New_York:20210626T150000
DTEND;TZID=America/New_York:20210626T170000
DTSTAMP:20260424T011552
CREATED:20210606T203338Z
LAST-MODIFIED:20210606T203338Z
UID:4122-1624719600-1624726800@brucesgarden.net
SUMMARY:Children’s Craft Class
DESCRIPTION:Join Craftmaster Cathy Sanacore for delightful\, educationally entertaining\, mid-day fun!
URL:https://brucesgarden.net/event/childrens-craft-class-20/
LOCATION:Bruce’s Garden\, 11 Park Ter. E.\, New York\, NY\, 10034\, United States
ATTACH;FMTTYPE=image/jpeg:https://brucesgarden.net/wp-content/uploads/2018/08/37175698_241916589869786_3997137869805191168_o.jpg
END:VEVENT
BEGIN:VEVENT
DTSTART;VALUE=DATE:20210630
DTEND;VALUE=DATE:20210701
DTSTAMP:20260424T011552
CREATED:20210606T220029Z
LAST-MODIFIED:20210606T220029Z
UID:4160-1625011200-1625097599@brucesgarden.net
SUMMARY:Gallery In The Gazebo Presents: Black Elk’s Vision of the Four Directions • CLOSES
DESCRIPTION:A paper show to honor the vision of the Lakota Holy Man Black Elk in memory of Mr. J.A. Reynolds  \n– recent works by Nadema Agard Winyan Luta Woman Holy Red\, Curator
URL:https://brucesgarden.net/event/gallery-in-the-gazebo-presents-black-elks-vision-of-the-four-directions-closes/
LOCATION:Bruce’s Garden\, 11 Park Ter. E.\, New York\, NY\, 10034\, United States
ATTACH;FMTTYPE=image/jpeg:https://brucesgarden.net/wp-content/uploads/2021/06/177824399_10159175054899133_686284729242522834_n.jpg
END:VEVENT
END:VCALENDAR