BEGIN:VCALENDAR
VERSION:2.0
PRODID:-//Bruce's Garden - ECPv6.15.20//NONSGML v1.0//EN
CALSCALE:GREGORIAN
METHOD:PUBLISH
X-ORIGINAL-URL:https://brucesgarden.net
X-WR-CALDESC:Events for Bruce's Garden
REFRESH-INTERVAL;VALUE=DURATION:PT1H
X-Robots-Tag:noindex
X-PUBLISHED-TTL:PT1H
BEGIN:VTIMEZONE
TZID:America/New_York
BEGIN:DAYLIGHT
TZOFFSETFROM:-0500
TZOFFSETTO:-0400
TZNAME:EDT
DTSTART:20200308T070000
END:DAYLIGHT
BEGIN:STANDARD
TZOFFSETFROM:-0400
TZOFFSETTO:-0500
TZNAME:EST
DTSTART:20201101T060000
END:STANDARD
BEGIN:DAYLIGHT
TZOFFSETFROM:-0500
TZOFFSETTO:-0400
TZNAME:EDT
DTSTART:20210314T070000
END:DAYLIGHT
BEGIN:STANDARD
TZOFFSETFROM:-0400
TZOFFSETTO:-0500
TZNAME:EST
DTSTART:20211107T060000
END:STANDARD
BEGIN:DAYLIGHT
TZOFFSETFROM:-0500
TZOFFSETTO:-0400
TZNAME:EDT
DTSTART:20220313T070000
END:DAYLIGHT
BEGIN:STANDARD
TZOFFSETFROM:-0400
TZOFFSETTO:-0500
TZNAME:EST
DTSTART:20221106T060000
END:STANDARD
END:VTIMEZONE
BEGIN:VEVENT
DTSTART;TZID=America/New_York:20211010T160000
DTEND;TZID=America/New_York:20211010T170000
DTSTAMP:20260423T150138
CREATED:20211014T165200Z
LAST-MODIFIED:20211014T165200Z
UID:4253-1633881600-1633885200@brucesgarden.net
SUMMARY:Something Wicked This Way Comes • CANCELLED
DESCRIPTION:Join us! in welcoming the return of Dr. Deceiverini and crew as they urgently usher us\, once more\, on wild and woolly escapades within the murky\, shaded\, arduous landscape of the land known as… “Whodunnit?”
URL:https://brucesgarden.net/event/something-wicked-this-way-comes-cancelled/
LOCATION:Bruce’s Garden\, 11 Park Ter. E.\, New York\, NY\, 10034\, United States
ATTACH;FMTTYPE=image/jpeg:https://brucesgarden.net/wp-content/uploads/2021/10/Radio-Play-2021.jpg
END:VEVENT
BEGIN:VEVENT
DTSTART;TZID=America/New_York:20211017T150000
DTEND;TZID=America/New_York:20211017T163000
DTSTAMP:20260423T150138
CREATED:20211014T165633Z
LAST-MODIFIED:20211014T165633Z
UID:4258-1634482800-1634488200@brucesgarden.net
SUMMARY:Something Wicked This Way Comes • RAIN DATE
DESCRIPTION:This time for sure… \nJoin us! in welcoming the return of Dr. Deceiverini and crew as they urgently usher us\, once more\, on wild and woolly escapades within the murky\, shaded\, arduous landscape of the land known as… “Whodunnit?”
URL:https://brucesgarden.net/event/something-wicked-this-way-comes-rain-date/
LOCATION:Bruce’s Garden\, 11 Park Ter. E.\, New York\, NY\, 10034\, United States
ATTACH;FMTTYPE=image/jpeg:https://brucesgarden.net/wp-content/uploads/2021/10/Radio-Play-2021.jpg
END:VEVENT
BEGIN:VEVENT
DTSTART;TZID=America/New_York:20211023T160000
DTEND;TZID=America/New_York:20211023T170000
DTSTAMP:20260423T150138
CREATED:20211014T170404Z
LAST-MODIFIED:20211014T170404Z
UID:4260-1635004800-1635008400@brucesgarden.net
SUMMARY:Songstress Jenny Lynn Stewart • The New York Spirit
DESCRIPTION:Help us welcome Ms. Stewart on her debut performance in Bruce Reynolds Garden
URL:https://brucesgarden.net/event/songstress-jenny-lynn-stewart-the-new-york-spirit/
LOCATION:Bruce’s Garden\, 11 Park Ter. E.\, New York\, NY\, 10034\, United States
ATTACH;FMTTYPE=image/jpeg:https://brucesgarden.net/wp-content/uploads/2021/10/Jenny-Lynn-Stewart-2021.jpg
END:VEVENT
BEGIN:VEVENT
DTSTART;VALUE=DATE:20211031
DTEND;VALUE=DATE:20211101
DTSTAMP:20260423T150138
CREATED:20211014T172528Z
LAST-MODIFIED:20211014T172528Z
UID:4267-1635638400-1635724799@brucesgarden.net
SUMMARY:Happy Halloween !!
DESCRIPTION:Stop in \nJoin Cathy for a scare.. If you dare!
URL:https://brucesgarden.net/event/happy-halloween/
LOCATION:Bruce’s Garden\, 11 Park Ter. E.\, New York\, NY\, 10034\, United States
ATTACH;FMTTYPE=image/jpeg:https://brucesgarden.net/wp-content/uploads/2021/10/Holloween-2-2021.jpg
END:VEVENT
END:VCALENDAR