BEGIN:VCALENDAR
VERSION:2.0
PRODID:-//Bruce's Garden - ECPv6.15.20//NONSGML v1.0//EN
CALSCALE:GREGORIAN
METHOD:PUBLISH
X-ORIGINAL-URL:https://brucesgarden.net
X-WR-CALDESC:Events for Bruce's Garden
REFRESH-INTERVAL;VALUE=DURATION:PT1H
X-Robots-Tag:noindex
X-PUBLISHED-TTL:PT1H
BEGIN:VTIMEZONE
TZID:America/New_York
BEGIN:DAYLIGHT
TZOFFSETFROM:-0500
TZOFFSETTO:-0400
TZNAME:EDT
DTSTART:20210314T070000
END:DAYLIGHT
BEGIN:STANDARD
TZOFFSETFROM:-0400
TZOFFSETTO:-0500
TZNAME:EST
DTSTART:20211107T060000
END:STANDARD
BEGIN:DAYLIGHT
TZOFFSETFROM:-0500
TZOFFSETTO:-0400
TZNAME:EDT
DTSTART:20220313T070000
END:DAYLIGHT
BEGIN:STANDARD
TZOFFSETFROM:-0400
TZOFFSETTO:-0500
TZNAME:EST
DTSTART:20221106T060000
END:STANDARD
BEGIN:DAYLIGHT
TZOFFSETFROM:-0500
TZOFFSETTO:-0400
TZNAME:EDT
DTSTART:20230312T070000
END:DAYLIGHT
BEGIN:STANDARD
TZOFFSETFROM:-0400
TZOFFSETTO:-0500
TZNAME:EST
DTSTART:20231105T060000
END:STANDARD
END:VTIMEZONE
BEGIN:VEVENT
DTSTART;TZID=America/New_York:20220401T160000
DTEND;TZID=America/New_York:20220401T173000
DTSTAMP:20260423T042935
CREATED:20220326T143228Z
LAST-MODIFIED:20220326T164823Z
UID:4321-1648828800-1648834200@brucesgarden.net
SUMMARY:Garden Opens!!! • Ribbon Cutting @4pm
DESCRIPTION:HAPPY SPRING!!    \nOn Friday April 1\, 2022 @ 4pm…\nHelp us honor Business Owners Angel and Cristina Salazar of Grandpas Pizza & Serrano Salsa.\nAfterward\, we’ll enjoy pizza donated by Angel\, arugula & tomato salad\, pastries\, light refreshments\, and…\nLive Music performed by jazz vocalist Angie Pastor\, accompanied by jazz pianist Oliver Glynn.\nGallery In The Gazebo Opens as well\, and presents a stunning Collage Ceiling Installation by Howard Better\nWelcome back to Inwood’s Natural Community Center. It’s a pleasure seeing you!\nGarden Hours: 10am – 6pm\n  \n 
URL:https://brucesgarden.net/event/garden-opens-ribbon-cutting-4pm/
LOCATION:Bruce’s Garden\, 11 Park Ter. E.\, New York\, NY\, 10034\, United States
ATTACH;FMTTYPE=image/jpeg:https://brucesgarden.net/wp-content/uploads/2022/03/Ribbon-Cutting-Flyer-2022.jpg
END:VEVENT
BEGIN:VEVENT
DTSTART;TZID=America/New_York:20220417T120000
DTEND;TZID=America/New_York:20220417T160000
DTSTAMP:20260423T042935
CREATED:20220326T153752Z
LAST-MODIFIED:20220326T154009Z
UID:4352-1650196800-1650211200@brucesgarden.net
SUMMARY:Easter Party 2022!!!
DESCRIPTION:Sunday April 17th from 12 – 4pm\nCathy Sanacore\, host of our wonderfully outrageous Halloween Parties\, is having an Easter Party in Isham Park next to Bruce Reynolds Garden.  \nIt’ll be fun. There will be lots of surprises\, crafts and candy! Hope to see you!\nQuestions – Cathy 917.593.0318 • Children’s Craft Classes by Cathy\n  \n  \n 
URL:https://brucesgarden.net/event/easter-party/
LOCATION:Bruce’s Garden\, 11 Park Ter. E.\, New York\, NY\, 10034\, United States
ATTACH;FMTTYPE=image/jpeg:https://brucesgarden.net/wp-content/uploads/2022/03/277298956_1045495716178532_3011238376526445324_n.jpg
END:VEVENT
BEGIN:VEVENT
DTSTART;TZID=America/New_York:20220429T100000
DTEND;TZID=America/New_York:20220429T110000
DTSTAMP:20260423T042935
CREATED:20220330T015632Z
LAST-MODIFIED:20220330T015731Z
UID:4386-1651226400-1651230000@brucesgarden.net
SUMMARY:Preschool On The Planet
DESCRIPTION:We’re pleased to welcome Preschool on the Planet back to the garden! COME… Experience the wonderfully stimulating educational activities (aged 1 – 5) in Inwood’s natural community center.
URL:https://brucesgarden.net/event/preschool-on-the-planet-167/
LOCATION:Bruce’s Garden\, 11 Park Ter. E.\, New York\, NY\, 10034\, United States
ATTACH;FMTTYPE=image/jpeg:https://brucesgarden.net/wp-content/uploads/2019/05/57272199_10155711121736377_3904481007025258496_n.jpg
END:VEVENT
BEGIN:VEVENT
DTSTART;TZID=America/New_York:20220429T160000
DTEND;TZID=America/New_York:20220429T180000
DTSTAMP:20260423T042935
CREATED:20220330T012532Z
LAST-MODIFIED:20220330T012812Z
UID:4375-1651248000-1651255200@brucesgarden.net
SUMMARY:Collage Workshop for Children with Howard Better
DESCRIPTION:Collagist Howard Better offers a fun filled activity which should not be missed! \nCollage materials provided. Bring the kids. \nThey’ll love you for it!
URL:https://brucesgarden.net/event/collage-workshop-for-children-with-howard-better/
LOCATION:Bruce’s Garden\, 11 Park Ter. E.\, New York\, NY\, 10034\, United States
ATTACH;FMTTYPE=image/jpeg:https://brucesgarden.net/wp-content/uploads/2022/03/April-to-Dec-2022.jpg
END:VEVENT
END:VCALENDAR