BEGIN:VCALENDAR
VERSION:2.0
PRODID:-//Bruce's Garden - ECPv6.15.20//NONSGML v1.0//EN
CALSCALE:GREGORIAN
METHOD:PUBLISH
X-WR-CALNAME:Bruce's Garden
X-ORIGINAL-URL:https://brucesgarden.net
X-WR-CALDESC:Events for Bruce's Garden
REFRESH-INTERVAL;VALUE=DURATION:PT1H
X-Robots-Tag:noindex
X-PUBLISHED-TTL:PT1H
BEGIN:VTIMEZONE
TZID:America/New_York
BEGIN:DAYLIGHT
TZOFFSETFROM:-0500
TZOFFSETTO:-0400
TZNAME:EDT
DTSTART:20210314T070000
END:DAYLIGHT
BEGIN:STANDARD
TZOFFSETFROM:-0400
TZOFFSETTO:-0500
TZNAME:EST
DTSTART:20211107T060000
END:STANDARD
BEGIN:DAYLIGHT
TZOFFSETFROM:-0500
TZOFFSETTO:-0400
TZNAME:EDT
DTSTART:20220313T070000
END:DAYLIGHT
BEGIN:STANDARD
TZOFFSETFROM:-0400
TZOFFSETTO:-0500
TZNAME:EST
DTSTART:20221106T060000
END:STANDARD
BEGIN:DAYLIGHT
TZOFFSETFROM:-0500
TZOFFSETTO:-0400
TZNAME:EDT
DTSTART:20230312T070000
END:DAYLIGHT
BEGIN:STANDARD
TZOFFSETFROM:-0400
TZOFFSETTO:-0500
TZNAME:EST
DTSTART:20231105T060000
END:STANDARD
END:VTIMEZONE
BEGIN:VEVENT
DTSTART;TZID=America/New_York:20220501T130000
DTEND;TZID=America/New_York:20220501T160000
DTSTAMP:20260423T025750
CREATED:20220527T004819Z
LAST-MODIFIED:20220527T004819Z
UID:4394-1651410000-1651420800@brucesgarden.net
SUMMARY:Sunday Afternoon Potluck in Bruce’s Garden
DESCRIPTION:Join hostess Nadema Agard for a mouthwatering culinary adventure. You’ll never know who you’ll meet\, greet… or what you’ll eat! To attend please RSVP redearthstudio@aol.com by 8pm Saturday Eve \nBon Appitit!
URL:https://brucesgarden.net/event/sunday-afternoon-potluck-in-bruces-garden-46/
LOCATION:Bruce’s Garden\, 11 Park Ter. E.\, New York\, NY\, 10034\, United States
ATTACH;FMTTYPE=image/jpeg:https://brucesgarden.net/wp-content/uploads/2019/05/59157564_10157211739169133_4849514858871259136_o.jpg
END:VEVENT
BEGIN:VEVENT
DTSTART;TZID=America/New_York:20220508T130000
DTEND;TZID=America/New_York:20220508T150000
DTSTAMP:20260423T025750
CREATED:20220527T011301Z
LAST-MODIFIED:20220527T011402Z
UID:4404-1652014800-1652022000@brucesgarden.net
SUMMARY:Gallery In The Gazebo Opening & Reception
DESCRIPTION:Join Gallery In The Gazebo curator Nadema Agard for the Opening & Reception of her presentation “Black Elk’s Vision of the Four Directions”.
URL:https://brucesgarden.net/event/gallery-in-the-gazebo-opening-reception/
LOCATION:Bruce’s Garden\, 11 Park Ter. E.\, New York\, NY\, 10034\, United States
ATTACH;FMTTYPE=image/jpeg:https://brucesgarden.net/wp-content/uploads/2022/05/177824399_10159175054899133_686284729242522834_n1.jpg
END:VEVENT
BEGIN:VEVENT
DTSTART;TZID=America/New_York:20220508T130000
DTEND;TZID=America/New_York:20220508T160000
DTSTAMP:20260423T025750
CREATED:20220527T004946Z
LAST-MODIFIED:20220527T004946Z
UID:4396-1652014800-1652025600@brucesgarden.net
SUMMARY:Sunday Afternoon Potluck in Bruce’s Garden
DESCRIPTION:Join hostess Nadema Agard for a mouthwatering culinary adventure. You’ll never know who you’ll meet\, greet… or what you’ll eat! To attend please RSVP redearthstudio@aol.com by 8pm Saturday Eve \nBon Appitit!
URL:https://brucesgarden.net/event/sunday-afternoon-potluck-in-bruces-garden-47/
LOCATION:Bruce’s Garden\, 11 Park Ter. E.\, New York\, NY\, 10034\, United States
ATTACH;FMTTYPE=image/jpeg:https://brucesgarden.net/wp-content/uploads/2019/05/59157564_10157211739169133_4849514858871259136_o.jpg
END:VEVENT
BEGIN:VEVENT
DTSTART;TZID=America/New_York:20220515T130000
DTEND;TZID=America/New_York:20220515T160000
DTSTAMP:20260423T025750
CREATED:20220527T005056Z
LAST-MODIFIED:20220527T005056Z
UID:4398-1652619600-1652630400@brucesgarden.net
SUMMARY:Sunday Afternoon Potluck in Bruce’s Garden
DESCRIPTION:Join hostess Nadema Agard for a mouthwatering culinary adventure. You’ll never know who you’ll meet\, greet… or what you’ll eat! To attend please RSVP redearthstudio@aol.com by 8pm Saturday Eve \nBon Appitit!
URL:https://brucesgarden.net/event/sunday-afternoon-potluck-in-bruces-garden-48/
LOCATION:Bruce’s Garden\, 11 Park Ter. E.\, New York\, NY\, 10034\, United States
ATTACH;FMTTYPE=image/jpeg:https://brucesgarden.net/wp-content/uploads/2019/05/59157564_10157211739169133_4849514858871259136_o.jpg
END:VEVENT
BEGIN:VEVENT
DTSTART;TZID=America/New_York:20220521T160000
DTEND;TZID=America/New_York:20220521T173000
DTSTAMP:20260423T025750
CREATED:20220527T012355Z
LAST-MODIFIED:20220527T012510Z
UID:4408-1653148800-1653154200@brucesgarden.net
SUMMARY:BRMG's "Open Air Series" Presents Gail Burrows & Harry Mandel in Concert
DESCRIPTION:Join us for our first Open Air Concert of the season featuring Gail Burrows & Harry Mandel. You’ll be glad you did!
URL:https://brucesgarden.net/event/open-air-series-presents-gail-burrows-harry-mandel-in-concert/
LOCATION:Bruce’s Garden\, 11 Park Ter. E.\, New York\, NY\, 10034\, United States
ATTACH;FMTTYPE=image/jpeg:https://brucesgarden.net/wp-content/uploads/2022/05/279765525_10159810570473340_3187744197056515261_n.jpg
END:VEVENT
BEGIN:VEVENT
DTSTART;TZID=America/New_York:20220522T130000
DTEND;TZID=America/New_York:20220522T160000
DTSTAMP:20260423T025750
CREATED:20220527T005217Z
LAST-MODIFIED:20220527T005217Z
UID:4400-1653224400-1653235200@brucesgarden.net
SUMMARY:Sunday Afternoon Potluck in Bruce’s Garden
DESCRIPTION:Join hostess Nadema Agard for a mouthwatering culinary adventure. You’ll never know who you’ll meet\, greet… or what you’ll eat! To attend please RSVP redearthstudio@aol.com by 8pm Saturday Eve \nBon Appitit!
URL:https://brucesgarden.net/event/sunday-afternoon-potluck-in-bruces-garden-49/
LOCATION:Bruce’s Garden\, 11 Park Ter. E.\, New York\, NY\, 10034\, United States
ATTACH;FMTTYPE=image/jpeg:https://brucesgarden.net/wp-content/uploads/2019/05/59157564_10157211739169133_4849514858871259136_o.jpg
END:VEVENT
BEGIN:VEVENT
DTSTART;TZID=America/New_York:20220528T180000
DTEND;TZID=America/New_York:20220528T190000
DTSTAMP:20260423T025750
CREATED:20220527T013304Z
LAST-MODIFIED:20220527T014109Z
UID:4412-1653760800-1653764400@brucesgarden.net
SUMMARY:East Winds Ensemble - featuring Marco Lienhard & Masayo Ishigure
DESCRIPTION:
URL:https://brucesgarden.net/event/east-winds-ensemble-featuring-marco-lienhard-masayo-ishigure/
LOCATION:Bruce’s Garden\, 11 Park Ter. E.\, New York\, NY\, 10034\, United States
ATTACH;FMTTYPE=image/jpeg:https://brucesgarden.net/wp-content/uploads/2022/05/283040416_10159488498374927_4175447799514219664_n.jpg
END:VEVENT
BEGIN:VEVENT
DTSTART;TZID=America/New_York:20220529T130000
DTEND;TZID=America/New_York:20220529T160000
DTSTAMP:20260423T025750
CREATED:20220527T005350Z
LAST-MODIFIED:20220527T005350Z
UID:4402-1653829200-1653840000@brucesgarden.net
SUMMARY:Sunday Afternoon Potluck in Bruce’s Garden
DESCRIPTION:Join hostess Nadema Agard for a mouthwatering culinary adventure. You’ll never know who you’ll meet\, greet… or what you’ll eat! To attend please RSVP redearthstudio@aol.com by 8pm Saturday Eve \nBon Appitit!
URL:https://brucesgarden.net/event/sunday-afternoon-potluck-in-bruces-garden-50/
LOCATION:Bruce’s Garden\, 11 Park Ter. E.\, New York\, NY\, 10034\, United States
ATTACH;FMTTYPE=image/jpeg:https://brucesgarden.net/wp-content/uploads/2019/05/59157564_10157211739169133_4849514858871259136_o.jpg
END:VEVENT
BEGIN:VEVENT
DTSTART;TZID=America/New_York:20220529T180000
DTEND;TZID=America/New_York:20220529T190000
DTSTAMP:20260423T025750
CREATED:20220527T013947Z
LAST-MODIFIED:20220527T014003Z
UID:4416-1653847200-1653850800@brucesgarden.net
SUMMARY:RAIN DATE: East Winds Ensemble – featuring Marco Lienhard & Masayo Ishigure
DESCRIPTION:
URL:https://brucesgarden.net/event/rain-dateeast-winds-ensemble-featuring-marco-lienhard-masayo-ishigure/
LOCATION:Bruce’s Garden\, 11 Park Ter. E.\, New York\, NY\, 10034\, United States
ATTACH;FMTTYPE=image/jpeg:https://brucesgarden.net/wp-content/uploads/2022/05/283040416_10159488498374927_4175447799514219664_n.jpg
END:VEVENT
END:VCALENDAR