BEGIN:VCALENDAR
VERSION:2.0
PRODID:-//Bruce's Garden - ECPv6.15.20//NONSGML v1.0//EN
CALSCALE:GREGORIAN
METHOD:PUBLISH
X-WR-CALNAME:Bruce's Garden
X-ORIGINAL-URL:https://brucesgarden.net
X-WR-CALDESC:Events for Bruce's Garden
REFRESH-INTERVAL;VALUE=DURATION:PT1H
X-Robots-Tag:noindex
X-PUBLISHED-TTL:PT1H
BEGIN:VTIMEZONE
TZID:America/New_York
BEGIN:DAYLIGHT
TZOFFSETFROM:-0500
TZOFFSETTO:-0400
TZNAME:EDT
DTSTART:20210314T070000
END:DAYLIGHT
BEGIN:STANDARD
TZOFFSETFROM:-0400
TZOFFSETTO:-0500
TZNAME:EST
DTSTART:20211107T060000
END:STANDARD
BEGIN:DAYLIGHT
TZOFFSETFROM:-0500
TZOFFSETTO:-0400
TZNAME:EDT
DTSTART:20220313T070000
END:DAYLIGHT
BEGIN:STANDARD
TZOFFSETFROM:-0400
TZOFFSETTO:-0500
TZNAME:EST
DTSTART:20221106T060000
END:STANDARD
BEGIN:DAYLIGHT
TZOFFSETFROM:-0500
TZOFFSETTO:-0400
TZNAME:EDT
DTSTART:20230312T070000
END:DAYLIGHT
BEGIN:STANDARD
TZOFFSETFROM:-0400
TZOFFSETTO:-0500
TZNAME:EST
DTSTART:20231105T060000
END:STANDARD
END:VTIMEZONE
BEGIN:VEVENT
DTSTART;TZID=America/New_York:20220611T130000
DTEND;TZID=America/New_York:20220611T150000
DTSTAMP:20260423T011739
CREATED:20220606T182825Z
LAST-MODIFIED:20220608T121249Z
UID:4449-1654952400-1654959600@brucesgarden.net
SUMMARY:Paper Art Workshop for Children
DESCRIPTION:Join GALLERY IN THE GAZEBO artistic curator Nadema Agard for a fun-filled afternoon of creativity\, instructional beauty and astounding paperwork arts.
URL:https://brucesgarden.net/event/paper-art-workshop-for-children/
LOCATION:Bruce’s Garden\, 11 Park Ter. E.\, New York\, NY\, 10034\, United States
ATTACH;FMTTYPE=image/jpeg:https://brucesgarden.net/wp-content/uploads/2022/06/PAPER-ARTS-Workshop-for-Children-by-Nadema-Agard-.jpg
END:VEVENT
BEGIN:VEVENT
DTSTART;TZID=America/New_York:20220612T130000
DTEND;TZID=America/New_York:20220612T160000
DTSTAMP:20260423T011739
CREATED:20220606T181813Z
LAST-MODIFIED:20220606T181813Z
UID:4443-1655038800-1655049600@brucesgarden.net
SUMMARY:Sunday Afternoon Potluck in Bruce’s Garden
DESCRIPTION:Join hostess Nadema Agard for a mouthwatering culinary adventure. You’ll never know who you’ll meet\, greet… or what you’ll eat! To attend please RSVP redearthstudio@aol.com by 8pm Saturday Eve \nBon Appitit!
URL:https://brucesgarden.net/event/sunday-afternoon-potluck-in-bruces-garden-51/
LOCATION:Bruce’s Garden\, 11 Park Ter. E.\, New York\, NY\, 10034\, United States
ATTACH;FMTTYPE=image/jpeg:https://brucesgarden.net/wp-content/uploads/2019/05/59157564_10157211739169133_4849514858871259136_o.jpg
END:VEVENT
BEGIN:VEVENT
DTSTART;TZID=America/New_York:20220615T180000
DTEND;TZID=America/New_York:20220615T190000
DTSTAMP:20260423T011739
CREATED:20220613T131538Z
LAST-MODIFIED:20220613T132201Z
UID:4478-1655316000-1655319600@brucesgarden.net
SUMMARY:Summer Summit • Musical Conversations w/ Dana Gae Hanchard & Aaron Scott
DESCRIPTION:Enjoy an evening serenade of gentle\, acoustic\, improvisational music within the magical oasis of the garden. \nMusicians\, feel free to join in. Dancers\, feel free to dance. Artists\, feel free to sketch… \nSee you there!
URL:https://brucesgarden.net/event/summer-summit-musical-conversations-w-dana-gae-hanchard-aaron-scott/
LOCATION:Bruce’s Garden\, 11 Park Ter. E.\, New York\, NY\, 10034\, United States
ATTACH;FMTTYPE=image/jpeg:https://brucesgarden.net/wp-content/uploads/2018/06/IMG_2318.jpg
END:VEVENT
BEGIN:VEVENT
DTSTART;TZID=America/New_York:20220618T060000
DTEND;TZID=America/New_York:20220618T200000
DTSTAMP:20260423T011739
CREATED:20220606T183945Z
LAST-MODIFIED:20220606T183945Z
UID:4462-1655532000-1655582400@brucesgarden.net
SUMMARY:TAIKOZA!
DESCRIPTION:
URL:https://brucesgarden.net/event/taikoza-4/
LOCATION:Bruce’s Garden\, 11 Park Ter. E.\, New York\, NY\, 10034\, United States
ATTACH;FMTTYPE=image/jpeg:https://brucesgarden.net/wp-content/uploads/2022/06/283252484_10159488509249927_6475143341241007079_n.jpg
END:VEVENT
BEGIN:VEVENT
DTSTART;TZID=America/New_York:20220619T130000
DTEND;TZID=America/New_York:20220619T160000
DTSTAMP:20260423T011739
CREATED:20220606T181948Z
LAST-MODIFIED:20220606T181948Z
UID:4445-1655643600-1655654400@brucesgarden.net
SUMMARY:Sunday Afternoon Potluck in Bruce’s Garden
DESCRIPTION:Join hostess Nadema Agard for a mouthwatering culinary adventure. You’ll never know who you’ll meet\, greet… or what you’ll eat! To attend please RSVP redearthstudio@aol.com by 8pm Saturday Eve \nBon Appitit!
URL:https://brucesgarden.net/event/sunday-afternoon-potluck-in-bruces-garden-52/
LOCATION:Bruce’s Garden\, 11 Park Ter. E.\, New York\, NY\, 10034\, United States
ATTACH;FMTTYPE=image/jpeg:https://brucesgarden.net/wp-content/uploads/2019/05/59157564_10157211739169133_4849514858871259136_o.jpg
END:VEVENT
BEGIN:VEVENT
DTSTART;TZID=America/New_York:20220619T160000
DTEND;TZID=America/New_York:20220619T180000
DTSTAMP:20260423T011739
CREATED:20220606T184614Z
LAST-MODIFIED:20220606T184614Z
UID:4464-1655654400-1655661600@brucesgarden.net
SUMMARY:BRMG "Open Air Series" ~ Drum Circle in Isham Park
DESCRIPTION:Join BRMG Program Director Aaron Scott while he leads the garden’s first Drum Circle in Isham Park. Bring a percussive instrument and join the fun. \nAll ages welcome! See you there!
URL:https://brucesgarden.net/event/brmg-open-air-series-drum-circle-in-isham-park/
LOCATION:Bruce’s Garden\, 11 Park Ter. E.\, New York\, NY\, 10034\, United States
ATTACH;FMTTYPE=image/png:https://brucesgarden.net/wp-content/uploads/2022/06/IMG_5810.png
END:VEVENT
BEGIN:VEVENT
DTSTART;TZID=America/New_York:20220622T180000
DTEND;TZID=America/New_York:20220622T190000
DTSTAMP:20260423T011739
CREATED:20220613T132028Z
LAST-MODIFIED:20220613T132114Z
UID:4481-1655920800-1655924400@brucesgarden.net
SUMMARY:Summer Summit • Musical Conversations w/ Dana Gae Hanchard & Aaron Scott
DESCRIPTION:Enjoy an evening serenade of gentle\, acoustic\, improvisational music within the magical oasis of the garden. \nMusicians\, feel free to join in. Dancers\, feel free to dance. Artists\, feel free to sketch… \nSee you there!
URL:https://brucesgarden.net/event/summer-summit-musical-conversations-w-dana-gae-hanchard-aaron-scott-2/
LOCATION:Bruce’s Garden\, 11 Park Ter. E.\, New York\, NY\, 10034\, United States
ATTACH;FMTTYPE=image/jpeg:https://brucesgarden.net/wp-content/uploads/2018/06/IMG_2318.jpg
END:VEVENT
BEGIN:VEVENT
DTSTART;TZID=America/New_York:20220626T130000
DTEND;TZID=America/New_York:20220626T160000
DTSTAMP:20260423T011739
CREATED:20220606T182116Z
LAST-MODIFIED:20220606T182116Z
UID:4447-1656248400-1656259200@brucesgarden.net
SUMMARY:Sunday Afternoon Potluck in Bruce’s Garden
DESCRIPTION:Join hostess Nadema Agard for a mouthwatering culinary adventure. You’ll never know who you’ll meet\, greet… or what you’ll eat! To attend please RSVP redearthstudio@aol.com by 8pm Saturday Eve \nBon Appitit!
URL:https://brucesgarden.net/event/sunday-afternoon-potluck-in-bruces-garden-53/
LOCATION:Bruce’s Garden\, 11 Park Ter. E.\, New York\, NY\, 10034\, United States
ATTACH;FMTTYPE=image/jpeg:https://brucesgarden.net/wp-content/uploads/2019/05/59157564_10157211739169133_4849514858871259136_o.jpg
END:VEVENT
BEGIN:VEVENT
DTSTART;TZID=America/New_York:20220629T180000
DTEND;TZID=America/New_York:20220629T190000
DTSTAMP:20260423T011739
CREATED:20220613T132355Z
LAST-MODIFIED:20220613T132355Z
UID:4485-1656525600-1656529200@brucesgarden.net
SUMMARY:Summer Summit • Musical Conversations w/ Dana Gae Hanchard & Aaron Scott
DESCRIPTION:Enjoy an evening serenade of gentle\, acoustic\, improvisational music within the magical oasis of the garden. \nMusicians\, feel free to join in. Dancers\, feel free to dance. Artists\, feel free to sketch… \nSee you there!
URL:https://brucesgarden.net/event/summer-summit-musical-conversations-w-dana-gae-hanchard-aaron-scott-3/
LOCATION:Bruce’s Garden\, 11 Park Ter. E.\, New York\, NY\, 10034\, United States
ATTACH;FMTTYPE=image/jpeg:https://brucesgarden.net/wp-content/uploads/2018/06/IMG_2318.jpg
END:VEVENT
BEGIN:VEVENT
DTSTART;TZID=America/New_York:20220630T080000
DTEND;TZID=America/New_York:20220630T170000
DTSTAMP:20260423T011739
CREATED:20220606T190120Z
LAST-MODIFIED:20220606T190120Z
UID:4475-1656576000-1656608400@brucesgarden.net
SUMMARY:GITG Group Show CLOSES
DESCRIPTION:
URL:https://brucesgarden.net/event/gitg-group-show-closes/
LOCATION:Bruce’s Garden\, 11 Park Ter. E.\, New York\, NY\, 10034\, United States
ATTACH;FMTTYPE=image/jpeg:https://brucesgarden.net/wp-content/uploads/2022/05/177824399_10159175054899133_686284729242522834_n1.jpg
END:VEVENT
END:VCALENDAR