BEGIN:VCALENDAR
VERSION:2.0
PRODID:-//Bruce's Garden - ECPv6.15.20//NONSGML v1.0//EN
CALSCALE:GREGORIAN
METHOD:PUBLISH
X-WR-CALNAME:Bruce's Garden
X-ORIGINAL-URL:https://brucesgarden.net
X-WR-CALDESC:Events for Bruce's Garden
REFRESH-INTERVAL;VALUE=DURATION:PT1H
X-Robots-Tag:noindex
X-PUBLISHED-TTL:PT1H
BEGIN:VTIMEZONE
TZID:America/New_York
BEGIN:DAYLIGHT
TZOFFSETFROM:-0500
TZOFFSETTO:-0400
TZNAME:EDT
DTSTART:20210314T070000
END:DAYLIGHT
BEGIN:STANDARD
TZOFFSETFROM:-0400
TZOFFSETTO:-0500
TZNAME:EST
DTSTART:20211107T060000
END:STANDARD
BEGIN:DAYLIGHT
TZOFFSETFROM:-0500
TZOFFSETTO:-0400
TZNAME:EDT
DTSTART:20220313T070000
END:DAYLIGHT
BEGIN:STANDARD
TZOFFSETFROM:-0400
TZOFFSETTO:-0500
TZNAME:EST
DTSTART:20221106T060000
END:STANDARD
BEGIN:DAYLIGHT
TZOFFSETFROM:-0500
TZOFFSETTO:-0400
TZNAME:EDT
DTSTART:20230312T070000
END:DAYLIGHT
BEGIN:STANDARD
TZOFFSETFROM:-0400
TZOFFSETTO:-0500
TZNAME:EST
DTSTART:20231105T060000
END:STANDARD
END:VTIMEZONE
BEGIN:VEVENT
DTSTART;VALUE=DATE:20220902
DTEND;VALUE=DATE:20220903
DTSTAMP:20260422T201155
CREATED:20220917T120130Z
LAST-MODIFIED:20220917T120130Z
UID:4585-1662076800-1662163199@brucesgarden.net
SUMMARY:Mother Earth Female Aspect ~ Horizontal Axis OPENS
DESCRIPTION:Our latest installation “Mother Earth Female Aspect ~ Horizontal Axis” featuring the works of Cazorla + Saleme\, Cheramie Mondesire\, Elissa Gore\, Guadalupe García\, Vásquez\, Julia Justo\, Kaé\, Sato\, Liz DeMayo\, Noëlle King\, & Shu Tu is open Now to October 30th 2022!  \nSee you soon
URL:https://brucesgarden.net/event/mother-earth-female-aspect-horizontal-axis-opens/
LOCATION:Bruce’s Garden\, 11 Park Ter. E.\, New York\, NY\, 10034\, United States
ATTACH;FMTTYPE=image/jpeg:https://brucesgarden.net/wp-content/uploads/2022/09/299938759_6080843398598519_4096342432891968408_n.jpg
END:VEVENT
BEGIN:VEVENT
DTSTART;TZID=America/New_York:20220903T173000
DTEND;TZID=America/New_York:20220903T183000
DTSTAMP:20260422T201155
CREATED:20220917T122242Z
LAST-MODIFIED:20220917T122516Z
UID:4588-1662226200-1662229800@brucesgarden.net
SUMMARY:East Winds Ensemble – featuring Marco Lienhard & Masayo Ishigure
DESCRIPTION:A wonderfully musical continuation of affirmation on summer’s departure\, performed in a magical setting!
URL:https://brucesgarden.net/event/east-winds-ensemble-featuring-marco-lienhard-masayo-ishigure-2/
LOCATION:Bruce’s Garden\, 11 Park Ter. E.\, New York\, NY\, 10034\, United States
ATTACH;FMTTYPE=image/jpeg:https://brucesgarden.net/wp-content/uploads/2022/09/East-Wiands-Shakuhachi.jpg
END:VEVENT
BEGIN:VEVENT
DTSTART;TZID=America/New_York:20220904T130000
DTEND;TZID=America/New_York:20220904T160000
DTSTAMP:20260422T201155
CREATED:20220917T122952Z
LAST-MODIFIED:20220917T122952Z
UID:4593-1662296400-1662307200@brucesgarden.net
SUMMARY:Sunday Afternoon Potluck in Bruce’s Garden
DESCRIPTION:Join hostess Nadema Agard for a mouthwatering culinary adventure. You’ll never know who you’ll meet\, greet… or what you’ll eat! To attend please RSVP redearthstudio@aol.com by 8pm Saturday Eve\nBon Appitit!
URL:https://brucesgarden.net/event/sunday-afternoon-potluck-in-bruces-garden-61/
LOCATION:Bruce’s Garden\, 11 Park Ter. E.\, New York\, NY\, 10034\, United States
ATTACH;FMTTYPE=image/jpeg:https://brucesgarden.net/wp-content/uploads/2019/05/59157564_10157211739169133_4849514858871259136_o.jpg
END:VEVENT
BEGIN:VEVENT
DTSTART;VALUE=DATE:20220911
DTEND;VALUE=DATE:20220912
DTSTAMP:20260422T201155
CREATED:20220917T124555Z
LAST-MODIFIED:20220917T124555Z
UID:4597-1662854400-1662940799@brucesgarden.net
SUMMARY:Day Of Remembrance
DESCRIPTION:
URL:https://brucesgarden.net/event/day-of-remembrance-4/
LOCATION:Bruce’s Garden\, 11 Park Ter. E.\, New York\, NY\, 10034\, United States
ATTACH;FMTTYPE=image/jpeg:https://brucesgarden.net/wp-content/uploads/2022/09/911-Photo-Day-Of-Remembrance.jpg
END:VEVENT
BEGIN:VEVENT
DTSTART;TZID=America/New_York:20220911T130000
DTEND;TZID=America/New_York:20220911T160000
DTSTAMP:20260422T201155
CREATED:20220917T123246Z
LAST-MODIFIED:20220917T123246Z
UID:4595-1662901200-1662912000@brucesgarden.net
SUMMARY:Sunday Afternoon Potluck in Bruce’s Garden
DESCRIPTION:Join hostess Nadema Agard for a mouthwatering culinary adventure. You’ll never know who you’ll meet\, greet… or what you’ll eat! To attend please RSVP redearthstudio@aol.com by 8pm Saturday Eve\nBon Appitit!
URL:https://brucesgarden.net/event/sunday-afternoon-potluck-in-bruces-garden-62/
LOCATION:Bruce’s Garden\, 11 Park Ter. E.\, New York\, NY\, 10034\, United States
ATTACH;FMTTYPE=image/jpeg:https://brucesgarden.net/wp-content/uploads/2019/05/59157564_10157211739169133_4849514858871259136_o.jpg
END:VEVENT
BEGIN:VEVENT
DTSTART;TZID=America/New_York:20220916T090000
DTEND;TZID=America/New_York:20220916T130000
DTSTAMP:20260422T201155
CREATED:20220917T132345Z
LAST-MODIFIED:20220917T132522Z
UID:4606-1663318800-1663333200@brucesgarden.net
SUMMARY:PANYNJ • Remembrance Through Renewal '22
DESCRIPTION:Welcome Back! PANYNJ Remembrance Through Renewal Team…
URL:https://brucesgarden.net/event/panynj-remembrance-through-renewal-22/
LOCATION:Bruce’s Garden\, 11 Park Ter. E.\, New York\, NY\, 10034\, United States
ATTACH;FMTTYPE=image/jpeg:https://brucesgarden.net/wp-content/uploads/2022/09/IMG_6177-scaled.jpg
END:VEVENT
BEGIN:VEVENT
DTSTART;TZID=America/New_York:20220917T173000
DTEND;TZID=America/New_York:20220917T183000
DTSTAMP:20260422T201155
CREATED:20220917T133626Z
LAST-MODIFIED:20220917T133626Z
UID:4610-1663435800-1663439400@brucesgarden.net
SUMMARY:TAIKOZA! in Isham Park
DESCRIPTION:A concert with student performers. There will also be other activities for children in the audience.
URL:https://brucesgarden.net/event/taikoza-in-isham-park/
LOCATION:Bruce’s Garden\, 11 Park Ter. E.\, New York\, NY\, 10034\, United States
ATTACH;FMTTYPE=image/jpeg:https://brucesgarden.net/wp-content/uploads/2022/09/TAIKOZA-Drums.jpg
END:VEVENT
BEGIN:VEVENT
DTSTART;TZID=America/New_York:20220918T130000
DTEND;TZID=America/New_York:20220918T160000
DTSTAMP:20260422T201155
CREATED:20220917T130253Z
LAST-MODIFIED:20220917T163538Z
UID:4602-1663506000-1663516800@brucesgarden.net
SUMMARY:GITG • Mother Earth Female Aspect: Reception & Book Signing
DESCRIPTION:Meet artists Cazorla + Saleme\, Cheramie Mondesire\, Elissa Gore\, Guadalupe García\, Vásquez\, Julia Justo\, Kaé\, Sato\, Liz DeMayo\, Noëlle King\, Shu Tu and curator Nadema Agard during a gracious reception and book signing in honor of  our current installation.
URL:https://brucesgarden.net/event/mother-gitg-earth-female-aspect-reception-book-signing/
LOCATION:Bruce’s Garden\, 11 Park Ter. E.\, New York\, NY\, 10034\, United States
ATTACH;FMTTYPE=image/jpeg:https://brucesgarden.net/wp-content/uploads/2022/09/299938759_6080843398598519_4096342432891968408_n.jpg
END:VEVENT
BEGIN:VEVENT
DTSTART;TZID=America/New_York:20220924T170000
DTEND;TZID=America/New_York:20220924T180000
DTSTAMP:20260422T201155
CREATED:20220917T134047Z
LAST-MODIFIED:20220917T134047Z
UID:4613-1664038800-1664042400@brucesgarden.net
SUMMARY:Community Concert for All ages
DESCRIPTION:Join Liana Stampur and Clinton Curtis for a fun filled evening of music and song for family and friends!
URL:https://brucesgarden.net/event/community-concert-for-all-ages-2/
LOCATION:Bruce’s Garden\, 11 Park Ter. E.\, New York\, NY\, 10034\, United States
ATTACH;FMTTYPE=image/jpeg:https://brucesgarden.net/wp-content/uploads/2022/09/306898594_10160043093068340_6826702770495414462_n.jpg
END:VEVENT
BEGIN:VEVENT
DTSTART;TZID=America/New_York:20220925T130000
DTEND;TZID=America/New_York:20220925T160000
DTSTAMP:20260422T201155
CREATED:20220917T124939Z
LAST-MODIFIED:20220917T124939Z
UID:4600-1664110800-1664121600@brucesgarden.net
SUMMARY:Sunday Afternoon Potluck in Bruce’s Garden
DESCRIPTION:Join hostess Nadema Agard for a mouthwatering culinary adventure. You’ll never know who you’ll meet\, greet… or what you’ll eat! To attend please RSVP redearthstudio@aol.com by 8pm Saturday Eve\nBon Appitit!
URL:https://brucesgarden.net/event/sunday-afternoon-potluck-in-bruces-garden-63/
LOCATION:Bruce’s Garden\, 11 Park Ter. E.\, New York\, NY\, 10034\, United States
ATTACH;FMTTYPE=image/jpeg:https://brucesgarden.net/wp-content/uploads/2019/05/59157564_10157211739169133_4849514858871259136_o.jpg
END:VEVENT
BEGIN:VEVENT
DTSTART;TZID=America/New_York:20220925T163000
DTEND;TZID=America/New_York:20220925T173000
DTSTAMP:20260422T201155
CREATED:20220917T142032Z
LAST-MODIFIED:20220917T142032Z
UID:4631-1664123400-1664127000@brucesgarden.net
SUMMARY:DR. DECEIVERINI • The Tomasina Jason Case
DESCRIPTION:The best Radio Play in town returns! \nJoin Dr. Deceiverini and crew for a wild and woolly ride through the shaded\, arduous landscapes of… Who Done It!! \nThe next featured title:  \nThe Tomasina Jason Case
URL:https://brucesgarden.net/event/dr-deceiverini-the-tomasina-jason-case/
LOCATION:Bruce’s Garden\, 11 Park Ter. E.\, New York\, NY\, 10034\, United States
ATTACH;FMTTYPE=image/jpeg:https://brucesgarden.net/wp-content/uploads/2022/09/Diamond-Jason-0922-poster-092522.jpg
END:VEVENT
END:VCALENDAR