BEGIN:VCALENDAR
VERSION:2.0
PRODID:-//Bruce's Garden - ECPv6.15.20//NONSGML v1.0//EN
CALSCALE:GREGORIAN
METHOD:PUBLISH
X-WR-CALNAME:Bruce's Garden
X-ORIGINAL-URL:https://brucesgarden.net
X-WR-CALDESC:Events for Bruce's Garden
REFRESH-INTERVAL;VALUE=DURATION:PT1H
X-Robots-Tag:noindex
X-PUBLISHED-TTL:PT1H
BEGIN:VTIMEZONE
TZID:America/New_York
BEGIN:DAYLIGHT
TZOFFSETFROM:-0500
TZOFFSETTO:-0400
TZNAME:EDT
DTSTART:20210314T070000
END:DAYLIGHT
BEGIN:STANDARD
TZOFFSETFROM:-0400
TZOFFSETTO:-0500
TZNAME:EST
DTSTART:20211107T060000
END:STANDARD
BEGIN:DAYLIGHT
TZOFFSETFROM:-0500
TZOFFSETTO:-0400
TZNAME:EDT
DTSTART:20220313T070000
END:DAYLIGHT
BEGIN:STANDARD
TZOFFSETFROM:-0400
TZOFFSETTO:-0500
TZNAME:EST
DTSTART:20221106T060000
END:STANDARD
BEGIN:DAYLIGHT
TZOFFSETFROM:-0500
TZOFFSETTO:-0400
TZNAME:EDT
DTSTART:20230312T070000
END:DAYLIGHT
BEGIN:STANDARD
TZOFFSETFROM:-0400
TZOFFSETTO:-0500
TZNAME:EST
DTSTART:20231105T060000
END:STANDARD
END:VTIMEZONE
BEGIN:VEVENT
DTSTART;TZID=America/New_York:20221002T130000
DTEND;TZID=America/New_York:20221002T160000
DTSTAMP:20260422T183858
CREATED:20221003T182903Z
LAST-MODIFIED:20221003T182903Z
UID:4640-1664715600-1664726400@brucesgarden.net
SUMMARY:Sunday Afternoon Potluck in Bruce’s Garden
DESCRIPTION:Join hostess Nadema Agard for a mouthwatering culinary adventure. You’ll never know who you’ll meet\, greet… or what you’ll eat! To attend please RSVP redearthstudio@aol.com by 8pm Saturday Eve\nBon Appitit!
URL:https://brucesgarden.net/event/sunday-afternoon-potluck-in-bruces-garden-64/
LOCATION:Bruce’s Garden\, 11 Park Ter. E.\, New York\, NY\, 10034\, United States
ATTACH;FMTTYPE=image/jpeg:https://brucesgarden.net/wp-content/uploads/2019/05/59157564_10157211739169133_4849514858871259136_o.jpg
END:VEVENT
BEGIN:VEVENT
DTSTART;TZID=America/New_York:20221009T130000
DTEND;TZID=America/New_York:20221009T160000
DTSTAMP:20260422T183858
CREATED:20221003T183058Z
LAST-MODIFIED:20221003T183058Z
UID:4642-1665320400-1665331200@brucesgarden.net
SUMMARY:Sunday Afternoon Potluck in Bruce’s Garden
DESCRIPTION:Join hostess Nadema Agard for a mouthwatering culinary adventure. You’ll never know who you’ll meet\, greet… or what you’ll eat! To attend please RSVP redearthstudio@aol.com by 8pm Saturday Eve\nBon Appitit!
URL:https://brucesgarden.net/event/sunday-afternoon-potluck-in-bruces-garden-65/
LOCATION:Bruce’s Garden\, 11 Park Ter. E.\, New York\, NY\, 10034\, United States
ATTACH;FMTTYPE=image/jpeg:https://brucesgarden.net/wp-content/uploads/2019/05/59157564_10157211739169133_4849514858871259136_o.jpg
END:VEVENT
BEGIN:VEVENT
DTSTART;TZID=America/New_York:20221015T100000
DTEND;TZID=America/New_York:20221015T120000
DTSTAMP:20260422T183858
CREATED:20221003T192447Z
LAST-MODIFIED:20221004T023236Z
UID:4654-1665828000-1665835200@brucesgarden.net
SUMMARY:Everyone's A Leaf in the City of the Forest
DESCRIPTION:Community Art Project \nJoin us in Bruce’s Garden Sat. 15 Oct 10am – noon. Participants can write their thoughts and dreams about the urban forest\, street trees and/or community gardens on paper leaves to hang on a line and be displayed. Accompanied children are welcome!\nAll materials supplied free of charge \nRain date: next year \n 
URL:https://brucesgarden.net/event/everyones-a-leaf-in-the-city-of-the-forest/
LOCATION:Bruce’s Garden\, 11 Park Ter. E.\, New York\, NY\, 10034\, United States
ATTACH;FMTTYPE=image/jpeg:https://brucesgarden.net/wp-content/uploads/2022/10/Leaves-of-the-City.jpg
END:VEVENT
BEGIN:VEVENT
DTSTART;TZID=America/New_York:20221016T140000
DTEND;TZID=America/New_York:20221016T153000
DTSTAMP:20260422T183858
CREATED:20221003T184534Z
LAST-MODIFIED:20221003T184719Z
UID:4646-1665928800-1665934200@brucesgarden.net
SUMMARY:DR. DECEIVERINI • The Tomasina Jason Case
DESCRIPTION:The best Radio Play in town returns! \nJoin Dr. Deceiverini and crew for a wild and woolly ride through the shaded\, arduous landscapes of… Who Done It!! \nThe next featured title: The Tomasina Jason Case \nRefreshments Served
URL:https://brucesgarden.net/event/dr-deceiverini-the-tomasina-jason-case-2/
LOCATION:Bruce’s Garden\, 11 Park Ter. E.\, New York\, NY\, 10034\, United States
ATTACH;FMTTYPE=image/jpeg:https://brucesgarden.net/wp-content/uploads/2022/10/Radio-Play-2022.jpg
END:VEVENT
BEGIN:VEVENT
DTSTART;TZID=America/New_York:20221023T130000
DTEND;TZID=America/New_York:20221023T160000
DTSTAMP:20260422T183858
CREATED:20221003T183252Z
LAST-MODIFIED:20221003T183252Z
UID:4644-1666530000-1666540800@brucesgarden.net
SUMMARY:Sunday Afternoon Potluck in Bruce’s Garden
DESCRIPTION:Join hostess Nadema Agard for a mouthwatering culinary adventure. You’ll never know who you’ll meet\, greet… or what you’ll eat! To attend please RSVP redearthstudio@aol.com by 8pm Saturday Eve\nBon Appitit!
URL:https://brucesgarden.net/event/sunday-afternoon-potluck-in-bruces-garden-66/
LOCATION:Bruce’s Garden\, 11 Park Ter. E.\, New York\, NY\, 10034\, United States
ATTACH;FMTTYPE=image/jpeg:https://brucesgarden.net/wp-content/uploads/2019/05/59157564_10157211739169133_4849514858871259136_o.jpg
END:VEVENT
BEGIN:VEVENT
DTSTART;VALUE=DATE:20221030
DTEND;VALUE=DATE:20221031
DTSTAMP:20260422T183858
CREATED:20221003T190439Z
LAST-MODIFIED:20221003T190439Z
UID:4649-1667088000-1667174399@brucesgarden.net
SUMMARY:GITG: Mother Earth Female Aspect ~ Horizontal Axis CLOSESS
DESCRIPTION:“Mother Earth Female Aspect ~ Horizontal Axis” featuring the works of Cazorla + Saleme\, Cheramie Mondesire\, Elissa Gore\, Guadalupe García\, Vásquez\, Julia Justo\, Kaé\, Sato\, Liz DeMayo\, Noëlle King\, & Shu Tu CLOSES!  \nOur next installation opens soon\n \nSee you then!
URL:https://brucesgarden.net/event/gitg-mother-earth-female-aspect-horizontal-axis-closess/
LOCATION:Bruce’s Garden\, 11 Park Ter. E.\, New York\, NY\, 10034\, United States
ATTACH;FMTTYPE=image/jpeg:https://brucesgarden.net/wp-content/uploads/2022/09/299938759_6080843398598519_4096342432891968408_n.jpg
END:VEVENT
BEGIN:VEVENT
DTSTART;TZID=America/New_York:20221030T140000
DTEND;TZID=America/New_York:20221030T170000
DTSTAMP:20260422T183858
CREATED:20221003T190940Z
LAST-MODIFIED:20221003T190940Z
UID:4651-1667138400-1667149200@brucesgarden.net
SUMMARY:Happy Halloween Party!!
DESCRIPTION:Join Cathy  for our annual scare… \nIf you dare!!
URL:https://brucesgarden.net/event/happy-halloween-party/
LOCATION:Bruce’s Garden\, 11 Park Ter. E.\, New York\, NY\, 10034\, United States
ATTACH;FMTTYPE=image/jpeg:https://brucesgarden.net/wp-content/uploads/2022/10/309016529_1164977174230385_6325677917353305602_n.jpg
END:VEVENT
END:VCALENDAR