BEGIN:VCALENDAR
VERSION:2.0
PRODID:-//Bruce's Garden - ECPv6.15.20//NONSGML v1.0//EN
CALSCALE:GREGORIAN
METHOD:PUBLISH
X-WR-CALNAME:Bruce's Garden
X-ORIGINAL-URL:https://brucesgarden.net
X-WR-CALDESC:Events for Bruce's Garden
REFRESH-INTERVAL;VALUE=DURATION:PT1H
X-Robots-Tag:noindex
X-PUBLISHED-TTL:PT1H
BEGIN:VTIMEZONE
TZID:America/New_York
BEGIN:DAYLIGHT
TZOFFSETFROM:-0500
TZOFFSETTO:-0400
TZNAME:EDT
DTSTART:20220313T070000
END:DAYLIGHT
BEGIN:STANDARD
TZOFFSETFROM:-0400
TZOFFSETTO:-0500
TZNAME:EST
DTSTART:20221106T060000
END:STANDARD
BEGIN:DAYLIGHT
TZOFFSETFROM:-0500
TZOFFSETTO:-0400
TZNAME:EDT
DTSTART:20230312T070000
END:DAYLIGHT
BEGIN:STANDARD
TZOFFSETFROM:-0400
TZOFFSETTO:-0500
TZNAME:EST
DTSTART:20231105T060000
END:STANDARD
BEGIN:DAYLIGHT
TZOFFSETFROM:-0500
TZOFFSETTO:-0400
TZNAME:EDT
DTSTART:20240310T070000
END:DAYLIGHT
BEGIN:STANDARD
TZOFFSETFROM:-0400
TZOFFSETTO:-0500
TZNAME:EST
DTSTART:20241103T060000
END:STANDARD
END:VTIMEZONE
BEGIN:VEVENT
DTSTART;VALUE=DATE:20230401
DTEND;VALUE=DATE:20230402
DTSTAMP:20260422T090429
CREATED:20230505T001005Z
LAST-MODIFIED:20230505T005647Z
UID:4682-1680307200-1680393599@brucesgarden.net
SUMMARY:Opening Day/ Ribbon Cutting! • April 1\, 2023
DESCRIPTION:WELCOME BACK!\n  \nGarden Opens 10am\nRibbon Cutting 2pm – This year gives us the great honor to celebrate Tom Bosco\, owner of Inwood Farm (600 W 218th St\, New York\, NY 10034). Join us! Here’s a great opportunity to learn more of the restaurant that helped keep our part of Inwood going throughout the pandemic. Light refreshments to follow\, compliments of Tom and senior manager Monica.\nThe opening is also the official announcement of the first\, annual Inwood Jazz Festival (IJF) which will take place August 19\, 2023 in Inwood Hill Park. It’s time has come!\nGallery in the Gazebo 3pm – Meet collage artist Julia Rubin in the opening installation “Elegant Fantasies” curated by the garden’s own Nadema Agard. The season begins beautifully…\nDana Gae Hanchard 4pm – Dana Gae & BALA will perform rounds & dances for planetary existence. Dana Gae will be joined by Ron McBee & Ama Akata’\nWe look forward to your return. It will be an exciting year!
URL:https://brucesgarden.net/event/opening-day-ribbon-cutting-april-1-2023/
LOCATION:Bruce’s Garden\, 11 Park Ter. E.\, New York\, NY\, 10034\, United States
ATTACH;FMTTYPE=image/jpeg:https://brucesgarden.net/wp-content/uploads/2023/05/IPRP-•-Opening-Flyer-April-1-2023.jpg
END:VEVENT
BEGIN:VEVENT
DTSTART;VALUE=DATE:20230401
DTEND;VALUE=DATE:20230502
DTSTAMP:20260422T090429
CREATED:20230505T010131Z
LAST-MODIFIED:20230505T010700Z
UID:4690-1680307200-1682985599@brucesgarden.net
SUMMARY:Gallery in the Gazebo presents: Elegant Fantasies/ Collages by Julia Rubin
DESCRIPTION:
URL:https://brucesgarden.net/event/gallery-in-the-gazebo-presents-elegant-fantasies-collages-by-julia-rubin/
LOCATION:Bruce’s Garden\, 11 Park Ter. E.\, New York\, NY\, 10034\, United States
ATTACH;FMTTYPE=image/jpeg:https://brucesgarden.net/wp-content/uploads/2023/05/IMG_7096.jpg
END:VEVENT
END:VCALENDAR