BEGIN:VCALENDAR
VERSION:2.0
PRODID:-//Bruce's Garden - ECPv6.15.20//NONSGML v1.0//EN
CALSCALE:GREGORIAN
METHOD:PUBLISH
X-WR-CALNAME:Bruce's Garden
X-ORIGINAL-URL:https://brucesgarden.net
X-WR-CALDESC:Events for Bruce's Garden
REFRESH-INTERVAL;VALUE=DURATION:PT1H
X-Robots-Tag:noindex
X-PUBLISHED-TTL:PT1H
BEGIN:VTIMEZONE
TZID:America/New_York
BEGIN:DAYLIGHT
TZOFFSETFROM:-0500
TZOFFSETTO:-0400
TZNAME:EDT
DTSTART:20230312T070000
END:DAYLIGHT
BEGIN:STANDARD
TZOFFSETFROM:-0400
TZOFFSETTO:-0500
TZNAME:EST
DTSTART:20231105T060000
END:STANDARD
BEGIN:DAYLIGHT
TZOFFSETFROM:-0500
TZOFFSETTO:-0400
TZNAME:EDT
DTSTART:20240310T070000
END:DAYLIGHT
BEGIN:STANDARD
TZOFFSETFROM:-0400
TZOFFSETTO:-0500
TZNAME:EST
DTSTART:20241103T060000
END:STANDARD
BEGIN:DAYLIGHT
TZOFFSETFROM:-0500
TZOFFSETTO:-0400
TZNAME:EDT
DTSTART:20250309T070000
END:DAYLIGHT
BEGIN:STANDARD
TZOFFSETFROM:-0400
TZOFFSETTO:-0500
TZNAME:EST
DTSTART:20251102T060000
END:STANDARD
END:VTIMEZONE
BEGIN:VEVENT
DTSTART;TZID=America/New_York:20240702T100000
DTEND;TZID=America/New_York:20240702T120000
DTSTAMP:20260421T085902
CREATED:20240630T173554Z
LAST-MODIFIED:20240630T173554Z
UID:5030-1719914400-1719921600@brucesgarden.net
SUMMARY:Math with Carole…
DESCRIPTION:Join Carole Mulligan for a fun-filled excursion of exceptional learning.
URL:https://brucesgarden.net/event/math-with-carole-26/
LOCATION:Bruce’s Garden\, 11 Park Ter. E.\, New York\, NY\, 10034\, United States
ATTACH;FMTTYPE=image/jpeg:https://brucesgarden.net/wp-content/uploads/2023/08/IMG_7416.jpg
END:VEVENT
BEGIN:VEVENT
DTSTART;TZID=America/New_York:20240707T130000
DTEND;TZID=America/New_York:20240707T160000
DTSTAMP:20260421T085902
CREATED:20240630T175439Z
LAST-MODIFIED:20240630T175439Z
UID:5046-1720357200-1720368000@brucesgarden.net
SUMMARY:Sunday Afternoon Potluck 1-4pm• RSVP
DESCRIPTION:Join hostess Nadema Agard for a mouthwatering culinary adventure. You’ll never know who you’ll meet\, greet… or what you’ll eat! To attend please RSVP redearthstudio@aol.com by 8pm Saturday Eve\nBon Appitit!
URL:https://brucesgarden.net/event/sunday-afternoon-potluck-1-4pm-rsvp-19/
LOCATION:Bruce’s Garden\, 11 Park Ter. E.\, New York\, NY\, 10034\, United States
ATTACH;FMTTYPE=image/jpeg:https://brucesgarden.net/wp-content/uploads/2019/05/59157564_10157211739169133_4849514858871259136_o.jpg
END:VEVENT
BEGIN:VEVENT
DTSTART;TZID=America/New_York:20240709T100000
DTEND;TZID=America/New_York:20240709T100000
DTSTAMP:20260421T085902
CREATED:20240630T173845Z
LAST-MODIFIED:20240630T173845Z
UID:5032-1720519200-1720519200@brucesgarden.net
SUMMARY:Math with Carole…
DESCRIPTION:Join Carole Mulligan for a fun-filled excursion of exceptional learning.
URL:https://brucesgarden.net/event/math-with-carole-27/
LOCATION:Bruce’s Garden\, 11 Park Ter. E.\, New York\, NY\, 10034\, United States
ATTACH;FMTTYPE=image/jpeg:https://brucesgarden.net/wp-content/uploads/2023/08/IMG_7414.jpg
END:VEVENT
BEGIN:VEVENT
DTSTART;TZID=America/New_York:20240711T100000
DTEND;TZID=America/New_York:20240711T120000
DTSTAMP:20260421T085902
CREATED:20240630T174549Z
LAST-MODIFIED:20240630T174549Z
UID:5040-1720692000-1720699200@brucesgarden.net
SUMMARY:Math with Carole…
DESCRIPTION:Join Carole Mulligan for a fun-filled excursion of exceptional learning.
URL:https://brucesgarden.net/event/math-with-carole-31/
LOCATION:Bruce’s Garden\, 11 Park Ter. E.\, New York\, NY\, 10034\, United States
ATTACH;FMTTYPE=image/jpeg:https://brucesgarden.net/wp-content/uploads/2023/08/IMG_7403.jpg
END:VEVENT
BEGIN:VEVENT
DTSTART;TZID=America/New_York:20240714T130000
DTEND;TZID=America/New_York:20240714T160000
DTSTAMP:20260421T085902
CREATED:20240630T175541Z
LAST-MODIFIED:20240630T175541Z
UID:5048-1720962000-1720972800@brucesgarden.net
SUMMARY:
DESCRIPTION:Join hostess Nadema Agard for a mouthwatering culinary adventure. You’ll never know who you’ll meet\, greet… or what you’ll eat! To attend please RSVP redearthstudio@aol.com by 8pm Saturday Eve\nBon Appitit!
URL:https://brucesgarden.net/event/5048/
LOCATION:Bruce’s Garden\, 11 Park Ter. E.\, New York\, NY\, 10034\, United States
ATTACH;FMTTYPE=image/jpeg:https://brucesgarden.net/wp-content/uploads/2019/05/59157564_10157211739169133_4849514858871259136_o.jpg
END:VEVENT
BEGIN:VEVENT
DTSTART;TZID=America/New_York:20240714T160000
DTEND;TZID=America/New_York:20240714T180000
DTSTAMP:20260421T085902
CREATED:20240630T180248Z
LAST-MODIFIED:20240630T182919Z
UID:5054-1720972800-1720980000@brucesgarden.net
SUMMARY:Dr. Deceiverini Radio Play
DESCRIPTION:The best Radio Play in town returns! \nJoin Dr. Deceiverini and crew for a wild and woolly ride through the shaded\, arduous landscapes of… Who Done It!! \nThe next featured title: The Nathaniel Beeker Case \nRefreshments Served
URL:https://brucesgarden.net/event/dr-deceiverini-radio-play-11/
LOCATION:Bruce’s Garden\, 11 Park Ter. E.\, New York\, NY\, 10034\, United States
ATTACH;FMTTYPE=image/jpeg:https://brucesgarden.net/wp-content/uploads/2018/03/07820-1502709831871.jpg
END:VEVENT
BEGIN:VEVENT
DTSTART;TZID=America/New_York:20240716T100000
DTEND;TZID=America/New_York:20240716T120000
DTSTAMP:20260421T085902
CREATED:20240630T174013Z
LAST-MODIFIED:20240630T174013Z
UID:5034-1721124000-1721131200@brucesgarden.net
SUMMARY:Math with Carole…
DESCRIPTION:Join Carole Mulligan for a fun-filled excursion of exceptional learning.
URL:https://brucesgarden.net/event/math-with-carole-28/
LOCATION:Bruce’s Garden\, 11 Park Ter. E.\, New York\, NY\, 10034\, United States
ATTACH;FMTTYPE=image/jpeg:https://brucesgarden.net/wp-content/uploads/2023/08/IMG_7417.jpg
END:VEVENT
BEGIN:VEVENT
DTSTART;TZID=America/New_York:20240717T180000
DTEND;TZID=America/New_York:20240717T200000
DTSTAMP:20260421T085902
CREATED:20240716T211942Z
LAST-MODIFIED:20240716T212311Z
UID:5074-1721239200-1721246400@brucesgarden.net
SUMMARY:Welcome Best-Selling author Margalit Fox
DESCRIPTION:It is a great pleasure to welcome best-selling author Margalit Fox to read from her new book “The Talented Mrs. Mandelbaum” on Wednesday\, July 17th.\nThe book is a true-crime tale of an immigrant’s rise in Gilded Age New York. How did a Jewish woman become a powerful crime boss?  Here is a short video to introduce the story:\nhttps://www.youtube.com/watch?v=6ynn5koWzaA\nMargalit Fox had a distinguished writing career in the famed New York Times’s Obituary Department. Her recently-published remembrance of Faith Ringgold (linked below) shows her eye for details that informed the larger narraives of a person’s life.\nhttps://www.nytimes.com/2024/04/13/arts/faith-ringgold-dead.html?unlocked_article_code=1.6E0.wubt.erV3HoZEFOep&smid=url-share\n\nHope to see you on Wednesday\, July 17\nRefreshments at 6:00\nReading will start at 6:30\n Books will be available.
URL:https://brucesgarden.net/event/welcome-best-selling-author-margalit-fox/
LOCATION:Bruce’s Garden\, 11 Park Ter. E.\, New York\, NY\, 10034\, United States
ATTACH;FMTTYPE=image/jpeg:https://brucesgarden.net/wp-content/uploads/2024/06/PastedGraphic-1.jpeg
END:VEVENT
BEGIN:VEVENT
DTSTART;TZID=America/New_York:20240718T100000
DTEND;TZID=America/New_York:20240718T120000
DTSTAMP:20260421T085902
CREATED:20240630T174701Z
LAST-MODIFIED:20240630T174701Z
UID:5042-1721296800-1721304000@brucesgarden.net
SUMMARY:Math with Carole…
DESCRIPTION:Join Carole Mulligan for a fun-filled excursion of exceptional learning.
URL:https://brucesgarden.net/event/math-with-carole-32/
LOCATION:Bruce’s Garden\, 11 Park Ter. E.\, New York\, NY\, 10034\, United States
ATTACH;FMTTYPE=image/jpeg:https://brucesgarden.net/wp-content/uploads/2023/08/IMG_7409.jpg
END:VEVENT
BEGIN:VEVENT
DTSTART;TZID=America/New_York:20240721T130000
DTEND;TZID=America/New_York:20240721T160000
DTSTAMP:20260421T085902
CREATED:20240630T175645Z
LAST-MODIFIED:20240630T175645Z
UID:5050-1721566800-1721577600@brucesgarden.net
SUMMARY:Sunday Afternoon Potluck 1-4pm• RSVP
DESCRIPTION:Join hostess Nadema Agard for a mouthwatering culinary adventure. You’ll never know who you’ll meet\, greet… or what you’ll eat! To attend please RSVP redearthstudio@aol.com by 8pm Saturday Eve\nBon Appitit!
URL:https://brucesgarden.net/event/sunday-afternoon-potluck-1-4pm-rsvp-20/
LOCATION:Bruce’s Garden\, 11 Park Ter. E.\, New York\, NY\, 10034\, United States
ATTACH;FMTTYPE=image/jpeg:https://brucesgarden.net/wp-content/uploads/2019/05/59157564_10157211739169133_4849514858871259136_o.jpg
END:VEVENT
BEGIN:VEVENT
DTSTART;TZID=America/New_York:20240723T100000
DTEND;TZID=America/New_York:20240723T120000
DTSTAMP:20260421T085902
CREATED:20240630T174150Z
LAST-MODIFIED:20240630T174150Z
UID:5036-1721728800-1721736000@brucesgarden.net
SUMMARY:Math with Carole…
DESCRIPTION:Join Carole Mulligan for a fun-filled excursion of exceptional learning.
URL:https://brucesgarden.net/event/math-with-carole-29/
LOCATION:NY
ATTACH;FMTTYPE=image/jpeg:https://brucesgarden.net/wp-content/uploads/2023/08/IMG_7403.jpg
END:VEVENT
BEGIN:VEVENT
DTSTART;TZID=America/New_York:20240725T080000
DTEND;TZID=America/New_York:20240725T170000
DTSTAMP:20260421T085902
CREATED:20240630T174803Z
LAST-MODIFIED:20240630T174803Z
UID:5044-1721894400-1721926800@brucesgarden.net
SUMMARY:Math with Carole…
DESCRIPTION:Join Carole Mulligan for a fun-filled excursion of exceptional learning.
URL:https://brucesgarden.net/event/math-with-carole-33/
LOCATION:NY
END:VEVENT
BEGIN:VEVENT
DTSTART;TZID=America/New_York:20240728T130000
DTEND;TZID=America/New_York:20240728T160000
DTSTAMP:20260421T085902
CREATED:20240630T175801Z
LAST-MODIFIED:20240630T175801Z
UID:5052-1722171600-1722182400@brucesgarden.net
SUMMARY:Sunday Afternoon Potluck 1-4pm• RSVP
DESCRIPTION:Join hostess Nadema Agard for a mouthwatering culinary adventure. You’ll never know who you’ll meet\, greet… or what you’ll eat! To attend please RSVP redearthstudio@aol.com by 8pm Saturday Eve\nBon Appitit!
URL:https://brucesgarden.net/event/sunday-afternoon-potluck-1-4pm-rsvp-21/
LOCATION:Bruce’s Garden\, 11 Park Ter. E.\, New York\, NY\, 10034\, United States
ATTACH;FMTTYPE=image/jpeg:https://brucesgarden.net/wp-content/uploads/2019/05/59157564_10157211739169133_4849514858871259136_o.jpg
END:VEVENT
BEGIN:VEVENT
DTSTART;TZID=America/New_York:20240730T100000
DTEND;TZID=America/New_York:20240730T120000
DTSTAMP:20260421T085902
CREATED:20240630T174305Z
LAST-MODIFIED:20240630T174305Z
UID:5038-1722333600-1722340800@brucesgarden.net
SUMMARY:Math with Carole…
DESCRIPTION:Join Carole Mulligan for a fun-filled excursion of exceptional learning.
URL:https://brucesgarden.net/event/math-with-carole-30/
LOCATION:Bruce’s Garden\, 11 Park Ter. E.\, New York\, NY\, 10034\, United States
ATTACH;FMTTYPE=image/jpeg:https://brucesgarden.net/wp-content/uploads/2023/08/IMG_7410.jpg
END:VEVENT
END:VCALENDAR